BEGIN:VCALENDAR
PRODID:-//nuDatenautomaten//framework iCal4j //DE
VERSION:2.0
CALSCALE:GREGORIAN
BEGIN:VTIMEZONE
TZID:Europe/Berlin
LAST-MODIFIED:20260306T231828Z
TZURL:https://www.tzurl.org/zoneinfo/Europe/Berlin
X-LIC-LOCATION:Europe/Berlin
X-PROLEPTIC-TZNAME:LMT
BEGIN:STANDARD
TZNAME:CET
TZOFFSETFROM:+005328
TZOFFSETTO:+0100
DTSTART:18930401T000000
END:STANDARD
BEGIN:DAYLIGHT
TZNAME:CEST
TZOFFSETFROM:+0100
TZOFFSETTO:+0200
DTSTART:19160430T230000
RDATE:19400401T020000
RDATE:19430329T020000
RDATE:19460414T020000
RDATE:19470406T030000
RDATE:19480418T020000
RDATE:19490410T020000
RDATE:19800406T020000
END:DAYLIGHT
BEGIN:STANDARD
TZNAME:CET
TZOFFSETFROM:+0200
TZOFFSETTO:+0100
DTSTART:19161001T010000
RDATE:19421102T030000
RDATE:19431004T030000
RDATE:19441002T030000
RDATE:19451118T030000
RDATE:19461007T030000
END:STANDARD
BEGIN:DAYLIGHT
TZNAME:CEST
TZOFFSETFROM:+0100
TZOFFSETTO:+0200
DTSTART:19170416T020000
RRULE:FREQ=YEARLY;UNTIL=19180415T010000Z;BYMONTH=4;BYDAY=3MO
END:DAYLIGHT
BEGIN:STANDARD
TZNAME:CET
TZOFFSETFROM:+0200
TZOFFSETTO:+0100
DTSTART:19170917T030000
RRULE:FREQ=YEARLY;UNTIL=19180916T010000Z;BYMONTH=9;BYDAY=3MO
END:STANDARD
BEGIN:DAYLIGHT
TZNAME:CEST
TZOFFSETFROM:+0100
TZOFFSETTO:+0200
DTSTART:19440403T020000
RRULE:FREQ=YEARLY;UNTIL=19450402T010000Z;BYMONTH=4;BYDAY=1MO
END:DAYLIGHT
BEGIN:DAYLIGHT
TZNAME:CEMT
TZOFFSETFROM:+0200
TZOFFSETTO:+0300
DTSTART:19450524T020000
RDATE:19470511T030000
END:DAYLIGHT
BEGIN:DAYLIGHT
TZNAME:CEST
TZOFFSETFROM:+0300
TZOFFSETTO:+0200
DTSTART:19450924T030000
RDATE:19470629T030000
END:DAYLIGHT
BEGIN:STANDARD
TZNAME:CET
TZOFFSETFROM:+0100
TZOFFSETTO:+0100
DTSTART:19460101T000000
RDATE:19800101T000000
END:STANDARD
BEGIN:STANDARD
TZNAME:CET
TZOFFSETFROM:+0200
TZOFFSETTO:+0100
DTSTART:19471005T030000
RRULE:FREQ=YEARLY;UNTIL=19491002T010000Z;BYMONTH=10;BYDAY=1SU
END:STANDARD
BEGIN:STANDARD
TZNAME:CET
TZOFFSETFROM:+0200
TZOFFSETTO:+0100
DTSTART:19800928T030000
RRULE:FREQ=YEARLY;UNTIL=19950924T010000Z;BYMONTH=9;BYDAY=-1SU
END:STANDARD
BEGIN:DAYLIGHT
TZNAME:CEST
TZOFFSETFROM:+0100
TZOFFSETTO:+0200
DTSTART:19810329T020000
RRULE:FREQ=YEARLY;BYMONTH=3;BYDAY=-1SU
END:DAYLIGHT
BEGIN:STANDARD
TZNAME:CET
TZOFFSETFROM:+0200
TZOFFSETTO:+0100
DTSTART:19961027T030000
RRULE:FREQ=YEARLY;BYMONTH=10;BYDAY=-1SU
END:STANDARD
END:VTIMEZONE
BEGIN:VEVENT
DTSTAMP:20260424T212557Z
DTSTART;TZID=Europe/Berlin:20260418T104000
DTEND;TZID=Europe/Berlin:20260418T111000
SUMMARY:Regionsliga gFJ C Görlitzer HC II vs TBSV Neugersdorf (14661)
UID:621b4458-f54d-4bf5-8494-27e8d5ab2474
STATUS:CONFIRMED
LAST-MODIFIED:20260407T161946Z
DESCRIPTION:Regionsliga  gFJ Staffel C\nBegegnungs-Nr: 14661\nHeim: Görlitzer HC II\nGast: TBSV Neugersdorf\nHalle: Sporthalle \"Pließnitztal\" Bernstadt (34108)\nAdresse: Am Pließnitztal 3\, 02748 Bernstadt a.d. Eigen OT Kunnersdorf\n
LOCATION:Sporthalle \"Pließnitztal\" Bernstadt (34108): Am Pließnitztal 3\, 02748 Bernstadt a.d. Eigen OT Kunnersdorf
CATEGORIES:Saison 2025/26
END:VEVENT
BEGIN:VEVENT
DTSTAMP:20260424T212557Z
DTSTART;TZID=Europe/Berlin:20260315T111500
DTEND;TZID=Europe/Berlin:20260315T114500
SUMMARY:Regionsliga gFJ C Görlitzer HC II vs OHC Bernstadt (14655)
UID:16e2ac58-fa2a-45e0-b606-5e651337adeb
STATUS:CONFIRMED
LAST-MODIFIED:20260325T154121Z
DESCRIPTION:Regionsliga  gFJ Staffel C\nBegegnungs-Nr: 14655\nHeim: Görlitzer HC II\nGast: OHC Bernstadt\nHalle: SH Zittau (34107)\nAdresse: Lisa - Tetzner - Str.\, 02763 Zittau\n
LOCATION:SH Zittau (34107): Lisa - Tetzner - Str.\, 02763 Zittau
CATEGORIES:Saison 2025/26
END:VEVENT
BEGIN:VEVENT
DTSTAMP:20260424T212557Z
DTSTART;TZID=Europe/Berlin:20260308T101500
DTEND;TZID=Europe/Berlin:20260308T104500
SUMMARY:Regionsliga gFJ C Görlitzer HC II vs OSV Zittau (14648)
UID:5dfa002a-569d-4793-8a50-226851c2eb9a
STATUS:CONFIRMED
LAST-MODIFIED:20260310T143152Z
DESCRIPTION:Regionsliga  gFJ Staffel C\nBegegnungs-Nr: 14648\nHeim: Görlitzer HC II\nGast: OSV Zittau\nHalle: SH Zittau (34107)\nAdresse: Lisa - Tetzner - Str.\, 02763 Zittau\n
LOCATION:SH Zittau (34107): Lisa - Tetzner - Str.\, 02763 Zittau
CATEGORIES:Saison 2025/26
END:VEVENT
BEGIN:VEVENT
DTSTAMP:20260424T212557Z
DTSTART;TZID=Europe/Berlin:20251213T114000
DTEND;TZID=Europe/Berlin:20251213T121000
SUMMARY:Regionsliga gFJ C Görlitzer HC II vs HV Eibau (14631)
UID:b2dcf935-4133-4f15-bf50-1025e77539e0
STATUS:CONFIRMED
LAST-MODIFIED:20251221T100805Z
DESCRIPTION:Regionsliga  gFJ Staffel C\nBegegnungs-Nr: 14631\nHeim: Görlitzer HC II\nGast: HV Eibau\nHalle: SH Am Kottmar Eibau (34105)\nAdresse: Jahnstr. 20 a\, 02739 Eibau\n
LOCATION:SH Am Kottmar Eibau (34105): Jahnstr. 20 a\, 02739 Eibau
CATEGORIES:Saison 2025/26
END:VEVENT
BEGIN:VEVENT
DTSTAMP:20260424T212557Z
DTSTART;TZID=Europe/Berlin:20251213T105000
DTEND;TZID=Europe/Berlin:20251213T112000
SUMMARY:Regionsliga gFJ C Görlitzer HC II vs Görlitzer HC (14630)
UID:9e4baf81-488e-4e79-827d-38bf070d6d7c
STATUS:CONFIRMED
LAST-MODIFIED:20251221T100720Z
DESCRIPTION:Regionsliga  gFJ Staffel C\nBegegnungs-Nr: 14630\nHeim: Görlitzer HC II\nGast: Görlitzer HC\nHalle: SH Am Kottmar Eibau (34105)\nAdresse: Jahnstr. 20 a\, 02739 Eibau\n
LOCATION:SH Am Kottmar Eibau (34105): Jahnstr. 20 a\, 02739 Eibau
CATEGORIES:Saison 2025/26
END:VEVENT
BEGIN:VEVENT
DTSTAMP:20260424T212557Z
DTSTART;TZID=Europe/Berlin:20251129T090000
DTEND;TZID=Europe/Berlin:20251129T093000
SUMMARY:Regionsliga gFJ C Görlitzer HC II vs Koweg Görlitz (14622)
UID:4caf7ea4-ac7c-4105-9058-7bdd36427cd3
STATUS:CONFIRMED
LAST-MODIFIED:20251221T095940Z
DESCRIPTION:Regionsliga  gFJ Staffel C\nBegegnungs-Nr: 14622\nHeim: Görlitzer HC II\nGast: Koweg Görlitz\nHalle: SH BSZ \"Christoph Lüders\" (34304)\nAdresse: Sattigstraße 10\, 02826 Görlitz\n
LOCATION:SH BSZ \"Christoph Lüders\" (34304): Sattigstraße 10\, 02826 Görlitz
CATEGORIES:Saison 2025/26
END:VEVENT
BEGIN:VEVENT
DTSTAMP:20260424T212557Z
DTSTART;TZID=Europe/Berlin:20251115T113000
DTEND;TZID=Europe/Berlin:20251115T120000
SUMMARY:Regionsliga gFJ C Görlitzer HC II vs OHC Bernstadt (14620)
UID:9d259c46-861b-47fb-9a6a-34ff2437a99a
STATUS:CONFIRMED
LAST-MODIFIED:20251117T154040Z
DESCRIPTION:Regionsliga  gFJ Staffel C\nBegegnungs-Nr: 14620\nHeim: Görlitzer HC II\nGast: OHC Bernstadt\nHalle: SH Rauschwalde (34301)\nAdresse: Diesterwegplatz 8\, 02827 Görlitz\n
LOCATION:SH Rauschwalde (34301): Diesterwegplatz 8\, 02827 Görlitz
CATEGORIES:Saison 2025/26
END:VEVENT
BEGIN:VEVENT
DTSTAMP:20260424T212557Z
DTSTART;TZID=Europe/Berlin:20250928T103000
DTEND;TZID=Europe/Berlin:20250928T110000
SUMMARY:Regionsliga gFJ C Görlitzer HC II vs OSV Zittau (14606)
UID:bb4917e2-bb09-4f3f-8e53-ab909ceed2d6
STATUS:CONFIRMED
LAST-MODIFIED:20251002T135549Z
DESCRIPTION:Regionsliga  gFJ Staffel C\nBegegnungs-Nr: 14606\nHeim: Görlitzer HC II\nGast: OSV Zittau\nHalle: SH BSZ \"Christoph Lüders\" (34304)\nAdresse: Sattigstraße 10\, 02826 Görlitz\n
LOCATION:SH BSZ \"Christoph Lüders\" (34304): Sattigstraße 10\, 02826 Görlitz
CATEGORIES:Saison 2025/26
END:VEVENT
BEGIN:VEVENT
DTSTAMP:20260424T212557Z
DTSTART;TZID=Europe/Berlin:20260418T121000
DTEND;TZID=Europe/Berlin:20260418T124000
SUMMARY:Regionsliga gFJ C OHC Bernstadt vs Görlitzer HC II (14663)
UID:95eb009d-267f-4754-be80-8c80ecf8db55
STATUS:CONFIRMED
LAST-MODIFIED:20260407T162149Z
DESCRIPTION:Regionsliga  gFJ Staffel C\nBegegnungs-Nr: 14663\nHeim: OHC Bernstadt\nGast: Görlitzer HC II\nHalle: Sporthalle \"Pließnitztal\" Bernstadt (34108)\nAdresse: Am Pließnitztal 3\, 02748 Bernstadt a.d. Eigen OT Kunnersdorf\n
LOCATION:Sporthalle \"Pließnitztal\" Bernstadt (34108): Am Pließnitztal 3\, 02748 Bernstadt a.d. Eigen OT Kunnersdorf
CATEGORIES:Saison 2025/26
END:VEVENT
BEGIN:VEVENT
DTSTAMP:20260424T212557Z
DTSTART;TZID=Europe/Berlin:20260315T101500
DTEND;TZID=Europe/Berlin:20260315T104500
SUMMARY:Regionsliga gFJ C TBSV Neugersdorf vs Görlitzer HC II (14654)
UID:9463775b-90ce-40bd-9515-f747f9bfbd26
STATUS:CONFIRMED
LAST-MODIFIED:20260325T154023Z
DESCRIPTION:Regionsliga  gFJ Staffel C\nBegegnungs-Nr: 14654\nHeim: TBSV Neugersdorf\nGast: Görlitzer HC II\nHalle: SH Zittau (34107)\nAdresse: Lisa - Tetzner - Str.\, 02763 Zittau\n
LOCATION:SH Zittau (34107): Lisa - Tetzner - Str.\, 02763 Zittau
CATEGORIES:Saison 2025/26
END:VEVENT
BEGIN:VEVENT
DTSTAMP:20260424T212557Z
DTSTART;TZID=Europe/Berlin:20260308T093000
DTEND;TZID=Europe/Berlin:20260308T100000
SUMMARY:Regionsliga gFJ C Koweg Görlitz vs Görlitzer HC II (14647)
UID:0c64bc3a-eac8-4733-bfdf-a2ca13373075
STATUS:CONFIRMED
LAST-MODIFIED:20260310T143053Z
DESCRIPTION:Regionsliga  gFJ Staffel C\nBegegnungs-Nr: 14647\nHeim: Koweg Görlitz\nGast: Görlitzer HC II\nHalle: SH Zittau (34107)\nAdresse: Lisa - Tetzner - Str.\, 02763 Zittau\n
LOCATION:SH Zittau (34107): Lisa - Tetzner - Str.\, 02763 Zittau
CATEGORIES:Saison 2025/26
END:VEVENT
BEGIN:VEVENT
DTSTAMP:20260424T212557Z
DTSTART;TZID=Europe/Berlin:20260117T111000
DTEND;TZID=Europe/Berlin:20260117T114000
SUMMARY:Regionsliga gFJ C Görlitzer HC vs Görlitzer HC II (14639)
UID:1e484ee1-47fd-48f7-ba6b-39e6054b32cf
STATUS:CONFIRMED
LAST-MODIFIED:20260128T100312Z
DESCRIPTION:Regionsliga  gFJ Staffel C\nBegegnungs-Nr: 14639\nHeim: Görlitzer HC\nGast: Görlitzer HC II\nHalle: SH BSZ \"Christoph Lüders\" (34304)\nAdresse: Sattigstraße 10\, 02826 Görlitz\n
LOCATION:SH BSZ \"Christoph Lüders\" (34304): Sattigstraße 10\, 02826 Görlitz
CATEGORIES:Saison 2025/26
END:VEVENT
BEGIN:VEVENT
DTSTAMP:20260424T212557Z
DTSTART;TZID=Europe/Berlin:20260117T094000
DTEND;TZID=Europe/Berlin:20260117T101000
SUMMARY:Regionsliga gFJ C HV Eibau vs Görlitzer HC II (14637)
UID:24de2839-6b23-4e5c-8fcd-356401d46634
STATUS:CONFIRMED
LAST-MODIFIED:20260128T100139Z
DESCRIPTION:Regionsliga  gFJ Staffel C\nBegegnungs-Nr: 14637\nHeim: HV Eibau\nGast: Görlitzer HC II\nHalle: SH BSZ \"Christoph Lüders\" (34304)\nAdresse: Sattigstraße 10\, 02826 Görlitz\n
LOCATION:SH BSZ \"Christoph Lüders\" (34304): Sattigstraße 10\, 02826 Görlitz
CATEGORIES:Saison 2025/26
END:VEVENT
BEGIN:VEVENT
DTSTAMP:20260424T212557Z
DTSTART;TZID=Europe/Berlin:20251129T094000
DTEND;TZID=Europe/Berlin:20251129T101000
SUMMARY:Regionsliga gFJ C Görlitzer HC vs Görlitzer HC II (14623)
UID:0f8b65f7-2c27-4897-b455-69b2a238ad70
STATUS:CONFIRMED
LAST-MODIFIED:20251221T100024Z
DESCRIPTION:Regionsliga  gFJ Staffel C\nBegegnungs-Nr: 14623\nHeim: Görlitzer HC\nGast: Görlitzer HC II\nHalle: SH BSZ \"Christoph Lüders\" (34304)\nAdresse: Sattigstraße 10\, 02826 Görlitz\n
LOCATION:SH BSZ \"Christoph Lüders\" (34304): Sattigstraße 10\, 02826 Görlitz
CATEGORIES:Saison 2025/26
END:VEVENT
BEGIN:VEVENT
DTSTAMP:20260424T212557Z
DTSTART;TZID=Europe/Berlin:20251115T100000
DTEND;TZID=Europe/Berlin:20251115T103000
SUMMARY:Regionsliga gFJ C Koweg Görlitz vs Görlitzer HC II (14618)
UID:66b4b858-c1c8-4aab-8904-d5c86e9a00fa
STATUS:CONFIRMED
LAST-MODIFIED:20251117T153655Z
DESCRIPTION:Regionsliga  gFJ Staffel C\nBegegnungs-Nr: 14618\nHeim: Koweg Görlitz\nGast: Görlitzer HC II\nHalle: SH Rauschwalde (34301)\nAdresse: Diesterwegplatz 8\, 02827 Görlitz\n
LOCATION:SH Rauschwalde (34301): Diesterwegplatz 8\, 02827 Görlitz
CATEGORIES:Saison 2025/26
END:VEVENT
BEGIN:VEVENT
DTSTAMP:20260424T212557Z
DTSTART;TZID=Europe/Berlin:20251101T111000
DTEND;TZID=Europe/Berlin:20251101T114000
SUMMARY:Regionsliga gFJ C TBSV Neugersdorf vs Görlitzer HC II (14611)
UID:60c88ae5-0750-4f0e-8b64-355ebab65f04
STATUS:CONFIRMED
LAST-MODIFIED:20251102T152714Z
DESCRIPTION:Regionsliga  gFJ Staffel C\nBegegnungs-Nr: 14611\nHeim: TBSV Neugersdorf\nGast: Görlitzer HC II\nHalle: SH BSZ \"Christoph Lüders\" (34304)\nAdresse: Sattigstraße 10\, 02826 Görlitz\n
LOCATION:SH BSZ \"Christoph Lüders\" (34304): Sattigstraße 10\, 02826 Görlitz
CATEGORIES:Saison 2025/26
END:VEVENT
BEGIN:VEVENT
DTSTAMP:20260424T212557Z
DTSTART;TZID=Europe/Berlin:20251101T090000
DTEND;TZID=Europe/Berlin:20251101T093000
SUMMARY:Regionsliga gFJ C OSV Zittau vs Görlitzer HC II (14608)
UID:3f3202c0-6e03-4db1-9baf-58df64f339b5
STATUS:CONFIRMED
LAST-MODIFIED:20251102T152305Z
DESCRIPTION:Regionsliga  gFJ Staffel C\nBegegnungs-Nr: 14608\nHeim: OSV Zittau\nGast: Görlitzer HC II\nHalle: SH BSZ \"Christoph Lüders\" (34304)\nAdresse: Sattigstraße 10\, 02826 Görlitz\n
LOCATION:SH BSZ \"Christoph Lüders\" (34304): Sattigstraße 10\, 02826 Görlitz
CATEGORIES:Saison 2025/26
END:VEVENT
BEGIN:VEVENT
DTSTAMP:20260424T212557Z
DTSTART;TZID=Europe/Berlin:20250928T094000
DTEND;TZID=Europe/Berlin:20250928T101000
SUMMARY:Regionsliga gFJ C HV Eibau vs Görlitzer HC II (14605)
UID:3d9250ad-7d35-41aa-9970-08a3cf9e4f49
STATUS:CONFIRMED
LAST-MODIFIED:20251002T135426Z
DESCRIPTION:Regionsliga  gFJ Staffel C\nBegegnungs-Nr: 14605\nHeim: HV Eibau\nGast: Görlitzer HC II\nHalle: SH BSZ \"Christoph Lüders\" (34304)\nAdresse: Sattigstraße 10\, 02826 Görlitz\n
LOCATION:SH BSZ \"Christoph Lüders\" (34304): Sattigstraße 10\, 02826 Görlitz
CATEGORIES:Saison 2025/26
END:VEVENT
END:VCALENDAR
