BEGIN:VCALENDAR
PRODID:-//nuDatenautomaten//framework iCal4j //DE
VERSION:2.0
CALSCALE:GREGORIAN
BEGIN:VTIMEZONE
TZID:Europe/Berlin
LAST-MODIFIED:20260306T231828Z
TZURL:https://www.tzurl.org/zoneinfo/Europe/Berlin
X-LIC-LOCATION:Europe/Berlin
X-PROLEPTIC-TZNAME:LMT
BEGIN:STANDARD
TZNAME:CET
TZOFFSETFROM:+005328
TZOFFSETTO:+0100
DTSTART:18930401T000000
END:STANDARD
BEGIN:DAYLIGHT
TZNAME:CEST
TZOFFSETFROM:+0100
TZOFFSETTO:+0200
DTSTART:19160430T230000
RDATE:19400401T020000
RDATE:19430329T020000
RDATE:19460414T020000
RDATE:19470406T030000
RDATE:19480418T020000
RDATE:19490410T020000
RDATE:19800406T020000
END:DAYLIGHT
BEGIN:STANDARD
TZNAME:CET
TZOFFSETFROM:+0200
TZOFFSETTO:+0100
DTSTART:19161001T010000
RDATE:19421102T030000
RDATE:19431004T030000
RDATE:19441002T030000
RDATE:19451118T030000
RDATE:19461007T030000
END:STANDARD
BEGIN:DAYLIGHT
TZNAME:CEST
TZOFFSETFROM:+0100
TZOFFSETTO:+0200
DTSTART:19170416T020000
RRULE:FREQ=YEARLY;UNTIL=19180415T010000Z;BYMONTH=4;BYDAY=3MO
END:DAYLIGHT
BEGIN:STANDARD
TZNAME:CET
TZOFFSETFROM:+0200
TZOFFSETTO:+0100
DTSTART:19170917T030000
RRULE:FREQ=YEARLY;UNTIL=19180916T010000Z;BYMONTH=9;BYDAY=3MO
END:STANDARD
BEGIN:DAYLIGHT
TZNAME:CEST
TZOFFSETFROM:+0100
TZOFFSETTO:+0200
DTSTART:19440403T020000
RRULE:FREQ=YEARLY;UNTIL=19450402T010000Z;BYMONTH=4;BYDAY=1MO
END:DAYLIGHT
BEGIN:DAYLIGHT
TZNAME:CEMT
TZOFFSETFROM:+0200
TZOFFSETTO:+0300
DTSTART:19450524T020000
RDATE:19470511T030000
END:DAYLIGHT
BEGIN:DAYLIGHT
TZNAME:CEST
TZOFFSETFROM:+0300
TZOFFSETTO:+0200
DTSTART:19450924T030000
RDATE:19470629T030000
END:DAYLIGHT
BEGIN:STANDARD
TZNAME:CET
TZOFFSETFROM:+0100
TZOFFSETTO:+0100
DTSTART:19460101T000000
RDATE:19800101T000000
END:STANDARD
BEGIN:STANDARD
TZNAME:CET
TZOFFSETFROM:+0200
TZOFFSETTO:+0100
DTSTART:19471005T030000
RRULE:FREQ=YEARLY;UNTIL=19491002T010000Z;BYMONTH=10;BYDAY=1SU
END:STANDARD
BEGIN:STANDARD
TZNAME:CET
TZOFFSETFROM:+0200
TZOFFSETTO:+0100
DTSTART:19800928T030000
RRULE:FREQ=YEARLY;UNTIL=19950924T010000Z;BYMONTH=9;BYDAY=-1SU
END:STANDARD
BEGIN:DAYLIGHT
TZNAME:CEST
TZOFFSETFROM:+0100
TZOFFSETTO:+0200
DTSTART:19810329T020000
RRULE:FREQ=YEARLY;BYMONTH=3;BYDAY=-1SU
END:DAYLIGHT
BEGIN:STANDARD
TZNAME:CET
TZOFFSETFROM:+0200
TZOFFSETTO:+0100
DTSTART:19961027T030000
RRULE:FREQ=YEARLY;BYMONTH=10;BYDAY=-1SU
END:STANDARD
END:VTIMEZONE
BEGIN:VEVENT
DTSTAMP:20260424T144703Z
DTSTART;TZID=Europe/Berlin:20251213T130000
DTEND;TZID=Europe/Berlin:20251213T140000
SUMMARY:Regionalliga Sachsen mCJ NSG EHV/NH/Buteo II vs HC Elbflorenz 2006 II (20051)
UID:62af56ca-d602-42a1-8537-34907c1ea802
STATUS:CONFIRMED
LAST-MODIFIED:20251213T151233Z
DESCRIPTION:Regionalliga Sachsen männliche C-Jugend\nBegegnungs-Nr: 20051\nHeim: NSG EHV/NH/Buteo II\nGast: HC Elbflorenz 2006 II\nHalle: Erzgebirgshalle Lößnitz (32303)\nAdresse: Ringstraße 15\, 08294 Lößnitz\n
LOCATION:Erzgebirgshalle Lößnitz (32303): Ringstraße 15\, 08294 Lößnitz
CATEGORIES:Saison 2025/26
END:VEVENT
BEGIN:VEVENT
DTSTAMP:20260424T144703Z
DTSTART;TZID=Europe/Berlin:20251129T110000
DTEND;TZID=Europe/Berlin:20251129T120000
SUMMARY:Regionalliga Sachsen mCJ NSG EHV/NH/Buteo II vs Radeberger SV (20045)
UID:8dd864d1-5b3c-493b-a405-d11cf9214517
STATUS:CONFIRMED
LAST-MODIFIED:20251130T090151Z
DESCRIPTION:Regionalliga Sachsen männliche C-Jugend\nBegegnungs-Nr: 20045\nHeim: NSG EHV/NH/Buteo II\nGast: Radeberger SV\nHalle: Sachsenhalle Chemnitz (32101)\nAdresse: Straße Usti nad Labem 275\, 09119 Chemnitz\n
LOCATION:Sachsenhalle Chemnitz (32101): Straße Usti nad Labem 275\, 09119 Chemnitz
CATEGORIES:Saison 2025/26
END:VEVENT
BEGIN:VEVENT
DTSTAMP:20260424T144703Z
DTSTART;TZID=Europe/Berlin:20251123T133000
DTEND;TZID=Europe/Berlin:20251123T143000
SUMMARY:Regionalliga Sachsen mCJ NSG EHV/NH/Buteo II vs LHV Hoyerswerda (20040)
UID:6f4676f0-4285-470e-90ac-ffd399454dcc
STATUS:CONFIRMED
LAST-MODIFIED:20251123T145047Z
DESCRIPTION:Regionalliga Sachsen männliche C-Jugend\nBegegnungs-Nr: 20040\nHeim: NSG EHV/NH/Buteo II\nGast: LHV Hoyerswerda\nHalle: Erzgebirgshalle Lößnitz (32303)\nAdresse: Ringstraße 15\, 08294 Lößnitz\n
LOCATION:Erzgebirgshalle Lößnitz (32303): Ringstraße 15\, 08294 Lößnitz
CATEGORIES:Saison 2025/26
END:VEVENT
BEGIN:VEVENT
DTSTAMP:20260424T144703Z
DTSTART;TZID=Europe/Berlin:20251101T140000
DTEND;TZID=Europe/Berlin:20251101T150000
SUMMARY:Regionalliga Sachsen mCJ NSG EHV/NH/Buteo II vs SC DHfK Leipzig (20027)
UID:33fa4888-55a8-4341-b48f-c8739af0d78c
STATUS:CONFIRMED
LAST-MODIFIED:20251101T150604Z
DESCRIPTION:Regionalliga Sachsen männliche C-Jugend\nBegegnungs-Nr: 20027\nHeim: NSG EHV/NH/Buteo II\nGast: SC DHfK Leipzig\nHalle: Erzgebirgshalle Lößnitz (32303)\nAdresse: Ringstraße 15\, 08294 Lößnitz\n
LOCATION:Erzgebirgshalle Lößnitz (32303): Ringstraße 15\, 08294 Lößnitz
CATEGORIES:Saison 2025/26
END:VEVENT
BEGIN:VEVENT
DTSTAMP:20260424T144703Z
DTSTART;TZID=Europe/Berlin:20251116T110000
DTEND;TZID=Europe/Berlin:20251116T120000
SUMMARY:Regionalliga Sachsen mCJ NSG EHV/NH/Buteo II vs NSG SV04/HCE (20011)
UID:a96faea8-5c9c-4ca3-bb56-50955768f829
STATUS:CONFIRMED
LAST-MODIFIED:20251117T143904Z
DESCRIPTION:Regionalliga Sachsen männliche C-Jugend\nBegegnungs-Nr: 20011\nHeim: NSG EHV/NH/Buteo II\nGast: NSG SV04/HCE\nHalle: Sachsenhalle Chemnitz (32101)\nAdresse: Straße Usti nad Labem 275\, 09119 Chemnitz\n
LOCATION:Sachsenhalle Chemnitz (32101): Straße Usti nad Labem 275\, 09119 Chemnitz
CATEGORIES:Saison 2025/26
END:VEVENT
BEGIN:VEVENT
DTSTAMP:20260424T144703Z
DTSTART;TZID=Europe/Berlin:20250831T141500
DTEND;TZID=Europe/Berlin:20250831T151500
SUMMARY:Regionalliga Sachsen mCJ NSG EHV/NH/Buteo II vs SG MoGoNo Leipzig (20001)
UID:2f8331f8-b948-4f29-af0e-566a25a26fa1
STATUS:CONFIRMED
LAST-MODIFIED:20250901T131843Z
DESCRIPTION:Regionalliga Sachsen männliche C-Jugend\nBegegnungs-Nr: 20001\nHeim: NSG EHV/NH/Buteo II\nGast: SG MoGoNo Leipzig\nHalle: Erzgebirgshalle Lößnitz (32303)\nAdresse: Ringstraße 15\, 08294 Lößnitz\n
LOCATION:Erzgebirgshalle Lößnitz (32303): Ringstraße 15\, 08294 Lößnitz
CATEGORIES:Saison 2025/26
END:VEVENT
BEGIN:VEVENT
DTSTAMP:20260424T144703Z
DTSTART;TZID=Europe/Berlin:20260321T104500
DTEND;TZID=Europe/Berlin:20260321T114500
SUMMARY:Regionalliga Sachsen mCJ NSG EHV/NH/Buteo II vs Koweg Görlitz (20087)
UID:3d59df21-84ef-4b86-b480-c8f90ecee959
STATUS:CONFIRMED
LAST-MODIFIED:20260321T154930Z
DESCRIPTION:Regionalliga Sachsen männliche C-Jugend\nBegegnungs-Nr: 20087\nHeim: NSG EHV/NH/Buteo II\nGast: Koweg Görlitz\nHalle: Sachsenhalle Chemnitz (32101)\nAdresse: Straße Usti nad Labem 275\, 09119 Chemnitz\n
LOCATION:Sachsenhalle Chemnitz (32101): Straße Usti nad Labem 275\, 09119 Chemnitz
CATEGORIES:Saison 2025/26
END:VEVENT
BEGIN:VEVENT
DTSTAMP:20260424T144703Z
DTSTART;TZID=Europe/Berlin:20260131T104500
DTEND;TZID=Europe/Berlin:20260131T114500
SUMMARY:Regionalliga Sachsen mCJ NSG EHV/NH/Buteo II vs SG LVB (20074)
UID:9213bd10-7ec3-4dbf-8ff8-1796c23c9b04
STATUS:CONFIRMED
LAST-MODIFIED:20260201T081930Z
DESCRIPTION:Regionalliga Sachsen männliche C-Jugend\nBegegnungs-Nr: 20074\nHeim: NSG EHV/NH/Buteo II\nGast: SG LVB\nHalle: Sachsenhalle Chemnitz (32101)\nAdresse: Straße Usti nad Labem 275\, 09119 Chemnitz\n
LOCATION:Sachsenhalle Chemnitz (32101): Straße Usti nad Labem 275\, 09119 Chemnitz
CATEGORIES:Saison 2025/26
END:VEVENT
BEGIN:VEVENT
DTSTAMP:20260424T144703Z
DTSTART;TZID=Europe/Berlin:20260117T101500
DTEND;TZID=Europe/Berlin:20260117T111500
SUMMARY:Regionalliga Sachsen mCJ NSG EHV/NH/Buteo II vs HSV Dresden (20064)
UID:66fff563-2b67-49a5-914d-a37abdd765e8
STATUS:CONFIRMED
LAST-MODIFIED:20260118T073035Z
DESCRIPTION:Regionalliga Sachsen männliche C-Jugend\nBegegnungs-Nr: 20064\nHeim: NSG EHV/NH/Buteo II\nGast: HSV Dresden\nHalle: Sachsenhalle Chemnitz (32101)\nAdresse: Straße Usti nad Labem 275\, 09119 Chemnitz\n
LOCATION:Sachsenhalle Chemnitz (32101): Straße Usti nad Labem 275\, 09119 Chemnitz
CATEGORIES:Saison 2025/26
END:VEVENT
BEGIN:VEVENT
DTSTAMP:20260424T144703Z
DTSTART;TZID=Europe/Berlin:20260328T120000
DTEND;TZID=Europe/Berlin:20260328T130000
SUMMARY:Regionalliga Sachsen mCJ LHV Hoyerswerda vs NSG EHV/NH/Buteo II (20082)
UID:2bfc7cc3-e0e9-4555-86df-1111caa7e57d
STATUS:CONFIRMED
DESCRIPTION:Regionalliga Sachsen männliche C-Jugend\nBegegnungs-Nr: 20082\nHeim: LHV Hoyerswerda\nGast: NSG EHV/NH/Buteo II\nHalle: SH BSZ \"Konrad Zuse\" Hoyerswerda (34201)\nAdresse: Käthe-Kollwitz-Str. 5\, 02977 Hoyerswerda\n
LOCATION:SH BSZ \"Konrad Zuse\" Hoyerswerda (34201): Käthe-Kollwitz-Str. 5\, 02977 Hoyerswerda
CATEGORIES:Saison 2025/26
END:VEVENT
BEGIN:VEVENT
DTSTAMP:20260424T144703Z
DTSTART;TZID=Europe/Berlin:20260110T110000
DTEND;TZID=Europe/Berlin:20260110T120000
SUMMARY:Regionalliga Sachsen mCJ SG MoGoNo Leipzig vs NSG EHV/NH/Buteo II (20059)
UID:c6b49256-d038-4383-9182-82d035263cda
STATUS:CONFIRMED
LAST-MODIFIED:20260111T084830Z
DESCRIPTION:Regionalliga Sachsen männliche C-Jugend\nBegegnungs-Nr: 20059\nHeim: SG MoGoNo Leipzig\nGast: NSG EHV/NH/Buteo II\nHalle: SH Kästner-Grundschule Leipzig (31131)\nAdresse: Erfurter Str\, 04155 Leipzig\n
LOCATION:SH Kästner-Grundschule Leipzig (31131): Erfurter Str\, 04155 Leipzig
CATEGORIES:Saison 2025/26
END:VEVENT
BEGIN:VEVENT
DTSTAMP:20260424T144703Z
DTSTART;TZID=Europe/Berlin:20251206T141500
DTEND;TZID=Europe/Berlin:20251206T151500
SUMMARY:Regionalliga Sachsen mCJ Radeberger SV vs NSG EHV/NH/Buteo II (20050)
UID:5e11b506-8293-4072-bc21-db823ad287c9
STATUS:CONFIRMED
LAST-MODIFIED:20251207T091453Z
DESCRIPTION:Regionalliga Sachsen männliche C-Jugend\nBegegnungs-Nr: 20050\nHeim: Radeberger SV\nGast: NSG EHV/NH/Buteo II\nHalle: 3-Feld-Halle-BSZ Radeberg (34209)\nAdresse: Robert-Blum-Weg 5\, 01454 Radeberg\n
LOCATION:3-Feld-Halle-BSZ Radeberg (34209): Robert-Blum-Weg 5\, 01454 Radeberg
CATEGORIES:Saison 2025/26
END:VEVENT
BEGIN:VEVENT
DTSTAMP:20260424T144703Z
DTSTART;TZID=Europe/Berlin:20251108T120000
DTEND;TZID=Europe/Berlin:20251108T130000
SUMMARY:Regionalliga Sachsen mCJ Koweg Görlitz vs NSG EHV/NH/Buteo II (20033)
UID:850df224-08f2-4fe6-9d54-9387062832ec
STATUS:CONFIRMED
LAST-MODIFIED:20251109T080634Z
DESCRIPTION:Regionalliga Sachsen männliche C-Jugend\nBegegnungs-Nr: 20033\nHeim: Koweg Görlitz\nGast: NSG EHV/NH/Buteo II\nHalle: SH Rauschwalde (34301)\nAdresse: Diesterwegplatz 8\, 02827 Görlitz\n
LOCATION:SH Rauschwalde (34301): Diesterwegplatz 8\, 02827 Görlitz
CATEGORIES:Saison 2025/26
END:VEVENT
BEGIN:VEVENT
DTSTAMP:20260424T144703Z
DTSTART;TZID=Europe/Berlin:20251025T120000
DTEND;TZID=Europe/Berlin:20251025T130000
SUMMARY:Regionalliga Sachsen mCJ HC Elbflorenz 2006 II vs NSG EHV/NH/Buteo II (20025)
UID:8ad2fd22-dd50-4797-b7d4-90bd48768e3f
STATUS:CONFIRMED
LAST-MODIFIED:20251026T070913Z
DESCRIPTION:Regionalliga Sachsen männliche C-Jugend\nBegegnungs-Nr: 20025\nHeim: HC Elbflorenz 2006 II\nGast: NSG EHV/NH/Buteo II\nHalle: JOYNEXT Arena Dresden (Spielfeld 3) (33112c)\nAdresse: Magdeburger Straße 10\, 01067 Dresden\n
LOCATION:JOYNEXT Arena Dresden (Spielfeld 3) (33112c): Magdeburger Straße 10\, 01067 Dresden
CATEGORIES:Saison 2025/26
END:VEVENT
BEGIN:VEVENT
DTSTAMP:20260424T144703Z
DTSTART;TZID=Europe/Berlin:20250920T112000
DTEND;TZID=Europe/Berlin:20250920T122000
SUMMARY:Regionalliga Sachsen mCJ SG LVB vs NSG EHV/NH/Buteo II (20017)
UID:5f8689f4-b456-462c-8a0b-01e44ddcda0c
STATUS:CONFIRMED
LAST-MODIFIED:20250921T065559Z
DESCRIPTION:Regionalliga Sachsen männliche C-Jugend\nBegegnungs-Nr: 20017\nHeim: SG LVB\nGast: NSG EHV/NH/Buteo II\nHalle: SH Gymnasium an der Telemannstraße  (31109)\nAdresse: Telemannstraße 9\, 04107 Leipzig\n
LOCATION:SH Gymnasium an der Telemannstraße  (31109): Telemannstraße 9\, 04107 Leipzig
CATEGORIES:Saison 2025/26
END:VEVENT
BEGIN:VEVENT
DTSTAMP:20260424T144703Z
DTSTART;TZID=Europe/Berlin:20250906T120000
DTEND;TZID=Europe/Berlin:20250906T130000
SUMMARY:Regionalliga Sachsen mCJ HSV Dresden vs NSG EHV/NH/Buteo II (20007)
UID:0bca0ef4-26ae-4fb2-8427-57058d6d4658
STATUS:CONFIRMED
LAST-MODIFIED:20250907T065954Z
DESCRIPTION:Regionalliga Sachsen männliche C-Jugend\nBegegnungs-Nr: 20007\nHeim: HSV Dresden\nGast: NSG EHV/NH/Buteo II\nHalle: SH 121. Oberschule Dresden (33102)\nAdresse: Gamigstraße 28/30\, 01239 Dresden\n
LOCATION:SH 121. Oberschule Dresden (33102): Gamigstraße 28/30\, 01239 Dresden
CATEGORIES:Saison 2025/26
END:VEVENT
BEGIN:VEVENT
DTSTAMP:20260424T144703Z
DTSTART;TZID=Europe/Berlin:20260308T140000
DTEND;TZID=Europe/Berlin:20260308T150000
SUMMARY:Regionalliga Sachsen mCJ SC DHfK Leipzig vs NSG EHV/NH/Buteo II (20079)
UID:c3a9fa33-3ccd-418a-be0e-e3d65851e4a3
STATUS:CONFIRMED
LAST-MODIFIED:20260309T074438Z
DESCRIPTION:Regionalliga Sachsen männliche C-Jugend\nBegegnungs-Nr: 20079\nHeim: SC DHfK Leipzig\nGast: NSG EHV/NH/Buteo II\nHalle: Kleine ARENA Leipzig (31117)\nAdresse: Am Sportforum 1\, 04105 Leipzig\n
LOCATION:Kleine ARENA Leipzig (31117): Am Sportforum 1\, 04105 Leipzig
CATEGORIES:Saison 2025/26
END:VEVENT
BEGIN:VEVENT
DTSTAMP:20260424T144703Z
DTSTART;TZID=Europe/Berlin:20260124T120000
DTEND;TZID=Europe/Berlin:20260124T130000
SUMMARY:Regionalliga Sachsen mCJ NSG SV04/HCE vs NSG EHV/NH/Buteo II (20070)
UID:a4a32739-f09e-4373-9604-7c007bbfeeaa
STATUS:CONFIRMED
LAST-MODIFIED:20260125T081435Z
DESCRIPTION:Regionalliga Sachsen männliche C-Jugend\nBegegnungs-Nr: 20070\nHeim: NSG SV04/HCE\nGast: NSG EHV/NH/Buteo II\nHalle: Dreifelder-SH am BSZ \"Anne Frank\" (32711)\nAdresse: Wieprechtstr. 11\, 08525 Plauen\n
LOCATION:Dreifelder-SH am BSZ \"Anne Frank\" (32711): Wieprechtstr. 11\, 08525 Plauen
CATEGORIES:Saison 2025/26
END:VEVENT
END:VCALENDAR
