BEGIN:VCALENDAR
PRODID:-//nuDatenautomaten//framework iCal4j //DE
VERSION:2.0
CALSCALE:GREGORIAN
BEGIN:VTIMEZONE
TZID:Europe/Berlin
LAST-MODIFIED:20260306T231828Z
TZURL:https://www.tzurl.org/zoneinfo/Europe/Berlin
X-LIC-LOCATION:Europe/Berlin
X-PROLEPTIC-TZNAME:LMT
BEGIN:STANDARD
TZNAME:CET
TZOFFSETFROM:+005328
TZOFFSETTO:+0100
DTSTART:18930401T000000
END:STANDARD
BEGIN:DAYLIGHT
TZNAME:CEST
TZOFFSETFROM:+0100
TZOFFSETTO:+0200
DTSTART:19160430T230000
RDATE:19400401T020000
RDATE:19430329T020000
RDATE:19460414T020000
RDATE:19470406T030000
RDATE:19480418T020000
RDATE:19490410T020000
RDATE:19800406T020000
END:DAYLIGHT
BEGIN:STANDARD
TZNAME:CET
TZOFFSETFROM:+0200
TZOFFSETTO:+0100
DTSTART:19161001T010000
RDATE:19421102T030000
RDATE:19431004T030000
RDATE:19441002T030000
RDATE:19451118T030000
RDATE:19461007T030000
END:STANDARD
BEGIN:DAYLIGHT
TZNAME:CEST
TZOFFSETFROM:+0100
TZOFFSETTO:+0200
DTSTART:19170416T020000
RRULE:FREQ=YEARLY;UNTIL=19180415T010000Z;BYMONTH=4;BYDAY=3MO
END:DAYLIGHT
BEGIN:STANDARD
TZNAME:CET
TZOFFSETFROM:+0200
TZOFFSETTO:+0100
DTSTART:19170917T030000
RRULE:FREQ=YEARLY;UNTIL=19180916T010000Z;BYMONTH=9;BYDAY=3MO
END:STANDARD
BEGIN:DAYLIGHT
TZNAME:CEST
TZOFFSETFROM:+0100
TZOFFSETTO:+0200
DTSTART:19440403T020000
RRULE:FREQ=YEARLY;UNTIL=19450402T010000Z;BYMONTH=4;BYDAY=1MO
END:DAYLIGHT
BEGIN:DAYLIGHT
TZNAME:CEMT
TZOFFSETFROM:+0200
TZOFFSETTO:+0300
DTSTART:19450524T020000
RDATE:19470511T030000
END:DAYLIGHT
BEGIN:DAYLIGHT
TZNAME:CEST
TZOFFSETFROM:+0300
TZOFFSETTO:+0200
DTSTART:19450924T030000
RDATE:19470629T030000
END:DAYLIGHT
BEGIN:STANDARD
TZNAME:CET
TZOFFSETFROM:+0100
TZOFFSETTO:+0100
DTSTART:19460101T000000
RDATE:19800101T000000
END:STANDARD
BEGIN:STANDARD
TZNAME:CET
TZOFFSETFROM:+0200
TZOFFSETTO:+0100
DTSTART:19471005T030000
RRULE:FREQ=YEARLY;UNTIL=19491002T010000Z;BYMONTH=10;BYDAY=1SU
END:STANDARD
BEGIN:STANDARD
TZNAME:CET
TZOFFSETFROM:+0200
TZOFFSETTO:+0100
DTSTART:19800928T030000
RRULE:FREQ=YEARLY;UNTIL=19950924T010000Z;BYMONTH=9;BYDAY=-1SU
END:STANDARD
BEGIN:DAYLIGHT
TZNAME:CEST
TZOFFSETFROM:+0100
TZOFFSETTO:+0200
DTSTART:19810329T020000
RRULE:FREQ=YEARLY;BYMONTH=3;BYDAY=-1SU
END:DAYLIGHT
BEGIN:STANDARD
TZNAME:CET
TZOFFSETFROM:+0200
TZOFFSETTO:+0100
DTSTART:19961027T030000
RRULE:FREQ=YEARLY;BYMONTH=10;BYDAY=-1SU
END:STANDARD
END:VTIMEZONE
BEGIN:VEVENT
DTSTAMP:20260420T004331Z
DTSTART;TZID=Europe/Berlin:20260426T123000
DTEND;TZID=Europe/Berlin:20260426T133000
SUMMARY:Regionsoberliga S-M wJB TSV Dresden-Bühlau vs HSG Weißeritztal (32072)
UID:31420a1b-c249-451c-a12f-e599b41f21a2
STATUS:CONFIRMED
LAST-MODIFIED:20250702T070551Z
DESCRIPTION:Regionsoberliga S-M wJB\nBegegnungs-Nr: 32072\nHeim: TSV Dresden-Bühlau\nGast: HSG Weißeritztal\nHalle: SH Gymnasium Dresden-Bühlau (33118)\nAdresse: Quohrener Str. 12\, 01324 Dresden\n
LOCATION:SH Gymnasium Dresden-Bühlau (33118): Quohrener Str. 12\, 01324 Dresden
CATEGORIES:Saison 2025/26
END:VEVENT
BEGIN:VEVENT
DTSTAMP:20260420T004331Z
DTSTART;TZID=Europe/Berlin:20260328T120000
DTEND;TZID=Europe/Berlin:20260328T130000
SUMMARY:Regionsoberliga S-M wJB TSV Dresden-Bühlau vs SHV Oschatz (32065)
UID:7e2246ca-7d12-483b-ac70-3c1807ee9751
STATUS:CONFIRMED
LAST-MODIFIED:20260413T120842Z
DESCRIPTION:Regionsoberliga S-M wJB\nBegegnungs-Nr: 32065\nHeim: TSV Dresden-Bühlau\nGast: SHV Oschatz\nHalle: SH Gymnasium Dresden-Bühlau (33118)\nAdresse: Quohrener Str. 12\, 01324 Dresden\n
LOCATION:SH Gymnasium Dresden-Bühlau (33118): Quohrener Str. 12\, 01324 Dresden
CATEGORIES:Saison 2025/26
END:VEVENT
BEGIN:VEVENT
DTSTAMP:20260420T004331Z
DTSTART;TZID=Europe/Berlin:20260111T141500
DTEND;TZID=Europe/Berlin:20260111T151500
SUMMARY:Regionsoberliga S-M wJB TSV Dresden-Bühlau vs SG Klotzsche (32040)
UID:615e5913-6a9c-45a6-84d0-7645d8af489d
STATUS:CONFIRMED
LAST-MODIFIED:20260112T135947Z
DESCRIPTION:Regionsoberliga S-M wJB\nBegegnungs-Nr: 32040\nHeim: TSV Dresden-Bühlau\nGast: SG Klotzsche\nHalle: SH Gymnasium Dresden-Bühlau (33118)\nAdresse: Quohrener Str. 12\, 01324 Dresden\n
LOCATION:SH Gymnasium Dresden-Bühlau (33118): Quohrener Str. 12\, 01324 Dresden
CATEGORIES:Saison 2025/26
END:VEVENT
BEGIN:VEVENT
DTSTAMP:20260420T004331Z
DTSTART;TZID=Europe/Berlin:20251108T120000
DTEND;TZID=Europe/Berlin:20251108T130000
SUMMARY:Regionsoberliga S-M wJB TSV Dresden-Bühlau vs Medizin Bad Gottleuba (32024)
UID:e35a553f-99a1-46f1-aaed-bd8cba7cf994
STATUS:CONFIRMED
LAST-MODIFIED:20251110T163408Z
DESCRIPTION:Regionsoberliga S-M wJB\nBegegnungs-Nr: 32024\nHeim: TSV Dresden-Bühlau\nGast: Medizin Bad Gottleuba\nHalle: SH Gymnasium Dresden-Bühlau (33118)\nAdresse: Quohrener Str. 12\, 01324 Dresden\n
LOCATION:SH Gymnasium Dresden-Bühlau (33118): Quohrener Str. 12\, 01324 Dresden
CATEGORIES:Saison 2025/26
END:VEVENT
BEGIN:VEVENT
DTSTAMP:20260420T004331Z
DTSTART;TZID=Europe/Berlin:20251025T100000
DTEND;TZID=Europe/Berlin:20251025T110000
SUMMARY:Regionsoberliga S-M wJB TSV Dresden-Bühlau vs HSV Weinböhla (32018)
UID:9dfa32aa-9e2f-4b85-be9f-ffea012d4271
STATUS:CONFIRMED
LAST-MODIFIED:20251101T075502Z
DESCRIPTION:Regionsoberliga S-M wJB\nBegegnungs-Nr: 32018\nHeim: TSV Dresden-Bühlau\nGast: HSV Weinböhla\nHalle: SH Gymnasium Dresden-Bühlau (33118)\nAdresse: Quohrener Str. 12\, 01324 Dresden\n
LOCATION:SH Gymnasium Dresden-Bühlau (33118): Quohrener Str. 12\, 01324 Dresden
CATEGORIES:Saison 2025/26
END:VEVENT
BEGIN:VEVENT
DTSTAMP:20260420T004331Z
DTSTART;TZID=Europe/Berlin:20250921T133000
DTEND;TZID=Europe/Berlin:20250921T143000
SUMMARY:Regionsoberliga S-M wJB TSV Dresden-Bühlau vs SF 01 Dresden (32013)
UID:898b993c-8633-4616-83ea-ecd96633782c
STATUS:CONFIRMED
LAST-MODIFIED:20250921T180052Z
DESCRIPTION:Regionsoberliga S-M wJB\nBegegnungs-Nr: 32013\nHeim: TSV Dresden-Bühlau\nGast: SF 01 Dresden\nHalle: SH Gymnasium Dresden-Bühlau (33118)\nAdresse: Quohrener Str. 12\, 01324 Dresden\n
LOCATION:SH Gymnasium Dresden-Bühlau (33118): Quohrener Str. 12\, 01324 Dresden
CATEGORIES:Saison 2025/26
END:VEVENT
BEGIN:VEVENT
DTSTAMP:20260420T004331Z
DTSTART;TZID=Europe/Berlin:20260124T103000
DTEND;TZID=Europe/Berlin:20260124T113000
SUMMARY:Regionsoberliga S-M wJB TSV Dresden-Bühlau vs Radebeuler HV (32052)
UID:62d781c7-0416-4f9f-a353-5691479d7519
STATUS:CONFIRMED
LAST-MODIFIED:20260128T132857Z
DESCRIPTION:Regionsoberliga S-M wJB\nBegegnungs-Nr: 32052\nHeim: TSV Dresden-Bühlau\nGast: Radebeuler HV\nHalle: SH Gymnasium Dresden-Bühlau (33118)\nAdresse: Quohrener Str. 12\, 01324 Dresden\n
LOCATION:SH Gymnasium Dresden-Bühlau (33118): Quohrener Str. 12\, 01324 Dresden
CATEGORIES:Saison 2025/26
END:VEVENT
BEGIN:VEVENT
DTSTAMP:20260420T004331Z
DTSTART;TZID=Europe/Berlin:20250906T120000
DTEND;TZID=Europe/Berlin:20250906T130000
SUMMARY:Regionsoberliga S-M wJB TSV Dresden-Bühlau vs HC Großenhain  (32007)
UID:5d934e68-7992-472f-a1ec-63d411f8dfcc
STATUS:CONFIRMED
LAST-MODIFIED:20250907T202707Z
DESCRIPTION:Regionsoberliga S-M wJB\nBegegnungs-Nr: 32007\nHeim: TSV Dresden-Bühlau\nGast: HC Großenhain \nHalle: SH Gymnasium Dresden-Bühlau (33118)\nAdresse: Quohrener Str. 12\, 01324 Dresden\n
LOCATION:SH Gymnasium Dresden-Bühlau (33118): Quohrener Str. 12\, 01324 Dresden
CATEGORIES:Saison 2025/26
END:VEVENT
BEGIN:VEVENT
DTSTAMP:20260420T004331Z
DTSTART;TZID=Europe/Berlin:20250831T100000
DTEND;TZID=Europe/Berlin:20250831T110000
SUMMARY:Regionsoberliga S-M wJB SG Klotzsche vs TSV Dresden-Bühlau (32004)
UID:fe9677ae-9236-4ade-991a-98aaaf08d2c5
STATUS:CONFIRMED
LAST-MODIFIED:20250901T044948Z
DESCRIPTION:Regionsoberliga S-M wJB\nBegegnungs-Nr: 32004\nHeim: SG Klotzsche\nGast: TSV Dresden-Bühlau\nHalle: SH Gymnasium Klotzsche (33126)\nAdresse: Karl-Marx-Straße 44\, 01109 Dresden\n
LOCATION:SH Gymnasium Klotzsche (33126): Karl-Marx-Straße 44\, 01109 Dresden
CATEGORIES:Saison 2025/26
END:VEVENT
BEGIN:VEVENT
DTSTAMP:20260420T004331Z
DTSTART;TZID=Europe/Berlin:20251206T160000
DTEND;TZID=Europe/Berlin:20251206T170000
SUMMARY:Regionsoberliga S-M wJB HSG Weißeritztal vs TSV Dresden-Bühlau (32036)
UID:e2c6e42c-92e6-447e-986e-9d607f20e19d
STATUS:CONFIRMED
LAST-MODIFIED:20251207T082823Z
DESCRIPTION:Regionsoberliga S-M wJB\nBegegnungs-Nr: 32036\nHeim: HSG Weißeritztal\nGast: TSV Dresden-Bühlau\nHalle: Saubach-SH Wilsdruff (33208)\nAdresse: Nossener Str. 21b\, 01723 Wilsdruff\n
LOCATION:Saubach-SH Wilsdruff (33208): Nossener Str. 21b\, 01723 Wilsdruff
CATEGORIES:Saison 2025/26
END:VEVENT
BEGIN:VEVENT
DTSTAMP:20260420T004331Z
DTSTART;TZID=Europe/Berlin:20260322T110000
DTEND;TZID=Europe/Berlin:20260322T120000
SUMMARY:Regionsoberliga S-M wJB Medizin Bad Gottleuba vs TSV Dresden-Bühlau (32060)
UID:e798bf2b-6d97-4147-97c3-9343bb8aa66e
STATUS:CONFIRMED
LAST-MODIFIED:20260323T153934Z
DESCRIPTION:Regionsoberliga S-M wJB\nBegegnungs-Nr: 32060\nHeim: Medizin Bad Gottleuba\nGast: TSV Dresden-Bühlau\nHalle: SH Geising (33201)\nAdresse: Lange Str. 25\, 01778 Altenberg ST Geising\n
LOCATION:SH Geising (33201): Lange Str. 25\, 01778 Altenberg ST Geising
CATEGORIES:Saison 2025/26
END:VEVENT
BEGIN:VEVENT
DTSTAMP:20260420T004331Z
DTSTART;TZID=Europe/Berlin:20260117T131500
DTEND;TZID=Europe/Berlin:20260117T141500
SUMMARY:Regionsoberliga S-M wJB HC Großenhain  vs TSV Dresden-Bühlau (32043)
UID:613c9015-9914-4716-8125-bf61e40d5d9e
STATUS:CONFIRMED
LAST-MODIFIED:20260120T182601Z
DESCRIPTION:Regionsoberliga S-M wJB\nBegegnungs-Nr: 32043\nHeim: HC Großenhain \nGast: TSV Dresden-Bühlau\nHalle: Rödertal-SH (33205)\nAdresse: Am Marstall 4\, 01558 Großenhain\n
LOCATION:Rödertal-SH (33205): Am Marstall 4\, 01558 Großenhain
CATEGORIES:Saison 2025/26
END:VEVENT
BEGIN:VEVENT
DTSTAMP:20260420T004331Z
DTSTART;TZID=Europe/Berlin:20250928T120000
DTEND;TZID=Europe/Berlin:20250928T130000
SUMMARY:Regionsoberliga S-M wJB Radebeuler HV vs TSV Dresden-Bühlau (32016)
UID:08182669-2111-45df-a731-bae8f95c3443
STATUS:CONFIRMED
LAST-MODIFIED:20250928T113600Z
DESCRIPTION:Regionsoberliga S-M wJB\nBegegnungs-Nr: 32016\nHeim: Radebeuler HV\nGast: TSV Dresden-Bühlau\nHalle: Elb-SH Radebeul West (33203)\nAdresse: An der Festwiese 1\, 01445 Radebeul\n
LOCATION:Elb-SH Radebeul West (33203): An der Festwiese 1\, 01445 Radebeul
CATEGORIES:Saison 2025/26
END:VEVENT
BEGIN:VEVENT
DTSTAMP:20260420T004331Z
DTSTART;TZID=Europe/Berlin:20260228T130000
DTEND;TZID=Europe/Berlin:20260228T140000
SUMMARY:Regionsoberliga S-M wJB HSV Weinböhla vs TSV Dresden-Bühlau (32054)
UID:05bb2fe0-5b13-4f44-a713-eb56a7bb6214
STATUS:CONFIRMED
LAST-MODIFIED:20260302T112754Z
DESCRIPTION:Regionsoberliga S-M wJB\nBegegnungs-Nr: 32054\nHeim: HSV Weinböhla\nGast: TSV Dresden-Bühlau\nHalle: Nassau-SH Weinböhla (33224)\nAdresse: Meißner Str. 1\, 01689 Weinböhla\n
LOCATION:Nassau-SH Weinböhla (33224): Meißner Str. 1\, 01689 Weinböhla
CATEGORIES:Saison 2025/26
END:VEVENT
BEGIN:VEVENT
DTSTAMP:20260420T004331Z
DTSTART;TZID=Europe/Berlin:20260201T140000
DTEND;TZID=Europe/Berlin:20260201T150000
SUMMARY:Regionsoberliga S-M wJB SF 01 Dresden vs TSV Dresden-Bühlau (32049)
UID:71e201d4-c430-43b9-a548-e6f9286d1020
STATUS:CONFIRMED
LAST-MODIFIED:20260211T161844Z
DESCRIPTION:Regionsoberliga S-M wJB\nBegegnungs-Nr: 32049\nHeim: SF 01 Dresden\nGast: TSV Dresden-Bühlau\nHalle: SH 151. Gesamtschule Dresden (33142)\nAdresse: Stauffenbergallee 8\, 01099 Dresden\n
LOCATION:SH 151. Gesamtschule Dresden (33142): Stauffenbergallee 8\, 01099 Dresden
CATEGORIES:Saison 2025/26
END:VEVENT
BEGIN:VEVENT
DTSTAMP:20260420T004331Z
DTSTART;TZID=Europe/Berlin:20251123T143000
DTEND;TZID=Europe/Berlin:20251123T153000
SUMMARY:Regionsoberliga S-M wJB SHV Oschatz vs TSV Dresden-Bühlau (32029)
UID:06660021-d680-4b17-8f14-90fadcc501ee
STATUS:CONFIRMED
LAST-MODIFIED:20251124T074737Z
DESCRIPTION:Regionsoberliga S-M wJB\nBegegnungs-Nr: 32029\nHeim: SHV Oschatz\nGast: TSV Dresden-Bühlau\nHalle: Rosental-SH Oschatz (31604)\nAdresse: Berufsschulstraße 8\, 04758 Oschatz\n
LOCATION:Rosental-SH Oschatz (31604): Berufsschulstraße 8\, 04758 Oschatz
CATEGORIES:Saison 2025/26
END:VEVENT
END:VCALENDAR
