BEGIN:VCALENDAR
PRODID:-//nuDatenautomaten//framework iCal4j //DE
VERSION:2.0
CALSCALE:GREGORIAN
BEGIN:VTIMEZONE
TZID:Europe/Berlin
LAST-MODIFIED:20260306T231828Z
TZURL:https://www.tzurl.org/zoneinfo/Europe/Berlin
X-LIC-LOCATION:Europe/Berlin
X-PROLEPTIC-TZNAME:LMT
BEGIN:STANDARD
TZNAME:CET
TZOFFSETFROM:+005328
TZOFFSETTO:+0100
DTSTART:18930401T000000
END:STANDARD
BEGIN:DAYLIGHT
TZNAME:CEST
TZOFFSETFROM:+0100
TZOFFSETTO:+0200
DTSTART:19160430T230000
RDATE:19400401T020000
RDATE:19430329T020000
RDATE:19460414T020000
RDATE:19470406T030000
RDATE:19480418T020000
RDATE:19490410T020000
RDATE:19800406T020000
END:DAYLIGHT
BEGIN:STANDARD
TZNAME:CET
TZOFFSETFROM:+0200
TZOFFSETTO:+0100
DTSTART:19161001T010000
RDATE:19421102T030000
RDATE:19431004T030000
RDATE:19441002T030000
RDATE:19451118T030000
RDATE:19461007T030000
END:STANDARD
BEGIN:DAYLIGHT
TZNAME:CEST
TZOFFSETFROM:+0100
TZOFFSETTO:+0200
DTSTART:19170416T020000
RRULE:FREQ=YEARLY;UNTIL=19180415T010000Z;BYMONTH=4;BYDAY=3MO
END:DAYLIGHT
BEGIN:STANDARD
TZNAME:CET
TZOFFSETFROM:+0200
TZOFFSETTO:+0100
DTSTART:19170917T030000
RRULE:FREQ=YEARLY;UNTIL=19180916T010000Z;BYMONTH=9;BYDAY=3MO
END:STANDARD
BEGIN:DAYLIGHT
TZNAME:CEST
TZOFFSETFROM:+0100
TZOFFSETTO:+0200
DTSTART:19440403T020000
RRULE:FREQ=YEARLY;UNTIL=19450402T010000Z;BYMONTH=4;BYDAY=1MO
END:DAYLIGHT
BEGIN:DAYLIGHT
TZNAME:CEMT
TZOFFSETFROM:+0200
TZOFFSETTO:+0300
DTSTART:19450524T020000
RDATE:19470511T030000
END:DAYLIGHT
BEGIN:DAYLIGHT
TZNAME:CEST
TZOFFSETFROM:+0300
TZOFFSETTO:+0200
DTSTART:19450924T030000
RDATE:19470629T030000
END:DAYLIGHT
BEGIN:STANDARD
TZNAME:CET
TZOFFSETFROM:+0100
TZOFFSETTO:+0100
DTSTART:19460101T000000
RDATE:19800101T000000
END:STANDARD
BEGIN:STANDARD
TZNAME:CET
TZOFFSETFROM:+0200
TZOFFSETTO:+0100
DTSTART:19471005T030000
RRULE:FREQ=YEARLY;UNTIL=19491002T010000Z;BYMONTH=10;BYDAY=1SU
END:STANDARD
BEGIN:STANDARD
TZNAME:CET
TZOFFSETFROM:+0200
TZOFFSETTO:+0100
DTSTART:19800928T030000
RRULE:FREQ=YEARLY;UNTIL=19950924T010000Z;BYMONTH=9;BYDAY=-1SU
END:STANDARD
BEGIN:DAYLIGHT
TZNAME:CEST
TZOFFSETFROM:+0100
TZOFFSETTO:+0200
DTSTART:19810329T020000
RRULE:FREQ=YEARLY;BYMONTH=3;BYDAY=-1SU
END:DAYLIGHT
BEGIN:STANDARD
TZNAME:CET
TZOFFSETFROM:+0200
TZOFFSETTO:+0100
DTSTART:19961027T030000
RRULE:FREQ=YEARLY;BYMONTH=10;BYDAY=-1SU
END:STANDARD
END:VTIMEZONE
BEGIN:VEVENT
DTSTAMP:20260424T052021Z
DTSTART;TZID=Europe/Berlin:20250830T103000
DTEND;TZID=Europe/Berlin:20250830T113000
SUMMARY:Regionsoberliga mJE - 3 Germania Zwenkau vs HSG Neudorf/Döbeln (19303)
UID:61e037c7-2ad9-4ccf-8898-893f23de10c1
STATUS:CONFIRMED
LAST-MODIFIED:20250908T163717Z
DESCRIPTION:Regionsoberliga männliche E-Jugend (3)\nBegegnungs-Nr: 19303\nHeim: Germania Zwenkau\nGast: HSG Neudorf/Döbeln\nHalle: Stadthalle Zwenkau (31113)\nAdresse: Heinrich-Mann-Weg 17\, 04442 Zwenkau\n
LOCATION:Stadthalle Zwenkau (31113): Heinrich-Mann-Weg 17\, 04442 Zwenkau
CATEGORIES:Saison 2025/26
END:VEVENT
BEGIN:VEVENT
DTSTAMP:20260424T052021Z
DTSTART;TZID=Europe/Berlin:20251108T103000
DTEND;TZID=Europe/Berlin:20251108T113000
SUMMARY:Regionsoberliga mJE - 3 Germania Zwenkau vs HSV Mölkau - Die Haie  (19316)
UID:48cb6531-a153-4460-8d29-07bdf6dbd1d7
STATUS:CONFIRMED
LAST-MODIFIED:20251112T191230Z
DESCRIPTION:Regionsoberliga männliche E-Jugend (3)\nBegegnungs-Nr: 19316\nHeim: Germania Zwenkau\nGast: HSV Mölkau - Die Haie \nHalle: Stadthalle Zwenkau (31113)\nAdresse: Heinrich-Mann-Weg 17\, 04442 Zwenkau\n
LOCATION:Stadthalle Zwenkau (31113): Heinrich-Mann-Weg 17\, 04442 Zwenkau
CATEGORIES:Saison 2025/26
END:VEVENT
BEGIN:VEVENT
DTSTAMP:20260424T052021Z
DTSTART;TZID=Europe/Berlin:20251116T123000
DTEND;TZID=Europe/Berlin:20251116T133000
SUMMARY:Regionsoberliga mJE - 3 Germania Zwenkau vs TSG Schkeuditz (19318)
UID:b0fe66e4-3f61-44c0-a128-f56e8b6c0c39
STATUS:CONFIRMED
LAST-MODIFIED:20251122T213144Z
DESCRIPTION:Regionsoberliga männliche E-Jugend (3)\nBegegnungs-Nr: 19318\nHeim: Germania Zwenkau\nGast: TSG Schkeuditz\nHalle: Stadthalle Zwenkau (31113)\nAdresse: Heinrich-Mann-Weg 17\, 04442 Zwenkau\n
LOCATION:Stadthalle Zwenkau (31113): Heinrich-Mann-Weg 17\, 04442 Zwenkau
CATEGORIES:Saison 2025/26
END:VEVENT
BEGIN:VEVENT
DTSTAMP:20260424T052021Z
DTSTART;TZID=Europe/Berlin:20260425T101500
DTEND;TZID=Europe/Berlin:20260425T111500
SUMMARY:ROL - mJE 17-25 Germania Zwenkau vs SV Leisnig 90 (19736)
UID:8b86069e-cde6-4923-b275-0c386be00e76
STATUS:CONFIRMED
DESCRIPTION:Regionsoberliga männliche E-Jugend (17-25)\nBegegnungs-Nr: 19736\nHeim: Germania Zwenkau\nGast: SV Leisnig 90\nHalle: Stadthalle Zwenkau (31113)\nAdresse: Heinrich-Mann-Weg 17\, 04442 Zwenkau\n
LOCATION:Stadthalle Zwenkau (31113): Heinrich-Mann-Weg 17\, 04442 Zwenkau
CATEGORIES:Saison 2025/26
END:VEVENT
BEGIN:VEVENT
DTSTAMP:20260424T052021Z
DTSTART;TZID=Europe/Berlin:20260328T103000
DTEND;TZID=Europe/Berlin:20260328T113000
SUMMARY:ROL - mJE 17-25 Germania Zwenkau vs VICTORIA Naunhof (19728)
UID:aa890dde-6dee-47d4-8dab-56ad2d85abf3
STATUS:CONFIRMED
LAST-MODIFIED:20260329T200732Z
DESCRIPTION:Regionsoberliga männliche E-Jugend (17-25)\nBegegnungs-Nr: 19728\nHeim: Germania Zwenkau\nGast: VICTORIA Naunhof\nHalle: Stadthalle Zwenkau (31113)\nAdresse: Heinrich-Mann-Weg 17\, 04442 Zwenkau\n
LOCATION:Stadthalle Zwenkau (31113): Heinrich-Mann-Weg 17\, 04442 Zwenkau
CATEGORIES:Saison 2025/26
END:VEVENT
BEGIN:VEVENT
DTSTAMP:20260424T052021Z
DTSTART;TZID=Europe/Berlin:20260221T143000
DTEND;TZID=Europe/Berlin:20260221T153000
SUMMARY:ROL - mJE 17-25 Germania Zwenkau vs SG MoGoNo Leipzig II (19717)
UID:d2b6a235-05c1-4483-b431-94bc58604e57
STATUS:CONFIRMED
LAST-MODIFIED:20260225T190719Z
DESCRIPTION:Regionsoberliga männliche E-Jugend (17-25)\nBegegnungs-Nr: 19717\nHeim: Germania Zwenkau\nGast: SG MoGoNo Leipzig II\nHalle: Stadthalle Zwenkau (31113)\nAdresse: Heinrich-Mann-Weg 17\, 04442 Zwenkau\n
LOCATION:Stadthalle Zwenkau (31113): Heinrich-Mann-Weg 17\, 04442 Zwenkau
CATEGORIES:Saison 2025/26
END:VEVENT
BEGIN:VEVENT
DTSTAMP:20260424T052021Z
DTSTART;TZID=Europe/Berlin:20260124T123000
DTEND;TZID=Europe/Berlin:20260124T133000
SUMMARY:ROL - mJE 17-25 Germania Zwenkau vs HSV Mölkau - Die Haie  (19709)
UID:afcae111-b687-4469-af69-1eba51162bca
STATUS:CONFIRMED
LAST-MODIFIED:20260125T185110Z
DESCRIPTION:Regionsoberliga männliche E-Jugend (17-25)\nBegegnungs-Nr: 19709\nHeim: Germania Zwenkau\nGast: HSV Mölkau - Die Haie \nHalle: Stadthalle Zwenkau (31113)\nAdresse: Heinrich-Mann-Weg 17\, 04442 Zwenkau\n
LOCATION:Stadthalle Zwenkau (31113): Heinrich-Mann-Weg 17\, 04442 Zwenkau
CATEGORIES:Saison 2025/26
END:VEVENT
BEGIN:VEVENT
DTSTAMP:20260424T052021Z
DTSTART;TZID=Europe/Berlin:20250913T100000
DTEND;TZID=Europe/Berlin:20250913T110000
SUMMARY:Regionsoberliga mJE - 3 VICTORIA Naunhof vs Germania Zwenkau (19304)
UID:bfd64b6d-0f3b-4e2d-92a2-9b386236c04d
STATUS:CONFIRMED
LAST-MODIFIED:20250913T131300Z
DESCRIPTION:Regionsoberliga männliche E-Jugend (3)\nBegegnungs-Nr: 19304\nHeim: VICTORIA Naunhof\nGast: Germania Zwenkau\nHalle: SH Oberschule Naunhof (31114)\nAdresse: Wurzener Straße 38\, 04683 Naunhof\n
LOCATION:SH Oberschule Naunhof (31114): Wurzener Straße 38\, 04683 Naunhof
CATEGORIES:Saison 2025/26
END:VEVENT
BEGIN:VEVENT
DTSTAMP:20260424T052021Z
DTSTART;TZID=Europe/Berlin:20251130T103000
DTEND;TZID=Europe/Berlin:20251130T113000
SUMMARY:Regionsoberliga mJE - 3 SG MoGoNo Leipzig vs Germania Zwenkau (19321)
UID:19507c61-19cb-47dc-9b75-0361ba03494e
STATUS:CONFIRMED
LAST-MODIFIED:20251202T185350Z
DESCRIPTION:Regionsoberliga männliche E-Jugend (3)\nBegegnungs-Nr: 19321\nHeim: SG MoGoNo Leipzig\nGast: Germania Zwenkau\nHalle: SH Kästner-Grundschule Leipzig (31131)\nAdresse: Erfurter Str\, 04155 Leipzig\n
LOCATION:SH Kästner-Grundschule Leipzig (31131): Erfurter Str\, 04155 Leipzig
CATEGORIES:Saison 2025/26
END:VEVENT
BEGIN:VEVENT
DTSTAMP:20260424T052021Z
DTSTART;TZID=Europe/Berlin:20251101T110000
DTEND;TZID=Europe/Berlin:20251101T120000
SUMMARY:Regionsoberliga mJE - 3 SC DHfK Leipzig II vs Germania Zwenkau (19314)
UID:50fccbe3-dd6c-4538-a247-912748141aa4
STATUS:CONFIRMED
LAST-MODIFIED:20251104T121913Z
DESCRIPTION:Regionsoberliga männliche E-Jugend (3)\nBegegnungs-Nr: 19314\nHeim: SC DHfK Leipzig II\nGast: Germania Zwenkau\nHalle: Kleine ARENA Leipzig (31117)\nAdresse: Am Sportforum 1\, 04105 Leipzig\n
LOCATION:Kleine ARENA Leipzig (31117): Am Sportforum 1\, 04105 Leipzig
CATEGORIES:Saison 2025/26
END:VEVENT
BEGIN:VEVENT
DTSTAMP:20260424T052021Z
DTSTART;TZID=Europe/Berlin:20260419T103000
DTEND;TZID=Europe/Berlin:20260419T113000
SUMMARY:ROL - mJE 17-25 Turbine Leipzig vs Germania Zwenkau (19730)
UID:fba62411-8d99-4fff-b14c-6723260a54be
STATUS:CONFIRMED
LAST-MODIFIED:20260422T195123Z
DESCRIPTION:Regionsoberliga männliche E-Jugend (17-25)\nBegegnungs-Nr: 19730\nHeim: Turbine Leipzig\nGast: Germania Zwenkau\nHalle: SH Ostwald Gymnasium Leipzig-Lößnig (31105)\nAdresse: Willi-Bredel-Str. 13\, 04279 Leipzig\n
LOCATION:SH Ostwald Gymnasium Leipzig-Lößnig (31105): Willi-Bredel-Str. 13\, 04279 Leipzig
CATEGORIES:Saison 2025/26
END:VEVENT
BEGIN:VEVENT
DTSTAMP:20260424T052021Z
DTSTART;TZID=Europe/Berlin:20260314T110000
DTEND;TZID=Europe/Berlin:20260314T120000
SUMMARY:ROL - mJE 17-25 SV Lok Leipzig-M. vs Germania Zwenkau (19721)
UID:8fc4cd9a-1aa8-46b3-90c8-b068ada2fb67
STATUS:CONFIRMED
LAST-MODIFIED:20260314T130836Z
DESCRIPTION:Regionsoberliga männliche E-Jugend (17-25)\nBegegnungs-Nr: 19721\nHeim: SV Lok Leipzig-M.\nGast: Germania Zwenkau\nHalle: SH Goethe-Gymnasium Leipzig (31138)\nAdresse: Theklaer Str. 4\, 04347 Leipzig\n
LOCATION:SH Goethe-Gymnasium Leipzig (31138): Theklaer Str. 4\, 04347 Leipzig
CATEGORIES:Saison 2025/26
END:VEVENT
BEGIN:VEVENT
DTSTAMP:20260424T052021Z
DTSTART;TZID=Europe/Berlin:20260117T150000
DTEND;TZID=Europe/Berlin:20260117T160000
SUMMARY:ROL - mJE 17-25 NSG Neuseenland II vs Germania Zwenkau (19706)
UID:48977121-b7db-4414-923d-4b3e85161e86
STATUS:CONFIRMED
LAST-MODIFIED:20260117T180145Z
DESCRIPTION:Regionsoberliga männliche E-Jugend (17-25)\nBegegnungs-Nr: 19706\nHeim: NSG Neuseenland II\nGast: Germania Zwenkau\nHalle: SH Regis-Breitingen (31405)\nAdresse: Am Stadion\, 04565 Regis-Breitingen\n
LOCATION:SH Regis-Breitingen (31405): Am Stadion\, 04565 Regis-Breitingen
CATEGORIES:Saison 2025/26
END:VEVENT
BEGIN:VEVENT
DTSTAMP:20260424T052021Z
DTSTART;TZID=Europe/Berlin:20260321T130000
DTEND;TZID=Europe/Berlin:20260321T140000
SUMMARY:ROL - mJE 17-25 HV Glesien vs Germania Zwenkau (19701)
UID:39485a13-01a9-4b1a-8431-1be27ee24b06
STATUS:CONFIRMED
LAST-MODIFIED:20260322T204259Z
DESCRIPTION:Regionsoberliga männliche E-Jugend (17-25)\nBegegnungs-Nr: 19701\nHeim: HV Glesien\nGast: Germania Zwenkau\nHalle: SH Am Sportplatz Glesien (31302)\nAdresse: Karl-Liebknecht-Str.\, 04435 Schkeuditz / OT Glesien\n
LOCATION:SH Am Sportplatz Glesien (31302): Karl-Liebknecht-Str.\, 04435 Schkeuditz / OT Glesien
CATEGORIES:Saison 2025/26
END:VEVENT
END:VCALENDAR
