BEGIN:VCALENDAR
PRODID:-//nuDatenautomaten//framework iCal4j //DE
VERSION:2.0
CALSCALE:GREGORIAN
BEGIN:VTIMEZONE
TZID:Europe/Berlin
LAST-MODIFIED:20260306T231828Z
TZURL:https://www.tzurl.org/zoneinfo/Europe/Berlin
X-LIC-LOCATION:Europe/Berlin
X-PROLEPTIC-TZNAME:LMT
BEGIN:STANDARD
TZNAME:CET
TZOFFSETFROM:+005328
TZOFFSETTO:+0100
DTSTART:18930401T000000
END:STANDARD
BEGIN:DAYLIGHT
TZNAME:CEST
TZOFFSETFROM:+0100
TZOFFSETTO:+0200
DTSTART:19160430T230000
RDATE:19400401T020000
RDATE:19430329T020000
RDATE:19460414T020000
RDATE:19470406T030000
RDATE:19480418T020000
RDATE:19490410T020000
RDATE:19800406T020000
END:DAYLIGHT
BEGIN:STANDARD
TZNAME:CET
TZOFFSETFROM:+0200
TZOFFSETTO:+0100
DTSTART:19161001T010000
RDATE:19421102T030000
RDATE:19431004T030000
RDATE:19441002T030000
RDATE:19451118T030000
RDATE:19461007T030000
END:STANDARD
BEGIN:DAYLIGHT
TZNAME:CEST
TZOFFSETFROM:+0100
TZOFFSETTO:+0200
DTSTART:19170416T020000
RRULE:FREQ=YEARLY;UNTIL=19180415T010000Z;BYMONTH=4;BYDAY=3MO
END:DAYLIGHT
BEGIN:STANDARD
TZNAME:CET
TZOFFSETFROM:+0200
TZOFFSETTO:+0100
DTSTART:19170917T030000
RRULE:FREQ=YEARLY;UNTIL=19180916T010000Z;BYMONTH=9;BYDAY=3MO
END:STANDARD
BEGIN:DAYLIGHT
TZNAME:CEST
TZOFFSETFROM:+0100
TZOFFSETTO:+0200
DTSTART:19440403T020000
RRULE:FREQ=YEARLY;UNTIL=19450402T010000Z;BYMONTH=4;BYDAY=1MO
END:DAYLIGHT
BEGIN:DAYLIGHT
TZNAME:CEMT
TZOFFSETFROM:+0200
TZOFFSETTO:+0300
DTSTART:19450524T020000
RDATE:19470511T030000
END:DAYLIGHT
BEGIN:DAYLIGHT
TZNAME:CEST
TZOFFSETFROM:+0300
TZOFFSETTO:+0200
DTSTART:19450924T030000
RDATE:19470629T030000
END:DAYLIGHT
BEGIN:STANDARD
TZNAME:CET
TZOFFSETFROM:+0100
TZOFFSETTO:+0100
DTSTART:19460101T000000
RDATE:19800101T000000
END:STANDARD
BEGIN:STANDARD
TZNAME:CET
TZOFFSETFROM:+0200
TZOFFSETTO:+0100
DTSTART:19471005T030000
RRULE:FREQ=YEARLY;UNTIL=19491002T010000Z;BYMONTH=10;BYDAY=1SU
END:STANDARD
BEGIN:STANDARD
TZNAME:CET
TZOFFSETFROM:+0200
TZOFFSETTO:+0100
DTSTART:19800928T030000
RRULE:FREQ=YEARLY;UNTIL=19950924T010000Z;BYMONTH=9;BYDAY=-1SU
END:STANDARD
BEGIN:DAYLIGHT
TZNAME:CEST
TZOFFSETFROM:+0100
TZOFFSETTO:+0200
DTSTART:19810329T020000
RRULE:FREQ=YEARLY;BYMONTH=3;BYDAY=-1SU
END:DAYLIGHT
BEGIN:STANDARD
TZNAME:CET
TZOFFSETFROM:+0200
TZOFFSETTO:+0100
DTSTART:19961027T030000
RRULE:FREQ=YEARLY;BYMONTH=10;BYDAY=-1SU
END:STANDARD
END:VTIMEZONE
BEGIN:VEVENT
DTSTAMP:20260421T062210Z
DTSTART;TZID=Europe/Berlin:20260117T170000
DTEND;TZID=Europe/Berlin:20260117T180000
SUMMARY:Regionspokal mJB ZHC Grubenlampe vs Roßweiner SV (57004)
UID:a777f0b4-d9fd-4127-b35d-f55e5184d727
STATUS:CONFIRMED
LAST-MODIFIED:20260122T104131Z
DESCRIPTION:Regionspokal mBJ\nBegegnungs-Nr: 57004\nHeim: ZHC Grubenlampe\nGast: Roßweiner SV\nHalle: SH Zwickau-Neuplanitz (32501)\nAdresse: Dortmunder Str. 7a\, 08062 Zwickau\n
LOCATION:SH Zwickau-Neuplanitz (32501): Dortmunder Str. 7a\, 08062 Zwickau
CATEGORIES:Saison Pokal 2025/26
END:VEVENT
BEGIN:VEVENT
DTSTAMP:20260421T062210Z
DTSTART;TZID=Europe/Berlin:20260315T140000
DTEND;TZID=Europe/Berlin:20260315T150000
SUMMARY:Regionspokal mJB ZHC Grubenlampe vs HV Grüna (57007)
UID:ed4d854f-1b5c-42be-9ebc-0fd5fefb8b97
STATUS:CONFIRMED
LAST-MODIFIED:20260321T060402Z
DESCRIPTION:Regionspokal mBJ\nBegegnungs-Nr: 57007\nHeim: ZHC Grubenlampe\nGast: HV Grüna\nHalle: SH Zwickau-Neuplanitz (32501)\nAdresse: Dortmunder Str. 7a\, 08062 Zwickau\n
LOCATION:SH Zwickau-Neuplanitz (32501): Dortmunder Str. 7a\, 08062 Zwickau
CATEGORIES:Saison Pokal 2025/26
END:VEVENT
BEGIN:VEVENT
DTSTAMP:20260421T062210Z
DTSTART;TZID=Europe/Berlin:20260227T180000
DTEND;TZID=Europe/Berlin:20260227T190000
SUMMARY:Regionspokal mJB Zwönitzer HSV vs ZHC Grubenlampe (57005)
UID:178ea46d-df4a-4a16-b1ca-bbb24210b220
STATUS:CONFIRMED
LAST-MODIFIED:20260301T185028Z
DESCRIPTION:Regionspokal mBJ\nBegegnungs-Nr: 57005\nHeim: Zwönitzer HSV\nGast: ZHC Grubenlampe\nHalle: SH Zwönitz (32301)\nAdresse: Turnhallenweg 5\, 08297 Zwönitz\n
LOCATION:SH Zwönitz (32301): Turnhallenweg 5\, 08297 Zwönitz
CATEGORIES:Saison Pokal 2025/26
END:VEVENT
BEGIN:VEVENT
DTSTAMP:20260421T062210Z
DTSTART;TZID=Europe/Berlin:20260501T100000
DTEND;TZID=Europe/Berlin:20260501T110000
SUMMARY:Regionspokal mJB NSG Gc-Mee-LO vs ZHC Grubenlampe (57008)
UID:700904ec-7eaa-4308-ae7f-3fdc945b3420
STATUS:CONFIRMED
DESCRIPTION:Regionspokal mBJ\nBegegnungs-Nr: 57008\nHeim: NSG Gc-Mee-LO\nGast: ZHC Grubenlampe\nHalle: SH Meerane (32202)\nAdresse: Leipziger Str. 7\, 08393 Meerane\n
LOCATION:SH Meerane (32202): Leipziger Str. 7\, 08393 Meerane
CATEGORIES:Saison Pokal 2025/26
END:VEVENT
END:VCALENDAR
