BEGIN:VCALENDAR
PRODID:-//nuDatenautomaten//framework iCal4j //DE
VERSION:2.0
CALSCALE:GREGORIAN
BEGIN:VTIMEZONE
TZID:Europe/Berlin
LAST-MODIFIED:20260306T231828Z
TZURL:https://www.tzurl.org/zoneinfo/Europe/Berlin
X-LIC-LOCATION:Europe/Berlin
X-PROLEPTIC-TZNAME:LMT
BEGIN:STANDARD
TZNAME:CET
TZOFFSETFROM:+005328
TZOFFSETTO:+0100
DTSTART:18930401T000000
END:STANDARD
BEGIN:DAYLIGHT
TZNAME:CEST
TZOFFSETFROM:+0100
TZOFFSETTO:+0200
DTSTART:19160430T230000
RDATE:19400401T020000
RDATE:19430329T020000
RDATE:19460414T020000
RDATE:19470406T030000
RDATE:19480418T020000
RDATE:19490410T020000
RDATE:19800406T020000
END:DAYLIGHT
BEGIN:STANDARD
TZNAME:CET
TZOFFSETFROM:+0200
TZOFFSETTO:+0100
DTSTART:19161001T010000
RDATE:19421102T030000
RDATE:19431004T030000
RDATE:19441002T030000
RDATE:19451118T030000
RDATE:19461007T030000
END:STANDARD
BEGIN:DAYLIGHT
TZNAME:CEST
TZOFFSETFROM:+0100
TZOFFSETTO:+0200
DTSTART:19170416T020000
RRULE:FREQ=YEARLY;UNTIL=19180415T010000Z;BYMONTH=4;BYDAY=3MO
END:DAYLIGHT
BEGIN:STANDARD
TZNAME:CET
TZOFFSETFROM:+0200
TZOFFSETTO:+0100
DTSTART:19170917T030000
RRULE:FREQ=YEARLY;UNTIL=19180916T010000Z;BYMONTH=9;BYDAY=3MO
END:STANDARD
BEGIN:DAYLIGHT
TZNAME:CEST
TZOFFSETFROM:+0100
TZOFFSETTO:+0200
DTSTART:19440403T020000
RRULE:FREQ=YEARLY;UNTIL=19450402T010000Z;BYMONTH=4;BYDAY=1MO
END:DAYLIGHT
BEGIN:DAYLIGHT
TZNAME:CEMT
TZOFFSETFROM:+0200
TZOFFSETTO:+0300
DTSTART:19450524T020000
RDATE:19470511T030000
END:DAYLIGHT
BEGIN:DAYLIGHT
TZNAME:CEST
TZOFFSETFROM:+0300
TZOFFSETTO:+0200
DTSTART:19450924T030000
RDATE:19470629T030000
END:DAYLIGHT
BEGIN:STANDARD
TZNAME:CET
TZOFFSETFROM:+0100
TZOFFSETTO:+0100
DTSTART:19460101T000000
RDATE:19800101T000000
END:STANDARD
BEGIN:STANDARD
TZNAME:CET
TZOFFSETFROM:+0200
TZOFFSETTO:+0100
DTSTART:19471005T030000
RRULE:FREQ=YEARLY;UNTIL=19491002T010000Z;BYMONTH=10;BYDAY=1SU
END:STANDARD
BEGIN:STANDARD
TZNAME:CET
TZOFFSETFROM:+0200
TZOFFSETTO:+0100
DTSTART:19800928T030000
RRULE:FREQ=YEARLY;UNTIL=19950924T010000Z;BYMONTH=9;BYDAY=-1SU
END:STANDARD
BEGIN:DAYLIGHT
TZNAME:CEST
TZOFFSETFROM:+0100
TZOFFSETTO:+0200
DTSTART:19810329T020000
RRULE:FREQ=YEARLY;BYMONTH=3;BYDAY=-1SU
END:DAYLIGHT
BEGIN:STANDARD
TZNAME:CET
TZOFFSETFROM:+0200
TZOFFSETTO:+0100
DTSTART:19961027T030000
RRULE:FREQ=YEARLY;BYMONTH=10;BYDAY=-1SU
END:STANDARD
END:VTIMEZONE
BEGIN:VEVENT
DTSTAMP:20260424T083152Z
DTSTART;TZID=Europe/Berlin:20251101T140000
DTEND;TZID=Europe/Berlin:20251101T153000
SUMMARY:Regionsoberliga S-M mJA USV TU Dresden vs TSV Dresden-Bühlau (51013)
UID:48aefbce-8309-4754-8e5d-c818134d202e
STATUS:CONFIRMED
LAST-MODIFIED:20251103T125233Z
DESCRIPTION:Regionsoberliga S-M mJA\nBegegnungs-Nr: 51013\nHeim: USV TU Dresden\nGast: TSV Dresden-Bühlau\nHalle: JOYNEXT Arena Dresden (Spielfeld 2) (33112b)\nAdresse: Magdeburger Straße 10\, 01067 Dresden\n
LOCATION:JOYNEXT Arena Dresden (Spielfeld 2) (33112b): Magdeburger Straße 10\, 01067 Dresden
CATEGORIES:Saison 2025/26
END:VEVENT
BEGIN:VEVENT
DTSTAMP:20260424T083152Z
DTSTART;TZID=Europe/Berlin:20251206T170000
DTEND;TZID=Europe/Berlin:20251206T183000
SUMMARY:Regionsoberliga S-M mJA USV TU Dresden vs LHV Hoyerswerda (51024)
UID:a4923d6b-0805-4965-ae23-aedcf572e3ca
STATUS:CONFIRMED
LAST-MODIFIED:20251208T162251Z
DESCRIPTION:Regionsoberliga S-M mJA\nBegegnungs-Nr: 51024\nHeim: USV TU Dresden\nGast: LHV Hoyerswerda\nHalle: SH Marie-Curie-Gymnasium Dresden (33128)\nAdresse: Zirkusstraße 7\, 01069 Dresden\n
LOCATION:SH Marie-Curie-Gymnasium Dresden (33128): Zirkusstraße 7\, 01069 Dresden
CATEGORIES:Saison 2025/26
END:VEVENT
BEGIN:VEVENT
DTSTAMP:20260424T083152Z
DTSTART;TZID=Europe/Berlin:20260110T140000
DTEND;TZID=Europe/Berlin:20260110T153000
SUMMARY:Regionsoberliga S-M mJA USV TU Dresden vs SG Dippoldiswalde-Ruppendorf (51028)
UID:8612ac23-7a7d-4aee-a12a-52b7b1f0c498
STATUS:CONFIRMED
LAST-MODIFIED:20260113T162832Z
DESCRIPTION:Regionsoberliga S-M mJA\nBegegnungs-Nr: 51028\nHeim: USV TU Dresden\nGast: SG Dippoldiswalde-Ruppendorf\nHalle: SH 145. Oberschule Dresden-Pieschen (33140)\nAdresse: Gehestraße 10\, 01127 Dresden\n
LOCATION:SH 145. Oberschule Dresden-Pieschen (33140): Gehestraße 10\, 01127 Dresden
CATEGORIES:Saison 2025/26
END:VEVENT
BEGIN:VEVENT
DTSTAMP:20260424T083152Z
DTSTART;TZID=Europe/Berlin:20260322T143000
DTEND;TZID=Europe/Berlin:20260322T160000
SUMMARY:Regionsoberliga S-M mJA USV TU Dresden vs SG Kurort Hartha (51040)
UID:6eb7c54a-bc11-4831-931a-aa113813de38
STATUS:CONFIRMED
LAST-MODIFIED:20260322T172649Z
DESCRIPTION:Regionsoberliga S-M mJA\nBegegnungs-Nr: 51040\nHeim: USV TU Dresden\nGast: SG Kurort Hartha\nHalle: JOYNEXT Arena Dresden (Spielfeld 2) (33112b)\nAdresse: Magdeburger Straße 10\, 01067 Dresden\n
LOCATION:JOYNEXT Arena Dresden (Spielfeld 2) (33112b): Magdeburger Straße 10\, 01067 Dresden
CATEGORIES:Saison 2025/26
END:VEVENT
BEGIN:VEVENT
DTSTAMP:20260424T083152Z
DTSTART;TZID=Europe/Berlin:20260418T140000
DTEND;TZID=Europe/Berlin:20260418T153000
SUMMARY:Regionsoberliga S-M mJA USV TU Dresden vs Stahl Rietschen (51051)
UID:94777c4b-fc1e-474e-950e-df1011a3e582
STATUS:CONFIRMED
LAST-MODIFIED:20260419T082853Z
DESCRIPTION:Regionsoberliga S-M mJA\nBegegnungs-Nr: 51051\nHeim: USV TU Dresden\nGast: Stahl Rietschen\nHalle: SH 145. Oberschule Dresden-Pieschen (33140)\nAdresse: Gehestraße 10\, 01127 Dresden\n
LOCATION:SH 145. Oberschule Dresden-Pieschen (33140): Gehestraße 10\, 01127 Dresden
CATEGORIES:Saison 2025/26
END:VEVENT
BEGIN:VEVENT
DTSTAMP:20260424T083152Z
DTSTART;TZID=Europe/Berlin:20250906T120000
DTEND;TZID=Europe/Berlin:20250906T133000
SUMMARY:Regionsoberliga S-M mJA USV TU Dresden vs SG Klotzsche II (51002)
UID:fecbceeb-58d1-49ad-9423-9835a72631bf
STATUS:CONFIRMED
LAST-MODIFIED:20250911T152350Z
DESCRIPTION:Regionsoberliga S-M mJA\nBegegnungs-Nr: 51002\nHeim: USV TU Dresden\nGast: SG Klotzsche II\nHalle: SH 145. Oberschule Dresden-Pieschen (33140)\nAdresse: Gehestraße 10\, 01127 Dresden\n
LOCATION:SH 145. Oberschule Dresden-Pieschen (33140): Gehestraße 10\, 01127 Dresden
CATEGORIES:Saison 2025/26
END:VEVENT
BEGIN:VEVENT
DTSTAMP:20260424T083152Z
DTSTART;TZID=Europe/Berlin:20250927T120000
DTEND;TZID=Europe/Berlin:20250927T133000
SUMMARY:Regionsoberliga S-M mJA USV TU Dresden vs SG Cunewalde/Sohland (51009)
UID:3dd8a1ae-f01d-4094-80ec-442ab8544b87
STATUS:CONFIRMED
LAST-MODIFIED:20250928T154643Z
DESCRIPTION:Regionsoberliga S-M mJA\nBegegnungs-Nr: 51009\nHeim: USV TU Dresden\nGast: SG Cunewalde/Sohland\nHalle: JOYNEXT Arena Dresden (Spielfeld 2) (33112b)\nAdresse: Magdeburger Straße 10\, 01067 Dresden\n
LOCATION:JOYNEXT Arena Dresden (Spielfeld 2) (33112b): Magdeburger Straße 10\, 01067 Dresden
CATEGORIES:Saison 2025/26
END:VEVENT
BEGIN:VEVENT
DTSTAMP:20260424T083152Z
DTSTART;TZID=Europe/Berlin:20251026T140000
DTEND;TZID=Europe/Berlin:20251026T153000
SUMMARY:Regionsoberliga S-M mJA SG Kurort Hartha vs USV TU Dresden (51012)
UID:0b94e41e-2c68-44d4-bc1c-9e02addf4d81
STATUS:CONFIRMED
LAST-MODIFIED:20251026T150632Z
DESCRIPTION:Regionsoberliga S-M mJA\nBegegnungs-Nr: 51012\nHeim: SG Kurort Hartha\nGast: USV TU Dresden\nHalle: Saubach-SH Wilsdruff (33208)\nAdresse: Nossener Str. 21b\, 01723 Wilsdruff\n
LOCATION:Saubach-SH Wilsdruff (33208): Nossener Str. 21b\, 01723 Wilsdruff
CATEGORIES:Saison 2025/26
END:VEVENT
BEGIN:VEVENT
DTSTAMP:20260424T083152Z
DTSTART;TZID=Europe/Berlin:20251115T130000
DTEND;TZID=Europe/Berlin:20251115T143000
SUMMARY:Regionsoberliga S-M mJA SG Dippoldiswalde-Ruppendorf vs USV TU Dresden (51018)
UID:6c09e19b-1a84-41f5-a6b6-bfa30918d25c
STATUS:CONFIRMED
LAST-MODIFIED:20251127T142725Z
DESCRIPTION:Regionsoberliga S-M mJA\nBegegnungs-Nr: 51018\nHeim: SG Dippoldiswalde-Ruppendorf\nGast: USV TU Dresden\nHalle: Sportpark Dippoldiswalde (33229)\nAdresse: Nikolai-Ostrowski-Straße 2\, 01744 Dippoldiswalde\n
LOCATION:Sportpark Dippoldiswalde (33229): Nikolai-Ostrowski-Straße 2\, 01744 Dippoldiswalde
CATEGORIES:Saison 2025/26
END:VEVENT
BEGIN:VEVENT
DTSTAMP:20260424T083152Z
DTSTART;TZID=Europe/Berlin:20260118T130000
DTEND;TZID=Europe/Berlin:20260118T143000
SUMMARY:Regionsoberliga S-M mJA SG Klotzsche II vs USV TU Dresden (51031)
UID:650495f0-a0a5-4b67-aa4a-165c9299363d
STATUS:CONFIRMED
LAST-MODIFIED:20260119T124435Z
DESCRIPTION:Regionsoberliga S-M mJA\nBegegnungs-Nr: 51031\nHeim: SG Klotzsche II\nGast: USV TU Dresden\nHalle: SH Gymnasium Dresden-Bühlau (33118)\nAdresse: Quohrener Str. 12\, 01324 Dresden\n
LOCATION:SH Gymnasium Dresden-Bühlau (33118): Quohrener Str. 12\, 01324 Dresden
CATEGORIES:Saison 2025/26
END:VEVENT
BEGIN:VEVENT
DTSTAMP:20260424T083152Z
DTSTART;TZID=Europe/Berlin:20260412T130000
DTEND;TZID=Europe/Berlin:20260412T143000
SUMMARY:Regionsoberliga S-M mJA SG Cunewalde/Sohland vs USV TU Dresden (51037)
UID:f6cbcdf0-42ce-4903-a984-169af5e02dd3
STATUS:CONFIRMED
LAST-MODIFIED:20260413T163946Z
DESCRIPTION:Regionsoberliga S-M mJA\nBegegnungs-Nr: 51037\nHeim: SG Cunewalde/Sohland\nGast: USV TU Dresden\nHalle: \"Oberland-Sporthalle\" Sohland (34501)\nAdresse: G. - Hauptmann - Str. 4 A\, 02689 Sohland\n
LOCATION:\"Oberland-Sporthalle\" Sohland (34501): G. - Hauptmann - Str. 4 A\, 02689 Sohland
CATEGORIES:Saison 2025/26
END:VEVENT
BEGIN:VEVENT
DTSTAMP:20260424T083152Z
DTSTART;TZID=Europe/Berlin:20260307T120000
DTEND;TZID=Europe/Berlin:20260307T133000
SUMMARY:Regionsoberliga S-M mJA TSV Dresden-Bühlau vs USV TU Dresden (51042)
UID:c3975095-bb82-4b43-bef4-2edf21e76b0b
STATUS:CONFIRMED
LAST-MODIFIED:20260311T205822Z
DESCRIPTION:Regionsoberliga S-M mJA\nBegegnungs-Nr: 51042\nHeim: TSV Dresden-Bühlau\nGast: USV TU Dresden\nHalle: SH Gymnasium Dresden-Bühlau (33118)\nAdresse: Quohrener Str. 12\, 01324 Dresden\n
LOCATION:SH Gymnasium Dresden-Bühlau (33118): Quohrener Str. 12\, 01324 Dresden
CATEGORIES:Saison 2025/26
END:VEVENT
BEGIN:VEVENT
DTSTAMP:20260424T083152Z
DTSTART;TZID=Europe/Berlin:20260425T140000
DTEND;TZID=Europe/Berlin:20260425T153000
SUMMARY:Regionsoberliga S-M mJA LHV Hoyerswerda vs USV TU Dresden (51055)
UID:925b71cf-1cb4-425a-a002-97b03c53ed58
STATUS:CONFIRMED
DESCRIPTION:Regionsoberliga S-M mJA\nBegegnungs-Nr: 51055\nHeim: LHV Hoyerswerda\nGast: USV TU Dresden\nHalle: SH BSZ \"Konrad Zuse\" Hoyerswerda (34201)\nAdresse: Käthe-Kollwitz-Str. 5\, 02977 Hoyerswerda\n
LOCATION:SH BSZ \"Konrad Zuse\" Hoyerswerda (34201): Käthe-Kollwitz-Str. 5\, 02977 Hoyerswerda
CATEGORIES:Saison 2025/26
END:VEVENT
BEGIN:VEVENT
DTSTAMP:20260424T083152Z
DTSTART;TZID=Europe/Berlin:20251213T140000
DTEND;TZID=Europe/Berlin:20251213T153000
SUMMARY:Regionsoberliga S-M mJA Stahl Rietschen vs USV TU Dresden (51027)
UID:55e070cb-38c3-4c28-94d5-afec0eb0ff59
STATUS:CONFIRMED
LAST-MODIFIED:20260109T172643Z
DESCRIPTION:Regionsoberliga S-M mJA\nBegegnungs-Nr: 51027\nHeim: Stahl Rietschen\nGast: USV TU Dresden\nHalle: Oberlausitz-SH Rietschen (34403)\nAdresse: Am Festplatz 1\, 02956 Rietschen\n
LOCATION:Oberlausitz-SH Rietschen (34403): Am Festplatz 1\, 02956 Rietschen
CATEGORIES:Saison 2025/26
END:VEVENT
END:VCALENDAR
