BEGIN:VCALENDAR
PRODID:-//nuDatenautomaten//framework iCal4j //DE
VERSION:2.0
CALSCALE:GREGORIAN
BEGIN:VTIMEZONE
TZID:Europe/Berlin
LAST-MODIFIED:20260306T231828Z
TZURL:https://www.tzurl.org/zoneinfo/Europe/Berlin
X-LIC-LOCATION:Europe/Berlin
X-PROLEPTIC-TZNAME:LMT
BEGIN:STANDARD
TZNAME:CET
TZOFFSETFROM:+005328
TZOFFSETTO:+0100
DTSTART:18930401T000000
END:STANDARD
BEGIN:DAYLIGHT
TZNAME:CEST
TZOFFSETFROM:+0100
TZOFFSETTO:+0200
DTSTART:19160430T230000
RDATE:19400401T020000
RDATE:19430329T020000
RDATE:19460414T020000
RDATE:19470406T030000
RDATE:19480418T020000
RDATE:19490410T020000
RDATE:19800406T020000
END:DAYLIGHT
BEGIN:STANDARD
TZNAME:CET
TZOFFSETFROM:+0200
TZOFFSETTO:+0100
DTSTART:19161001T010000
RDATE:19421102T030000
RDATE:19431004T030000
RDATE:19441002T030000
RDATE:19451118T030000
RDATE:19461007T030000
END:STANDARD
BEGIN:DAYLIGHT
TZNAME:CEST
TZOFFSETFROM:+0100
TZOFFSETTO:+0200
DTSTART:19170416T020000
RRULE:FREQ=YEARLY;UNTIL=19180415T010000Z;BYMONTH=4;BYDAY=3MO
END:DAYLIGHT
BEGIN:STANDARD
TZNAME:CET
TZOFFSETFROM:+0200
TZOFFSETTO:+0100
DTSTART:19170917T030000
RRULE:FREQ=YEARLY;UNTIL=19180916T010000Z;BYMONTH=9;BYDAY=3MO
END:STANDARD
BEGIN:DAYLIGHT
TZNAME:CEST
TZOFFSETFROM:+0100
TZOFFSETTO:+0200
DTSTART:19440403T020000
RRULE:FREQ=YEARLY;UNTIL=19450402T010000Z;BYMONTH=4;BYDAY=1MO
END:DAYLIGHT
BEGIN:DAYLIGHT
TZNAME:CEMT
TZOFFSETFROM:+0200
TZOFFSETTO:+0300
DTSTART:19450524T020000
RDATE:19470511T030000
END:DAYLIGHT
BEGIN:DAYLIGHT
TZNAME:CEST
TZOFFSETFROM:+0300
TZOFFSETTO:+0200
DTSTART:19450924T030000
RDATE:19470629T030000
END:DAYLIGHT
BEGIN:STANDARD
TZNAME:CET
TZOFFSETFROM:+0100
TZOFFSETTO:+0100
DTSTART:19460101T000000
RDATE:19800101T000000
END:STANDARD
BEGIN:STANDARD
TZNAME:CET
TZOFFSETFROM:+0200
TZOFFSETTO:+0100
DTSTART:19471005T030000
RRULE:FREQ=YEARLY;UNTIL=19491002T010000Z;BYMONTH=10;BYDAY=1SU
END:STANDARD
BEGIN:STANDARD
TZNAME:CET
TZOFFSETFROM:+0200
TZOFFSETTO:+0100
DTSTART:19800928T030000
RRULE:FREQ=YEARLY;UNTIL=19950924T010000Z;BYMONTH=9;BYDAY=-1SU
END:STANDARD
BEGIN:DAYLIGHT
TZNAME:CEST
TZOFFSETFROM:+0100
TZOFFSETTO:+0200
DTSTART:19810329T020000
RRULE:FREQ=YEARLY;BYMONTH=3;BYDAY=-1SU
END:DAYLIGHT
BEGIN:STANDARD
TZNAME:CET
TZOFFSETFROM:+0200
TZOFFSETTO:+0100
DTSTART:19961027T030000
RRULE:FREQ=YEARLY;BYMONTH=10;BYDAY=-1SU
END:STANDARD
END:VTIMEZONE
BEGIN:VEVENT
DTSTAMP:20260419T190041Z
DTSTART;TZID=Europe/Berlin:20251018T180000
DTEND;TZID=Europe/Berlin:20251018T193000
SUMMARY:Landskron Pokal Rotation Weißenborn vs SG LVB (80002)
UID:ea8e85fb-b9a0-4842-b1f9-cfdf270649c9
STATUS:CONFIRMED
LAST-MODIFIED:20251024T091733Z
DESCRIPTION:HVS-Landskron Pokal\nBegegnungs-Nr: 80002\nHeim: Rotation Weißenborn\nGast: SG LVB\nHalle: SH Schoeller Weißenborn (32415)\nAdresse: Lichtenberger Straße 8\, 09600 Weißenborn\n
LOCATION:SH Schoeller Weißenborn (32415): Lichtenberger Straße 8\, 09600 Weißenborn
CATEGORIES:Saison Pokal 2025/26
END:VEVENT
BEGIN:VEVENT
DTSTAMP:20260419T190041Z
DTSTART;TZID=Europe/Berlin:20251115T170000
DTEND;TZID=Europe/Berlin:20251115T183000
SUMMARY:Landskron Pokal Radeberger SV vs SG LVB (80022)
UID:afc4cd94-7c00-4dbe-90d5-58cbd6376f43
STATUS:CONFIRMED
LAST-MODIFIED:20251116T105434Z
DESCRIPTION:HVS-Landskron Pokal\nBegegnungs-Nr: 80022\nHeim: Radeberger SV\nGast: SG LVB\nHalle: 3-Feld-Halle-BSZ Radeberg (34209)\nAdresse: Robert-Blum-Weg 5\, 01454 Radeberg\n
LOCATION:3-Feld-Halle-BSZ Radeberg (34209): Robert-Blum-Weg 5\, 01454 Radeberg
CATEGORIES:Saison Pokal 2025/26
END:VEVENT
BEGIN:VEVENT
DTSTAMP:20260419T190041Z
DTSTART;TZID=Europe/Berlin:20260314T180000
DTEND;TZID=Europe/Berlin:20260314T193000
SUMMARY:Landskron Pokal Union Chemnitz vs SG LVB (80028)
UID:998e1bed-0b62-41a9-8ee3-eb12825deeaf
STATUS:CONFIRMED
LAST-MODIFIED:20260317T174619Z
DESCRIPTION:HVS-Landskron Pokal\nBegegnungs-Nr: 80028\nHeim: Union Chemnitz\nGast: SG LVB\nHalle: Sachsenhalle Chemnitz (32101)\nAdresse: Straße Usti nad Labem 275\, 09119 Chemnitz\n
LOCATION:Sachsenhalle Chemnitz (32101): Straße Usti nad Labem 275\, 09119 Chemnitz
CATEGORIES:Saison Pokal 2025/26
END:VEVENT
BEGIN:VEVENT
DTSTAMP:20260419T190041Z
DTSTART;TZID=Europe/Berlin:20260222T150000
DTEND;TZID=Europe/Berlin:20260222T163000
SUMMARY:Landskron Pokal OHC Bernstadt vs SG LVB (80025)
UID:52042408-db8e-4423-8418-ff797d163571
STATUS:CONFIRMED
LAST-MODIFIED:20260223T090444Z
DESCRIPTION:HVS-Landskron Pokal\nBegegnungs-Nr: 80025\nHeim: OHC Bernstadt\nGast: SG LVB\nHalle: Sporthalle \"Pließnitztal\" Bernstadt (34108)\nAdresse: Am Pließnitztal 3\, 02748 Bernstadt a.d. Eigen OT Kunnersdorf\n
LOCATION:Sporthalle \"Pließnitztal\" Bernstadt (34108): Am Pließnitztal 3\, 02748 Bernstadt a.d. Eigen OT Kunnersdorf
CATEGORIES:Saison Pokal 2025/26
END:VEVENT
BEGIN:VEVENT
DTSTAMP:20260419T190041Z
DTSTART;TZID=Europe/Berlin:20260510T173000
DTEND;TZID=Europe/Berlin:20260510T190000
SUMMARY:Landskron Pokal BSV Limbach-O. vs SG LVB (80030)
UID:c0876873-e931-41c8-886b-a57d2b9c3e5e
STATUS:CONFIRMED
LAST-MODIFIED:20260331T121848Z
DESCRIPTION:HVS-Landskron Pokal\nBegegnungs-Nr: 80030\nHeim: BSV Limbach-O.\nGast: SG LVB\nHalle: BallsportARENA Dresden (33133)\nAdresse: Weißeritzstraße 4\, 01067 Dresden\n
LOCATION:BallsportARENA Dresden (33133): Weißeritzstraße 4\, 01067 Dresden
CATEGORIES:Saison Pokal 2025/26
END:VEVENT
END:VCALENDAR
