BEGIN:VCALENDAR
PRODID:-//nuDatenautomaten//framework iCal4j //DE
VERSION:2.0
CALSCALE:GREGORIAN
BEGIN:VTIMEZONE
TZID:Europe/Berlin
LAST-MODIFIED:20260306T231828Z
TZURL:https://www.tzurl.org/zoneinfo/Europe/Berlin
X-LIC-LOCATION:Europe/Berlin
X-PROLEPTIC-TZNAME:LMT
BEGIN:STANDARD
TZNAME:CET
TZOFFSETFROM:+005328
TZOFFSETTO:+0100
DTSTART:18930401T000000
END:STANDARD
BEGIN:DAYLIGHT
TZNAME:CEST
TZOFFSETFROM:+0100
TZOFFSETTO:+0200
DTSTART:19160430T230000
RDATE:19400401T020000
RDATE:19430329T020000
RDATE:19460414T020000
RDATE:19470406T030000
RDATE:19480418T020000
RDATE:19490410T020000
RDATE:19800406T020000
END:DAYLIGHT
BEGIN:STANDARD
TZNAME:CET
TZOFFSETFROM:+0200
TZOFFSETTO:+0100
DTSTART:19161001T010000
RDATE:19421102T030000
RDATE:19431004T030000
RDATE:19441002T030000
RDATE:19451118T030000
RDATE:19461007T030000
END:STANDARD
BEGIN:DAYLIGHT
TZNAME:CEST
TZOFFSETFROM:+0100
TZOFFSETTO:+0200
DTSTART:19170416T020000
RRULE:FREQ=YEARLY;UNTIL=19180415T010000Z;BYMONTH=4;BYDAY=3MO
END:DAYLIGHT
BEGIN:STANDARD
TZNAME:CET
TZOFFSETFROM:+0200
TZOFFSETTO:+0100
DTSTART:19170917T030000
RRULE:FREQ=YEARLY;UNTIL=19180916T010000Z;BYMONTH=9;BYDAY=3MO
END:STANDARD
BEGIN:DAYLIGHT
TZNAME:CEST
TZOFFSETFROM:+0100
TZOFFSETTO:+0200
DTSTART:19440403T020000
RRULE:FREQ=YEARLY;UNTIL=19450402T010000Z;BYMONTH=4;BYDAY=1MO
END:DAYLIGHT
BEGIN:DAYLIGHT
TZNAME:CEMT
TZOFFSETFROM:+0200
TZOFFSETTO:+0300
DTSTART:19450524T020000
RDATE:19470511T030000
END:DAYLIGHT
BEGIN:DAYLIGHT
TZNAME:CEST
TZOFFSETFROM:+0300
TZOFFSETTO:+0200
DTSTART:19450924T030000
RDATE:19470629T030000
END:DAYLIGHT
BEGIN:STANDARD
TZNAME:CET
TZOFFSETFROM:+0100
TZOFFSETTO:+0100
DTSTART:19460101T000000
RDATE:19800101T000000
END:STANDARD
BEGIN:STANDARD
TZNAME:CET
TZOFFSETFROM:+0200
TZOFFSETTO:+0100
DTSTART:19471005T030000
RRULE:FREQ=YEARLY;UNTIL=19491002T010000Z;BYMONTH=10;BYDAY=1SU
END:STANDARD
BEGIN:STANDARD
TZNAME:CET
TZOFFSETFROM:+0200
TZOFFSETTO:+0100
DTSTART:19800928T030000
RRULE:FREQ=YEARLY;UNTIL=19950924T010000Z;BYMONTH=9;BYDAY=-1SU
END:STANDARD
BEGIN:DAYLIGHT
TZNAME:CEST
TZOFFSETFROM:+0100
TZOFFSETTO:+0200
DTSTART:19810329T020000
RRULE:FREQ=YEARLY;BYMONTH=3;BYDAY=-1SU
END:DAYLIGHT
BEGIN:STANDARD
TZNAME:CET
TZOFFSETFROM:+0200
TZOFFSETTO:+0100
DTSTART:19961027T030000
RRULE:FREQ=YEARLY;BYMONTH=10;BYDAY=-1SU
END:STANDARD
END:VTIMEZONE
BEGIN:VEVENT
DTSTAMP:20260423T070945Z
DTSTART;TZID=Europe/Berlin:20260509T110000
DTEND;TZID=Europe/Berlin:20260509T120000
SUMMARY:ROL gJF Grün-Weiß Niederwiesa vs Geringswalder HV (520023)
UID:4907d168-7976-4fc2-a768-adddd9ed7278
STATUS:CONFIRMED
LAST-MODIFIED:20260327T202612Z
DESCRIPTION:Regionsoberliga gem. F-Jugend\nBegegnungs-Nr: 520023\nHeim: Grün-Weiß Niederwiesa\nGast: Geringswalder HV\nHalle: SH Kurt-Helbig Plauen (32701)\nAdresse: Comeniusstr. 15\, 08523 Plauen\n
LOCATION:SH Kurt-Helbig Plauen (32701): Comeniusstr. 15\, 08523 Plauen
CATEGORIES:Saison 2025/26
END:VEVENT
BEGIN:VEVENT
DTSTAMP:20260423T070945Z
DTSTART;TZID=Europe/Berlin:20251122T143000
DTEND;TZID=Europe/Berlin:20251122T153000
SUMMARY:ROL gJF Grün-Weiß Niederwiesa vs Burgstädter HC (520018)
UID:c4aa8b12-545e-478b-8b85-52b0a83583a2
STATUS:CONFIRMED
DESCRIPTION:Regionsoberliga gem. F-Jugend\nBegegnungs-Nr: 520018\nHeim: Grün-Weiß Niederwiesa\nGast: Burgstädter HC\nHalle: Sporthalle Niederwiesa (32419)\nAdresse: Mühlenstr. 21\, 09577 Niederwiesa\n
LOCATION:Sporthalle Niederwiesa (32419): Mühlenstr. 21\, 09577 Niederwiesa
CATEGORIES:Saison 2025/26
END:VEVENT
BEGIN:VEVENT
DTSTAMP:20260423T070945Z
DTSTART;TZID=Europe/Berlin:20251122T123000
DTEND;TZID=Europe/Berlin:20251122T133000
SUMMARY:ROL gJF Grün-Weiß Niederwiesa vs HSG Freiberg (520016)
UID:b9375d55-9b43-4b71-8509-0367adbb8193
STATUS:CONFIRMED
DESCRIPTION:Regionsoberliga gem. F-Jugend\nBegegnungs-Nr: 520016\nHeim: Grün-Weiß Niederwiesa\nGast: HSG Freiberg\nHalle: Sporthalle Niederwiesa (32419)\nAdresse: Mühlenstr. 21\, 09577 Niederwiesa\n
LOCATION:Sporthalle Niederwiesa (32419): Mühlenstr. 21\, 09577 Niederwiesa
CATEGORIES:Saison 2025/26
END:VEVENT
BEGIN:VEVENT
DTSTAMP:20260423T070945Z
DTSTART;TZID=Europe/Berlin:20251108T143000
DTEND;TZID=Europe/Berlin:20251108T153000
SUMMARY:ROL gJF Grün-Weiß Niederwiesa vs Buteo Youngsters Chemnitz (520009)
UID:6e5cc367-2214-42eb-a8ed-2bb79e453216
STATUS:CONFIRMED
DESCRIPTION:Regionsoberliga gem. F-Jugend\nBegegnungs-Nr: 520009\nHeim: Grün-Weiß Niederwiesa\nGast: Buteo Youngsters Chemnitz\nHalle: Sporthalle Niederwiesa (32419)\nAdresse: Mühlenstr. 21\, 09577 Niederwiesa\n
LOCATION:Sporthalle Niederwiesa (32419): Mühlenstr. 21\, 09577 Niederwiesa
CATEGORIES:Saison 2025/26
END:VEVENT
BEGIN:VEVENT
DTSTAMP:20260423T070945Z
DTSTART;TZID=Europe/Berlin:20251108T123000
DTEND;TZID=Europe/Berlin:20251108T133000
SUMMARY:ROL gJF Grün-Weiß Niederwiesa vs SV 04 Plauen-O. (520007)
UID:cb16b52a-12c5-4671-b7b7-5d21057cd4bb
STATUS:CONFIRMED
DESCRIPTION:Regionsoberliga gem. F-Jugend\nBegegnungs-Nr: 520007\nHeim: Grün-Weiß Niederwiesa\nGast: SV 04 Plauen-O.\nHalle: Sporthalle Niederwiesa (32419)\nAdresse: Mühlenstr. 21\, 09577 Niederwiesa\n
LOCATION:Sporthalle Niederwiesa (32419): Mühlenstr. 21\, 09577 Niederwiesa
CATEGORIES:Saison 2025/26
END:VEVENT
BEGIN:VEVENT
DTSTAMP:20260423T070945Z
DTSTART;TZID=Europe/Berlin:20260328T110000
DTEND;TZID=Europe/Berlin:20260328T120000
SUMMARY:ROL gJF Grün-Weiß Niederwiesa vs Roßweiner SV (520062)
UID:3a94fcbe-48f9-42c0-9224-9e8d944ba027
STATUS:CONFIRMED
DESCRIPTION:Regionsoberliga gem. F-Jugend\nBegegnungs-Nr: 520062\nHeim: Grün-Weiß Niederwiesa\nGast: Roßweiner SV\nHalle: Lok-SH Chemnitz (32111)\nAdresse: Christian-Wehner-Strasse 4\, 09113 Chemnitz\n
LOCATION:Lok-SH Chemnitz (32111): Christian-Wehner-Strasse 4\, 09113 Chemnitz
CATEGORIES:Saison 2025/26
END:VEVENT
BEGIN:VEVENT
DTSTAMP:20260423T070945Z
DTSTART;TZID=Europe/Berlin:20260307T123000
DTEND;TZID=Europe/Berlin:20260307T133000
SUMMARY:ROL gJF Grün-Weiß Niederwiesa vs BSV Limbach-O. (520051)
UID:079c9f89-2412-4ece-8eba-b328083c2808
STATUS:CONFIRMED
DESCRIPTION:Regionsoberliga gem. F-Jugend\nBegegnungs-Nr: 520051\nHeim: Grün-Weiß Niederwiesa\nGast: BSV Limbach-O.\nHalle: Sporthalle Niederwiesa (32419)\nAdresse: Mühlenstr. 21\, 09577 Niederwiesa\n
LOCATION:Sporthalle Niederwiesa (32419): Mühlenstr. 21\, 09577 Niederwiesa
CATEGORIES:Saison 2025/26
END:VEVENT
BEGIN:VEVENT
DTSTAMP:20260423T070945Z
DTSTART;TZID=Europe/Berlin:20260307T103000
DTEND;TZID=Europe/Berlin:20260307T113000
SUMMARY:ROL gJF Grün-Weiß Niederwiesa vs Buteo Youngsters Chemnitz II (520049)
UID:8c198108-57bc-4fe5-ab9a-db9020c2870c
STATUS:CONFIRMED
DESCRIPTION:Regionsoberliga gem. F-Jugend\nBegegnungs-Nr: 520049\nHeim: Grün-Weiß Niederwiesa\nGast: Buteo Youngsters Chemnitz II\nHalle: Sporthalle Niederwiesa (32419)\nAdresse: Mühlenstr. 21\, 09577 Niederwiesa\n
LOCATION:Sporthalle Niederwiesa (32419): Mühlenstr. 21\, 09577 Niederwiesa
CATEGORIES:Saison 2025/26
END:VEVENT
BEGIN:VEVENT
DTSTAMP:20260423T070945Z
DTSTART;TZID=Europe/Berlin:20260111T110000
DTEND;TZID=Europe/Berlin:20260111T120000
SUMMARY:ROL gJF BSV Limbach-O. vs Grün-Weiß Niederwiesa (520032)
UID:63f2181b-da18-417e-bc02-527b22a07cd7
STATUS:CONFIRMED
DESCRIPTION:Regionsoberliga gem. F-Jugend\nBegegnungs-Nr: 520032\nHeim: BSV Limbach-O.\nGast: Grün-Weiß Niederwiesa\nHalle: SH Burgstädt - Sportzentrum am Taurastein (32206)\nAdresse: Am Stadion 22\, 09217  Burgstädt\n
LOCATION:SH Burgstädt - Sportzentrum am Taurastein (32206): Am Stadion 22\, 09217  Burgstädt
CATEGORIES:Saison 2025/26
END:VEVENT
BEGIN:VEVENT
DTSTAMP:20260423T070945Z
DTSTART;TZID=Europe/Berlin:20260111T100000
DTEND;TZID=Europe/Berlin:20260111T110000
SUMMARY:ROL gJF Burgstädter HC vs Grün-Weiß Niederwiesa (520031)
UID:59625099-e9e3-4118-a49b-03c2089dae3f
STATUS:CONFIRMED
DESCRIPTION:Regionsoberliga gem. F-Jugend\nBegegnungs-Nr: 520031\nHeim: Burgstädter HC\nGast: Grün-Weiß Niederwiesa\nHalle: SH Burgstädt - Sportzentrum am Taurastein (32206)\nAdresse: Am Stadion 22\, 09217  Burgstädt\n
LOCATION:SH Burgstädt - Sportzentrum am Taurastein (32206): Am Stadion 22\, 09217  Burgstädt
CATEGORIES:Saison 2025/26
END:VEVENT
BEGIN:VEVENT
DTSTAMP:20260423T070945Z
DTSTART;TZID=Europe/Berlin:20251213T113000
DTEND;TZID=Europe/Berlin:20251213T123000
SUMMARY:ROL gJF Buteo Youngsters Chemnitz vs Grün-Weiß Niederwiesa (520029)
UID:c65bb985-28b1-4307-b588-99177ec594f0
STATUS:CONFIRMED
DESCRIPTION:Regionsoberliga gem. F-Jugend\nBegegnungs-Nr: 520029\nHeim: Buteo Youngsters Chemnitz\nGast: Grün-Weiß Niederwiesa\nHalle: Stadt-SH Roßwein (31203)\nAdresse: Grafestraße 1\, 04741 Roßwein\n
LOCATION:Stadt-SH Roßwein (31203): Grafestraße 1\, 04741 Roßwein
CATEGORIES:Saison 2025/26
END:VEVENT
BEGIN:VEVENT
DTSTAMP:20260423T070945Z
DTSTART;TZID=Europe/Berlin:20251213T103000
DTEND;TZID=Europe/Berlin:20251213T113000
SUMMARY:ROL gJF Roßweiner SV vs Grün-Weiß Niederwiesa (520028)
UID:53bbff81-9cce-4c03-9627-9b8f1fc8fa5b
STATUS:CONFIRMED
DESCRIPTION:Regionsoberliga gem. F-Jugend\nBegegnungs-Nr: 520028\nHeim: Roßweiner SV\nGast: Grün-Weiß Niederwiesa\nHalle: Stadt-SH Roßwein (31203)\nAdresse: Grafestraße 1\, 04741 Roßwein\n
LOCATION:Stadt-SH Roßwein (31203): Grafestraße 1\, 04741 Roßwein
CATEGORIES:Saison 2025/26
END:VEVENT
BEGIN:VEVENT
DTSTAMP:20260423T070945Z
DTSTART;TZID=Europe/Berlin:20260509T100000
DTEND;TZID=Europe/Berlin:20260509T110000
SUMMARY:ROL gJF SV 04 Plauen-O. vs Grün-Weiß Niederwiesa (520022)
UID:973893a1-b602-47bb-9446-891600c9f05d
STATUS:CONFIRMED
LAST-MODIFIED:20260327T202557Z
DESCRIPTION:Regionsoberliga gem. F-Jugend\nBegegnungs-Nr: 520022\nHeim: SV 04 Plauen-O.\nGast: Grün-Weiß Niederwiesa\nHalle: SH Kurt-Helbig Plauen (32701)\nAdresse: Comeniusstr. 15\, 08523 Plauen\n
LOCATION:SH Kurt-Helbig Plauen (32701): Comeniusstr. 15\, 08523 Plauen
CATEGORIES:Saison 2025/26
END:VEVENT
BEGIN:VEVENT
DTSTAMP:20260423T070945Z
DTSTART;TZID=Europe/Berlin:20260426T120000
DTEND;TZID=Europe/Berlin:20260426T130000
SUMMARY:ROL gJF Geringswalder HV vs Grün-Weiß Niederwiesa (520071)
UID:378b2ad3-d481-4900-8bfb-bd02a6de6f20
STATUS:CONFIRMED
DESCRIPTION:Regionsoberliga gem. F-Jugend\nBegegnungs-Nr: 520071\nHeim: Geringswalder HV\nGast: Grün-Weiß Niederwiesa\nHalle: Ernst-Grube-Halle Freiberg (32401)\nAdresse: Tschaikowskistr. 2\, 09599 Freiberg\n
LOCATION:Ernst-Grube-Halle Freiberg (32401): Tschaikowskistr. 2\, 09599 Freiberg
CATEGORIES:Saison 2025/26
END:VEVENT
BEGIN:VEVENT
DTSTAMP:20260423T070945Z
DTSTART;TZID=Europe/Berlin:20260426T110000
DTEND;TZID=Europe/Berlin:20260426T120000
SUMMARY:ROL gJF HSG Freiberg vs Grün-Weiß Niederwiesa (520070)
UID:2564c2e3-a377-4119-b6b5-4debf4e88d2d
STATUS:CONFIRMED
DESCRIPTION:Regionsoberliga gem. F-Jugend\nBegegnungs-Nr: 520070\nHeim: HSG Freiberg\nGast: Grün-Weiß Niederwiesa\nHalle: Ernst-Grube-Halle Freiberg (32401)\nAdresse: Tschaikowskistr. 2\, 09599 Freiberg\n
LOCATION:Ernst-Grube-Halle Freiberg (32401): Tschaikowskistr. 2\, 09599 Freiberg
CATEGORIES:Saison 2025/26
END:VEVENT
BEGIN:VEVENT
DTSTAMP:20260423T070945Z
DTSTART;TZID=Europe/Berlin:20260328T120000
DTEND;TZID=Europe/Berlin:20260328T130000
SUMMARY:ROL gJF Buteo Youngsters Chemnitz II vs Grün-Weiß Niederwiesa (520063)
UID:5df07589-a452-463f-aca7-6732c614027b
STATUS:CONFIRMED
DESCRIPTION:Regionsoberliga gem. F-Jugend\nBegegnungs-Nr: 520063\nHeim: Buteo Youngsters Chemnitz II\nGast: Grün-Weiß Niederwiesa\nHalle: Lok-SH Chemnitz (32111)\nAdresse: Christian-Wehner-Strasse 4\, 09113 Chemnitz\n
LOCATION:Lok-SH Chemnitz (32111): Christian-Wehner-Strasse 4\, 09113 Chemnitz
CATEGORIES:Saison 2025/26
END:VEVENT
END:VCALENDAR
