BEGIN:VCALENDAR
PRODID:-//nuDatenautomaten//framework iCal4j //DE
VERSION:2.0
CALSCALE:GREGORIAN
BEGIN:VTIMEZONE
TZID:Europe/Berlin
LAST-MODIFIED:20260306T231828Z
TZURL:https://www.tzurl.org/zoneinfo/Europe/Berlin
X-LIC-LOCATION:Europe/Berlin
X-PROLEPTIC-TZNAME:LMT
BEGIN:STANDARD
TZNAME:CET
TZOFFSETFROM:+005328
TZOFFSETTO:+0100
DTSTART:18930401T000000
END:STANDARD
BEGIN:DAYLIGHT
TZNAME:CEST
TZOFFSETFROM:+0100
TZOFFSETTO:+0200
DTSTART:19160430T230000
RDATE:19400401T020000
RDATE:19430329T020000
RDATE:19460414T020000
RDATE:19470406T030000
RDATE:19480418T020000
RDATE:19490410T020000
RDATE:19800406T020000
END:DAYLIGHT
BEGIN:STANDARD
TZNAME:CET
TZOFFSETFROM:+0200
TZOFFSETTO:+0100
DTSTART:19161001T010000
RDATE:19421102T030000
RDATE:19431004T030000
RDATE:19441002T030000
RDATE:19451118T030000
RDATE:19461007T030000
END:STANDARD
BEGIN:DAYLIGHT
TZNAME:CEST
TZOFFSETFROM:+0100
TZOFFSETTO:+0200
DTSTART:19170416T020000
RRULE:FREQ=YEARLY;UNTIL=19180415T010000Z;BYMONTH=4;BYDAY=3MO
END:DAYLIGHT
BEGIN:STANDARD
TZNAME:CET
TZOFFSETFROM:+0200
TZOFFSETTO:+0100
DTSTART:19170917T030000
RRULE:FREQ=YEARLY;UNTIL=19180916T010000Z;BYMONTH=9;BYDAY=3MO
END:STANDARD
BEGIN:DAYLIGHT
TZNAME:CEST
TZOFFSETFROM:+0100
TZOFFSETTO:+0200
DTSTART:19440403T020000
RRULE:FREQ=YEARLY;UNTIL=19450402T010000Z;BYMONTH=4;BYDAY=1MO
END:DAYLIGHT
BEGIN:DAYLIGHT
TZNAME:CEMT
TZOFFSETFROM:+0200
TZOFFSETTO:+0300
DTSTART:19450524T020000
RDATE:19470511T030000
END:DAYLIGHT
BEGIN:DAYLIGHT
TZNAME:CEST
TZOFFSETFROM:+0300
TZOFFSETTO:+0200
DTSTART:19450924T030000
RDATE:19470629T030000
END:DAYLIGHT
BEGIN:STANDARD
TZNAME:CET
TZOFFSETFROM:+0100
TZOFFSETTO:+0100
DTSTART:19460101T000000
RDATE:19800101T000000
END:STANDARD
BEGIN:STANDARD
TZNAME:CET
TZOFFSETFROM:+0200
TZOFFSETTO:+0100
DTSTART:19471005T030000
RRULE:FREQ=YEARLY;UNTIL=19491002T010000Z;BYMONTH=10;BYDAY=1SU
END:STANDARD
BEGIN:STANDARD
TZNAME:CET
TZOFFSETFROM:+0200
TZOFFSETTO:+0100
DTSTART:19800928T030000
RRULE:FREQ=YEARLY;UNTIL=19950924T010000Z;BYMONTH=9;BYDAY=-1SU
END:STANDARD
BEGIN:DAYLIGHT
TZNAME:CEST
TZOFFSETFROM:+0100
TZOFFSETTO:+0200
DTSTART:19810329T020000
RRULE:FREQ=YEARLY;BYMONTH=3;BYDAY=-1SU
END:DAYLIGHT
BEGIN:STANDARD
TZNAME:CET
TZOFFSETFROM:+0200
TZOFFSETTO:+0100
DTSTART:19961027T030000
RRULE:FREQ=YEARLY;BYMONTH=10;BYDAY=-1SU
END:STANDARD
END:VTIMEZONE
BEGIN:VEVENT
DTSTAMP:20260425T002724Z
DTSTART;TZID=Europe/Berlin:20260328T143000
DTEND;TZID=Europe/Berlin:20260328T160000
SUMMARY:Regionsliga S-M Frauen St.1 HSG Weißeritztal II vs SSV Heidenau  III (6052)
UID:3fd16b1c-8ded-483e-a324-a0ffe3ba8c99
STATUS:CONFIRMED
LAST-MODIFIED:20260329T160940Z
DESCRIPTION:Regionsliga S-M Frauen Staffel 1\nBegegnungs-Nr: 6052\nHeim: HSG Weißeritztal II\nGast: SSV Heidenau  III\nHalle: Saubach-SH Wilsdruff (33208)\nAdresse: Nossener Str. 21b\, 01723 Wilsdruff\n
LOCATION:Saubach-SH Wilsdruff (33208): Nossener Str. 21b\, 01723 Wilsdruff
CATEGORIES:Saison 2025/26
END:VEVENT
BEGIN:VEVENT
DTSTAMP:20260425T002724Z
DTSTART;TZID=Europe/Berlin:20260307T163000
DTEND;TZID=Europe/Berlin:20260307T180000
SUMMARY:Regionsliga S-M Frauen St.1 HSG Weißeritztal II vs SG Dresdner Bank (6045)
UID:94025264-3809-4d7d-a910-d296947c8405
STATUS:CONFIRMED
LAST-MODIFIED:20260307T173924Z
DESCRIPTION:Regionsliga S-M Frauen Staffel 1\nBegegnungs-Nr: 6045\nHeim: HSG Weißeritztal II\nGast: SG Dresdner Bank\nHalle: Saubach-SH Wilsdruff (33208)\nAdresse: Nossener Str. 21b\, 01723 Wilsdruff\n
LOCATION:Saubach-SH Wilsdruff (33208): Nossener Str. 21b\, 01723 Wilsdruff
CATEGORIES:Saison 2025/26
END:VEVENT
BEGIN:VEVENT
DTSTAMP:20260425T002724Z
DTSTART;TZID=Europe/Berlin:20260207T150000
DTEND;TZID=Europe/Berlin:20260207T163000
SUMMARY:Regionsliga S-M Frauen St.1 HSG Weißeritztal II vs HSV Weinböhla II (6041)
UID:d4405ad7-f227-4419-b453-c22ced60219a
STATUS:CONFIRMED
LAST-MODIFIED:20260207T175618Z
DESCRIPTION:Regionsliga S-M Frauen Staffel 1\nBegegnungs-Nr: 6041\nHeim: HSG Weißeritztal II\nGast: HSV Weinböhla II\nHalle: Saubach-SH Wilsdruff (33208)\nAdresse: Nossener Str. 21b\, 01723 Wilsdruff\n
LOCATION:Saubach-SH Wilsdruff (33208): Nossener Str. 21b\, 01723 Wilsdruff
CATEGORIES:Saison 2025/26
END:VEVENT
BEGIN:VEVENT
DTSTAMP:20260425T002724Z
DTSTART;TZID=Europe/Berlin:20260124T160000
DTEND;TZID=Europe/Berlin:20260124T173000
SUMMARY:Regionsliga S-M Frauen St.1 HSG Weißeritztal II vs SF 01 Dresden III (6038)
UID:2fdcf87c-3f8b-4d08-8fa4-8505590371b2
STATUS:CONFIRMED
LAST-MODIFIED:20260125T181748Z
DESCRIPTION:Regionsliga S-M Frauen Staffel 1\nBegegnungs-Nr: 6038\nHeim: HSG Weißeritztal II\nGast: SF 01 Dresden III\nHalle: Saubach-SH Wilsdruff (33208)\nAdresse: Nossener Str. 21b\, 01723 Wilsdruff\n
LOCATION:Saubach-SH Wilsdruff (33208): Nossener Str. 21b\, 01723 Wilsdruff
CATEGORIES:Saison 2025/26
END:VEVENT
BEGIN:VEVENT
DTSTAMP:20260425T002724Z
DTSTART;TZID=Europe/Berlin:20251130T160000
DTEND;TZID=Europe/Berlin:20251130T173000
SUMMARY:Regionsliga S-M Frauen St.1 HSG Weißeritztal II vs SC Riesa II (6021)
UID:a1a8f271-5440-4cb4-a6a4-1138bc6155fa
STATUS:CONFIRMED
LAST-MODIFIED:20251130T184034Z
DESCRIPTION:Regionsliga S-M Frauen Staffel 1\nBegegnungs-Nr: 6021\nHeim: HSG Weißeritztal II\nGast: SC Riesa II\nHalle: Saubach-SH Wilsdruff (33208)\nAdresse: Nossener Str. 21b\, 01723 Wilsdruff\n
LOCATION:Saubach-SH Wilsdruff (33208): Nossener Str. 21b\, 01723 Wilsdruff
CATEGORIES:Saison 2025/26
END:VEVENT
BEGIN:VEVENT
DTSTAMP:20260425T002724Z
DTSTART;TZID=Europe/Berlin:20251206T140000
DTEND;TZID=Europe/Berlin:20251206T153000
SUMMARY:Regionsliga S-M Frauen St.1 HSG Weißeritztal II vs Radebeuler HV II (6012)
UID:95ce78a2-10e1-4155-8828-162207799153
STATUS:CONFIRMED
LAST-MODIFIED:20251206T181858Z
DESCRIPTION:Regionsliga S-M Frauen Staffel 1\nBegegnungs-Nr: 6012\nHeim: HSG Weißeritztal II\nGast: Radebeuler HV II\nHalle: Saubach-SH Wilsdruff (33208)\nAdresse: Nossener Str. 21b\, 01723 Wilsdruff\n
LOCATION:Saubach-SH Wilsdruff (33208): Nossener Str. 21b\, 01723 Wilsdruff
CATEGORIES:Saison 2025/26
END:VEVENT
BEGIN:VEVENT
DTSTAMP:20260425T002724Z
DTSTART;TZID=Europe/Berlin:20250906T123000
DTEND;TZID=Europe/Berlin:20250906T140000
SUMMARY:Regionsliga S-M Frauen St.1 HSG Weißeritztal II vs ESV Dresden III (6007)
UID:7016b547-d9ef-477f-adef-502759353601
STATUS:CONFIRMED
LAST-MODIFIED:20250906T173115Z
DESCRIPTION:Regionsliga S-M Frauen Staffel 1\nBegegnungs-Nr: 6007\nHeim: HSG Weißeritztal II\nGast: ESV Dresden III\nHalle: Saubach-SH Wilsdruff (33208)\nAdresse: Nossener Str. 21b\, 01723 Wilsdruff\n
LOCATION:Saubach-SH Wilsdruff (33208): Nossener Str. 21b\, 01723 Wilsdruff
CATEGORIES:Saison 2025/26
END:VEVENT
BEGIN:VEVENT
DTSTAMP:20260425T002724Z
DTSTART;TZID=Europe/Berlin:20260418T110000
DTEND;TZID=Europe/Berlin:20260418T123000
SUMMARY:Regionsliga S-M Frauen St.1 SC Riesa II vs HSG Weißeritztal II (6049)
UID:524e5363-c087-4b38-ab7b-04e4faabf574
STATUS:CONFIRMED
LAST-MODIFIED:20260418T170410Z
DESCRIPTION:Regionsliga S-M Frauen Staffel 1\nBegegnungs-Nr: 6049\nHeim: SC Riesa II\nGast: HSG Weißeritztal II\nHalle: WM-Sporthalle Riesa (33213)\nAdresse: Am Sportzentrum 1\, 01587 Riesa\n
LOCATION:WM-Sporthalle Riesa (33213): Am Sportzentrum 1\, 01587 Riesa
CATEGORIES:Saison 2025/26
END:VEVENT
BEGIN:VEVENT
DTSTAMP:20260425T002724Z
DTSTART;TZID=Europe/Berlin:20260201T140000
DTEND;TZID=Europe/Berlin:20260201T153000
SUMMARY:Regionsliga S-M Frauen St.1 Radebeuler HV II vs HSG Weißeritztal II (6040)
UID:781a49f2-e2f1-4fcd-989f-4be7052d7272
STATUS:CONFIRMED
LAST-MODIFIED:20260201T184647Z
DESCRIPTION:Regionsliga S-M Frauen Staffel 1\nBegegnungs-Nr: 6040\nHeim: Radebeuler HV II\nGast: HSG Weißeritztal II\nHalle: Elb-SH Radebeul West (33203)\nAdresse: An der Festwiese 1\, 01445 Radebeul\n
LOCATION:Elb-SH Radebeul West (33203): An der Festwiese 1\, 01445 Radebeul
CATEGORIES:Saison 2025/26
END:VEVENT
BEGIN:VEVENT
DTSTAMP:20260425T002724Z
DTSTART;TZID=Europe/Berlin:20260118T130000
DTEND;TZID=Europe/Berlin:20260118T143000
SUMMARY:Regionsliga S-M Frauen St.1 ESV Dresden III vs HSG Weißeritztal II (6035)
UID:fda5c279-8ba3-4759-9857-0af286cc383a
STATUS:CONFIRMED
LAST-MODIFIED:20260118T175254Z
DESCRIPTION:Regionsliga S-M Frauen Staffel 1\nBegegnungs-Nr: 6035\nHeim: ESV Dresden III\nGast: HSG Weißeritztal II\nHalle: Lok-SH Dresden (33106)\nAdresse: Emmerich-Ambros-Ufer 74\, 01159 Dresden\n
LOCATION:Lok-SH Dresden (33106): Emmerich-Ambros-Ufer 74\, 01159 Dresden
CATEGORIES:Saison 2025/26
END:VEVENT
BEGIN:VEVENT
DTSTAMP:20260425T002724Z
DTSTART;TZID=Europe/Berlin:20251122T130000
DTEND;TZID=Europe/Berlin:20251122T143000
SUMMARY:Regionsliga S-M Frauen St.1 SSV Heidenau  III vs HSG Weißeritztal II (6024)
UID:78ac7490-31d4-42e8-b0e1-ace7388def34
STATUS:CONFIRMED
LAST-MODIFIED:20251122T175602Z
DESCRIPTION:Regionsliga S-M Frauen Staffel 1\nBegegnungs-Nr: 6024\nHeim: SSV Heidenau  III\nGast: HSG Weißeritztal II\nHalle: SH Pestalozzi-Gymnasium Heidenau (33306)\nAdresse: Hauptstraße 37\, 01809 Heidenau\n
LOCATION:SH Pestalozzi-Gymnasium Heidenau (33306): Hauptstraße 37\, 01809 Heidenau
CATEGORIES:Saison 2025/26
END:VEVENT
BEGIN:VEVENT
DTSTAMP:20260425T002724Z
DTSTART;TZID=Europe/Berlin:20251102T150000
DTEND;TZID=Europe/Berlin:20251102T163000
SUMMARY:Regionsliga S-M Frauen St.1 SG Dresdner Bank vs HSG Weißeritztal II (6017)
UID:071946b9-fd07-478a-a2a2-1d8e335f7e28
STATUS:CONFIRMED
LAST-MODIFIED:20251102T180108Z
DESCRIPTION:Regionsliga S-M Frauen Staffel 1\nBegegnungs-Nr: 6017\nHeim: SG Dresdner Bank\nGast: HSG Weißeritztal II\nHalle: SH 117. Grundschule Dresden (33132)\nAdresse: Reichenbachstr. 12\, 01069 Dresden\n
LOCATION:SH 117. Grundschule Dresden (33132): Reichenbachstr. 12\, 01069 Dresden
CATEGORIES:Saison 2025/26
END:VEVENT
BEGIN:VEVENT
DTSTAMP:20260425T002724Z
DTSTART;TZID=Europe/Berlin:20250928T143000
DTEND;TZID=Europe/Berlin:20250928T160000
SUMMARY:Regionsliga S-M Frauen St.1 HSV Weinböhla II vs HSG Weißeritztal II (6013)
UID:8213c85a-d763-4eb3-af71-6b56e409422c
STATUS:CONFIRMED
LAST-MODIFIED:20250929T173830Z
DESCRIPTION:Regionsliga S-M Frauen Staffel 1\nBegegnungs-Nr: 6013\nHeim: HSV Weinböhla II\nGast: HSG Weißeritztal II\nHalle: Nassau-SH Weinböhla (33224)\nAdresse: Meißner Str. 1\, 01689 Weinböhla\n
LOCATION:Nassau-SH Weinböhla (33224): Meißner Str. 1\, 01689 Weinböhla
CATEGORIES:Saison 2025/26
END:VEVENT
BEGIN:VEVENT
DTSTAMP:20260425T002724Z
DTSTART;TZID=Europe/Berlin:20250914T120000
DTEND;TZID=Europe/Berlin:20250914T133000
SUMMARY:Regionsliga S-M Frauen St.1 SF 01 Dresden III vs HSG Weißeritztal II (6010)
UID:2755324a-882f-4ba1-93c5-ffd27bd78069
STATUS:CONFIRMED
LAST-MODIFIED:20250914T165355Z
DESCRIPTION:Regionsliga S-M Frauen Staffel 1\nBegegnungs-Nr: 6010\nHeim: SF 01 Dresden III\nGast: HSG Weißeritztal II\nHalle: SH 151. Gesamtschule Dresden (33142)\nAdresse: Stauffenbergallee 8\, 01099 Dresden\n
LOCATION:SH 151. Gesamtschule Dresden (33142): Stauffenbergallee 8\, 01099 Dresden
CATEGORIES:Saison 2025/26
END:VEVENT
END:VCALENDAR
