BEGIN:VCALENDAR
PRODID:-//nuDatenautomaten//framework iCal4j //DE
VERSION:2.0
CALSCALE:GREGORIAN
BEGIN:VTIMEZONE
TZID:Europe/Berlin
LAST-MODIFIED:20260306T231828Z
TZURL:https://www.tzurl.org/zoneinfo/Europe/Berlin
X-LIC-LOCATION:Europe/Berlin
X-PROLEPTIC-TZNAME:LMT
BEGIN:STANDARD
TZNAME:CET
TZOFFSETFROM:+005328
TZOFFSETTO:+0100
DTSTART:18930401T000000
END:STANDARD
BEGIN:DAYLIGHT
TZNAME:CEST
TZOFFSETFROM:+0100
TZOFFSETTO:+0200
DTSTART:19160430T230000
RDATE:19400401T020000
RDATE:19430329T020000
RDATE:19460414T020000
RDATE:19470406T030000
RDATE:19480418T020000
RDATE:19490410T020000
RDATE:19800406T020000
END:DAYLIGHT
BEGIN:STANDARD
TZNAME:CET
TZOFFSETFROM:+0200
TZOFFSETTO:+0100
DTSTART:19161001T010000
RDATE:19421102T030000
RDATE:19431004T030000
RDATE:19441002T030000
RDATE:19451118T030000
RDATE:19461007T030000
END:STANDARD
BEGIN:DAYLIGHT
TZNAME:CEST
TZOFFSETFROM:+0100
TZOFFSETTO:+0200
DTSTART:19170416T020000
RRULE:FREQ=YEARLY;UNTIL=19180415T010000Z;BYMONTH=4;BYDAY=3MO
END:DAYLIGHT
BEGIN:STANDARD
TZNAME:CET
TZOFFSETFROM:+0200
TZOFFSETTO:+0100
DTSTART:19170917T030000
RRULE:FREQ=YEARLY;UNTIL=19180916T010000Z;BYMONTH=9;BYDAY=3MO
END:STANDARD
BEGIN:DAYLIGHT
TZNAME:CEST
TZOFFSETFROM:+0100
TZOFFSETTO:+0200
DTSTART:19440403T020000
RRULE:FREQ=YEARLY;UNTIL=19450402T010000Z;BYMONTH=4;BYDAY=1MO
END:DAYLIGHT
BEGIN:DAYLIGHT
TZNAME:CEMT
TZOFFSETFROM:+0200
TZOFFSETTO:+0300
DTSTART:19450524T020000
RDATE:19470511T030000
END:DAYLIGHT
BEGIN:DAYLIGHT
TZNAME:CEST
TZOFFSETFROM:+0300
TZOFFSETTO:+0200
DTSTART:19450924T030000
RDATE:19470629T030000
END:DAYLIGHT
BEGIN:STANDARD
TZNAME:CET
TZOFFSETFROM:+0100
TZOFFSETTO:+0100
DTSTART:19460101T000000
RDATE:19800101T000000
END:STANDARD
BEGIN:STANDARD
TZNAME:CET
TZOFFSETFROM:+0200
TZOFFSETTO:+0100
DTSTART:19471005T030000
RRULE:FREQ=YEARLY;UNTIL=19491002T010000Z;BYMONTH=10;BYDAY=1SU
END:STANDARD
BEGIN:STANDARD
TZNAME:CET
TZOFFSETFROM:+0200
TZOFFSETTO:+0100
DTSTART:19800928T030000
RRULE:FREQ=YEARLY;UNTIL=19950924T010000Z;BYMONTH=9;BYDAY=-1SU
END:STANDARD
BEGIN:DAYLIGHT
TZNAME:CEST
TZOFFSETFROM:+0100
TZOFFSETTO:+0200
DTSTART:19810329T020000
RRULE:FREQ=YEARLY;BYMONTH=3;BYDAY=-1SU
END:DAYLIGHT
BEGIN:STANDARD
TZNAME:CET
TZOFFSETFROM:+0200
TZOFFSETTO:+0100
DTSTART:19961027T030000
RRULE:FREQ=YEARLY;BYMONTH=10;BYDAY=-1SU
END:STANDARD
END:VTIMEZONE
BEGIN:VEVENT
DTSTAMP:20260421T001415Z
DTSTART;TZID=Europe/Berlin:20260228T131500
DTEND;TZID=Europe/Berlin:20260228T141500
SUMMARY:Regionsoberliga mCJ HSV 1923 Pulsnitz vs OHC Bernstadt (8097)
UID:e496c220-a636-4869-a193-359711b6bd98
STATUS:CONFIRMED
LAST-MODIFIED:20260301T100607Z
DESCRIPTION:Regionsoberliga  mCJ\nBegegnungs-Nr: 8097\nHeim: HSV 1923 Pulsnitz\nGast: OHC Bernstadt\nHalle: Sportkomplex Pulsnitz (34208)\nAdresse: Hempelstr. 8\, 01896 Pulsnitz\n
LOCATION:Sportkomplex Pulsnitz (34208): Hempelstr. 8\, 01896 Pulsnitz
CATEGORIES:Saison 2025/26
END:VEVENT
BEGIN:VEVENT
DTSTAMP:20260421T001415Z
DTSTART;TZID=Europe/Berlin:20260321T131500
DTEND;TZID=Europe/Berlin:20260321T141500
SUMMARY:Regionsoberliga mCJ HSV 1923 Pulsnitz vs TBSV Neugersdorf (8109)
UID:29864e2b-f852-434f-846c-231171513dd4
STATUS:CONFIRMED
LAST-MODIFIED:20260326T134246Z
DESCRIPTION:Regionsoberliga  mCJ\nBegegnungs-Nr: 8109\nHeim: HSV 1923 Pulsnitz\nGast: TBSV Neugersdorf\nHalle: Sportkomplex Pulsnitz (34208)\nAdresse: Hempelstr. 8\, 01896 Pulsnitz\n
LOCATION:Sportkomplex Pulsnitz (34208): Hempelstr. 8\, 01896 Pulsnitz
CATEGORIES:Saison 2025/26
END:VEVENT
BEGIN:VEVENT
DTSTAMP:20260421T001415Z
DTSTART;TZID=Europe/Berlin:20250913T121500
DTEND;TZID=Europe/Berlin:20250913T131500
SUMMARY:Regionsoberliga mCJ HSV 1923 Pulsnitz vs SG Cunewalde/Sohland (8013)
UID:8b6d27ca-121e-432e-ba87-a5786d719f12
STATUS:CONFIRMED
LAST-MODIFIED:20250924T195008Z
DESCRIPTION:Regionsoberliga  mCJ\nBegegnungs-Nr: 8013\nHeim: HSV 1923 Pulsnitz\nGast: SG Cunewalde/Sohland\nHalle: Sportkomplex Pulsnitz (34208)\nAdresse: Hempelstr. 8\, 01896 Pulsnitz\n
LOCATION:Sportkomplex Pulsnitz (34208): Hempelstr. 8\, 01896 Pulsnitz
CATEGORIES:Saison 2025/26
END:VEVENT
BEGIN:VEVENT
DTSTAMP:20260421T001415Z
DTSTART;TZID=Europe/Berlin:20251122T131500
DTEND;TZID=Europe/Berlin:20251122T141500
SUMMARY:Regionsoberliga mCJ HSV 1923 Pulsnitz vs Stahl Rietschen (8049)
UID:2b29d6b6-2a3c-4f1f-b4fc-d97441a5fd1a
STATUS:CONFIRMED
LAST-MODIFIED:20251201T063109Z
DESCRIPTION:Regionsoberliga  mCJ\nBegegnungs-Nr: 8049\nHeim: HSV 1923 Pulsnitz\nGast: Stahl Rietschen\nHalle: Sportkomplex Pulsnitz (34208)\nAdresse: Hempelstr. 8\, 01896 Pulsnitz\n
LOCATION:Sportkomplex Pulsnitz (34208): Hempelstr. 8\, 01896 Pulsnitz
CATEGORIES:Saison 2025/26
END:VEVENT
BEGIN:VEVENT
DTSTAMP:20260421T001415Z
DTSTART;TZID=Europe/Berlin:20260117T121500
DTEND;TZID=Europe/Berlin:20260117T131500
SUMMARY:Regionsoberliga mCJ HSV 1923 Pulsnitz vs HVH Kamenz (8073)
UID:39069f75-18b2-43a9-b98a-34defc22438e
STATUS:CONFIRMED
LAST-MODIFIED:20260301T100023Z
DESCRIPTION:Regionsoberliga  mCJ\nBegegnungs-Nr: 8073\nHeim: HSV 1923 Pulsnitz\nGast: HVH Kamenz\nHalle: Sportkomplex Pulsnitz (34208)\nAdresse: Hempelstr. 8\, 01896 Pulsnitz\n
LOCATION:Sportkomplex Pulsnitz (34208): Hempelstr. 8\, 01896 Pulsnitz
CATEGORIES:Saison 2025/26
END:VEVENT
BEGIN:VEVENT
DTSTAMP:20260421T001415Z
DTSTART;TZID=Europe/Berlin:20260131T131500
DTEND;TZID=Europe/Berlin:20260131T141500
SUMMARY:Regionsoberliga mCJ HSV 1923 Pulsnitz vs Radeberger SV II (8085)
UID:f79180c4-9f54-4100-96c0-690d1696bedc
STATUS:CONFIRMED
LAST-MODIFIED:20260301T100407Z
DESCRIPTION:Regionsoberliga  mCJ\nBegegnungs-Nr: 8085\nHeim: HSV 1923 Pulsnitz\nGast: Radeberger SV II\nHalle: Sportkomplex Pulsnitz (34208)\nAdresse: Hempelstr. 8\, 01896 Pulsnitz\n
LOCATION:Sportkomplex Pulsnitz (34208): Hempelstr. 8\, 01896 Pulsnitz
CATEGORIES:Saison 2025/26
END:VEVENT
BEGIN:VEVENT
DTSTAMP:20260421T001415Z
DTSTART;TZID=Europe/Berlin:20260329T133000
DTEND;TZID=Europe/Berlin:20260329T143000
SUMMARY:Regionsoberliga mCJ Stahl Rietschen vs HSV 1923 Pulsnitz (8115)
UID:97422fcd-4950-495a-a09b-a9aa8ad9ad54
STATUS:CONFIRMED
LAST-MODIFIED:20260331T195259Z
DESCRIPTION:Regionsoberliga  mCJ\nBegegnungs-Nr: 8115\nHeim: Stahl Rietschen\nGast: HSV 1923 Pulsnitz\nHalle: Oberlausitz-SH Rietschen (34403)\nAdresse: Am Festplatz 1\, 02956 Rietschen\n
LOCATION:Oberlausitz-SH Rietschen (34403): Am Festplatz 1\, 02956 Rietschen
CATEGORIES:Saison 2025/26
END:VEVENT
BEGIN:VEVENT
DTSTAMP:20260421T001415Z
DTSTART;TZID=Europe/Berlin:20250906T113000
DTEND;TZID=Europe/Berlin:20250906T123000
SUMMARY:Regionsoberliga mCJ HVH Kamenz vs HSV 1923 Pulsnitz (8007)
UID:fb5700d6-c47a-4fce-b042-b8a3e879a7a8
STATUS:CONFIRMED
LAST-MODIFIED:20250924T194718Z
DESCRIPTION:Regionsoberliga  mCJ\nBegegnungs-Nr: 8007\nHeim: HVH Kamenz\nGast: HSV 1923 Pulsnitz\nHalle: SH Albert-Schweitzer-Gymnasium Kamenz (34204)\nAdresse: Am Flugplatz\, 01917 Kamenz\, Parkplatz - Macherstraße 142\n
LOCATION:SH Albert-Schweitzer-Gymnasium Kamenz (34204): Am Flugplatz\, 01917 Kamenz\, Parkplatz - Macherstraße 142
CATEGORIES:Saison 2025/26
END:VEVENT
BEGIN:VEVENT
DTSTAMP:20260421T001415Z
DTSTART;TZID=Europe/Berlin:20250920T145500
DTEND;TZID=Europe/Berlin:20250920T155500
SUMMARY:Regionsoberliga mCJ Radeberger SV II vs HSV 1923 Pulsnitz (8019)
UID:1e97051e-372c-42ed-bb55-2c4a4ff45857
STATUS:CONFIRMED
LAST-MODIFIED:20250924T195107Z
DESCRIPTION:Regionsoberliga  mCJ\nBegegnungs-Nr: 8019\nHeim: Radeberger SV II\nGast: HSV 1923 Pulsnitz\nHalle: 3-Feld-Halle-BSZ Radeberg (34209)\nAdresse: Robert-Blum-Weg 5\, 01454 Radeberg\n
LOCATION:3-Feld-Halle-BSZ Radeberg (34209): Robert-Blum-Weg 5\, 01454 Radeberg
CATEGORIES:Saison 2025/26
END:VEVENT
BEGIN:VEVENT
DTSTAMP:20260421T001415Z
DTSTART;TZID=Europe/Berlin:20251026T090000
DTEND;TZID=Europe/Berlin:20251026T100000
SUMMARY:Regionsoberliga mCJ OHC Bernstadt vs HSV 1923 Pulsnitz (8031)
UID:46955613-eef5-437c-b805-81e85aebf6f3
STATUS:CONFIRMED
LAST-MODIFIED:20251103T043524Z
DESCRIPTION:Regionsoberliga  mCJ\nBegegnungs-Nr: 8031\nHeim: OHC Bernstadt\nGast: HSV 1923 Pulsnitz\nHalle: Sporthalle \"Pließnitztal\" Bernstadt (34108)\nAdresse: Am Pließnitztal 3\, 02748 Bernstadt a.d. Eigen OT Kunnersdorf\n
LOCATION:Sporthalle \"Pließnitztal\" Bernstadt (34108): Am Pließnitztal 3\, 02748 Bernstadt a.d. Eigen OT Kunnersdorf
CATEGORIES:Saison 2025/26
END:VEVENT
BEGIN:VEVENT
DTSTAMP:20260421T001415Z
DTSTART;TZID=Europe/Berlin:20251108T104000
DTEND;TZID=Europe/Berlin:20251108T114000
SUMMARY:Regionsoberliga mCJ TBSV Neugersdorf vs HSV 1923 Pulsnitz (8043)
UID:953bff23-22d5-4db3-9710-bc374f21ecee
STATUS:CONFIRMED
LAST-MODIFIED:20251111T161024Z
DESCRIPTION:Regionsoberliga  mCJ\nBegegnungs-Nr: 8043\nHeim: TBSV Neugersdorf\nGast: HSV 1923 Pulsnitz\nHalle: FSZ Oberland \"Albert Schweitzer\" (34112)\nAdresse: Friedrich-Ebert-Str.27\, 02730 Ebersbach-Neugersdorf\n
LOCATION:FSZ Oberland \"Albert Schweitzer\" (34112): Friedrich-Ebert-Str.27\, 02730 Ebersbach-Neugersdorf
CATEGORIES:Saison 2025/26
END:VEVENT
BEGIN:VEVENT
DTSTAMP:20260421T001415Z
DTSTART;TZID=Europe/Berlin:20260125T140000
DTEND;TZID=Europe/Berlin:20260125T150000
SUMMARY:Regionsoberliga mCJ SG Cunewalde/Sohland vs HSV 1923 Pulsnitz (8079)
UID:729cc42b-fecb-42a6-87bc-37b1a7781a4c
STATUS:CONFIRMED
LAST-MODIFIED:20260301T100327Z
DESCRIPTION:Regionsoberliga  mCJ\nBegegnungs-Nr: 8079\nHeim: SG Cunewalde/Sohland\nGast: HSV 1923 Pulsnitz\nHalle: \"Oberland-Sporthalle\" Sohland (34501)\nAdresse: G. - Hauptmann - Str. 4 A\, 02689 Sohland\n
LOCATION:\"Oberland-Sporthalle\" Sohland (34501): G. - Hauptmann - Str. 4 A\, 02689 Sohland
CATEGORIES:Saison 2025/26
END:VEVENT
END:VCALENDAR
