BEGIN:VCALENDAR
PRODID:-//nuDatenautomaten//framework iCal4j //DE
VERSION:2.0
CALSCALE:GREGORIAN
BEGIN:VTIMEZONE
TZID:Europe/Berlin
LAST-MODIFIED:20260306T231828Z
TZURL:https://www.tzurl.org/zoneinfo/Europe/Berlin
X-LIC-LOCATION:Europe/Berlin
X-PROLEPTIC-TZNAME:LMT
BEGIN:STANDARD
TZNAME:CET
TZOFFSETFROM:+005328
TZOFFSETTO:+0100
DTSTART:18930401T000000
END:STANDARD
BEGIN:DAYLIGHT
TZNAME:CEST
TZOFFSETFROM:+0100
TZOFFSETTO:+0200
DTSTART:19160430T230000
RDATE:19400401T020000
RDATE:19430329T020000
RDATE:19460414T020000
RDATE:19470406T030000
RDATE:19480418T020000
RDATE:19490410T020000
RDATE:19800406T020000
END:DAYLIGHT
BEGIN:STANDARD
TZNAME:CET
TZOFFSETFROM:+0200
TZOFFSETTO:+0100
DTSTART:19161001T010000
RDATE:19421102T030000
RDATE:19431004T030000
RDATE:19441002T030000
RDATE:19451118T030000
RDATE:19461007T030000
END:STANDARD
BEGIN:DAYLIGHT
TZNAME:CEST
TZOFFSETFROM:+0100
TZOFFSETTO:+0200
DTSTART:19170416T020000
RRULE:FREQ=YEARLY;UNTIL=19180415T010000Z;BYMONTH=4;BYDAY=3MO
END:DAYLIGHT
BEGIN:STANDARD
TZNAME:CET
TZOFFSETFROM:+0200
TZOFFSETTO:+0100
DTSTART:19170917T030000
RRULE:FREQ=YEARLY;UNTIL=19180916T010000Z;BYMONTH=9;BYDAY=3MO
END:STANDARD
BEGIN:DAYLIGHT
TZNAME:CEST
TZOFFSETFROM:+0100
TZOFFSETTO:+0200
DTSTART:19440403T020000
RRULE:FREQ=YEARLY;UNTIL=19450402T010000Z;BYMONTH=4;BYDAY=1MO
END:DAYLIGHT
BEGIN:DAYLIGHT
TZNAME:CEMT
TZOFFSETFROM:+0200
TZOFFSETTO:+0300
DTSTART:19450524T020000
RDATE:19470511T030000
END:DAYLIGHT
BEGIN:DAYLIGHT
TZNAME:CEST
TZOFFSETFROM:+0300
TZOFFSETTO:+0200
DTSTART:19450924T030000
RDATE:19470629T030000
END:DAYLIGHT
BEGIN:STANDARD
TZNAME:CET
TZOFFSETFROM:+0100
TZOFFSETTO:+0100
DTSTART:19460101T000000
RDATE:19800101T000000
END:STANDARD
BEGIN:STANDARD
TZNAME:CET
TZOFFSETFROM:+0200
TZOFFSETTO:+0100
DTSTART:19471005T030000
RRULE:FREQ=YEARLY;UNTIL=19491002T010000Z;BYMONTH=10;BYDAY=1SU
END:STANDARD
BEGIN:STANDARD
TZNAME:CET
TZOFFSETFROM:+0200
TZOFFSETTO:+0100
DTSTART:19800928T030000
RRULE:FREQ=YEARLY;UNTIL=19950924T010000Z;BYMONTH=9;BYDAY=-1SU
END:STANDARD
BEGIN:DAYLIGHT
TZNAME:CEST
TZOFFSETFROM:+0100
TZOFFSETTO:+0200
DTSTART:19810329T020000
RRULE:FREQ=YEARLY;BYMONTH=3;BYDAY=-1SU
END:DAYLIGHT
BEGIN:STANDARD
TZNAME:CET
TZOFFSETFROM:+0200
TZOFFSETTO:+0100
DTSTART:19961027T030000
RRULE:FREQ=YEARLY;BYMONTH=10;BYDAY=-1SU
END:STANDARD
END:VTIMEZONE
BEGIN:VEVENT
DTSTAMP:20260424T055522Z
DTSTART;TZID=Europe/Berlin:20250928T100000
DTEND;TZID=Europe/Berlin:20250928T110000
SUMMARY:Regionsliga S-M mJD Blau-Weiß Gröditz vs SG Pirna/Heidenau II (61052)
UID:8dd065b4-93b5-4441-91a8-bbb3f68bb17e
STATUS:CONFIRMED
LAST-MODIFIED:20251003T070621Z
DESCRIPTION:Regionsliga S-M mJD\nBegegnungs-Nr: 61052\nHeim: Blau-Weiß Gröditz\nGast: SG Pirna/Heidenau II\nHalle: SH Gymnasium Klotzsche (33126)\nAdresse: Karl-Marx-Straße 44\, 01109 Dresden\n
LOCATION:SH Gymnasium Klotzsche (33126): Karl-Marx-Straße 44\, 01109 Dresden
CATEGORIES:Saison 2025/26
END:VEVENT
BEGIN:VEVENT
DTSTAMP:20260424T055522Z
DTSTART;TZID=Europe/Berlin:20251206T100000
DTEND;TZID=Europe/Berlin:20251206T110000
SUMMARY:Regionsliga S-M mJD Blau-Weiß Gröditz vs SC Riesa II (61141)
UID:10a191e9-22d6-4463-afd7-b8a8de3e531c
STATUS:CONFIRMED
LAST-MODIFIED:20251208T075424Z
DESCRIPTION:Regionsliga S-M mJD\nBegegnungs-Nr: 61141\nHeim: Blau-Weiß Gröditz\nGast: SC Riesa II\nHalle: Röder-Elster-Sporthalle Gröditz (33239)\nAdresse: Waldweg 3c\, 01609 Gröditz\n
LOCATION:Röder-Elster-Sporthalle Gröditz (33239): Waldweg 3c\, 01609 Gröditz
CATEGORIES:Saison 2025/26
END:VEVENT
BEGIN:VEVENT
DTSTAMP:20260424T055522Z
DTSTART;TZID=Europe/Berlin:20251206T130000
DTEND;TZID=Europe/Berlin:20251206T140000
SUMMARY:Regionsliga S-M mJD Blau-Weiß Gröditz vs SG Weixdorf (61144)
UID:26abd1de-ce8a-44e9-8ad6-2190dc005bf3
STATUS:CONFIRMED
LAST-MODIFIED:20251208T074305Z
DESCRIPTION:Regionsliga S-M mJD\nBegegnungs-Nr: 61144\nHeim: Blau-Weiß Gröditz\nGast: SG Weixdorf\nHalle: Röder-Elster-Sporthalle Gröditz (33239)\nAdresse: Waldweg 3c\, 01609 Gröditz\n
LOCATION:Röder-Elster-Sporthalle Gröditz (33239): Waldweg 3c\, 01609 Gröditz
CATEGORIES:Saison 2025/26
END:VEVENT
BEGIN:VEVENT
DTSTAMP:20260424T055522Z
DTSTART;TZID=Europe/Berlin:20260301T100000
DTEND;TZID=Europe/Berlin:20260301T110000
SUMMARY:Regionsliga S-M mJD Blau-Weiß Gröditz vs SG Dippoldiswalde-Ruppendorf (61182)
UID:727a7798-01d1-4b05-a47a-5e1a4d967d0b
STATUS:CONFIRMED
LAST-MODIFIED:20260302T055752Z
DESCRIPTION:Regionsliga S-M mJD\nBegegnungs-Nr: 61182\nHeim: Blau-Weiß Gröditz\nGast: SG Dippoldiswalde-Ruppendorf\nHalle: SH Gymnasium Klotzsche (33126)\nAdresse: Karl-Marx-Straße 44\, 01109 Dresden\n
LOCATION:SH Gymnasium Klotzsche (33126): Karl-Marx-Straße 44\, 01109 Dresden
CATEGORIES:Saison 2025/26
END:VEVENT
BEGIN:VEVENT
DTSTAMP:20260424T055522Z
DTSTART;TZID=Europe/Berlin:20260301T110000
DTEND;TZID=Europe/Berlin:20260301T120000
SUMMARY:Regionsliga S-M mJD Blau-Weiß Gröditz vs SG Kurort Hartha (61183)
UID:ce003ddf-f732-42b2-aeee-f4d5447916b2
STATUS:CONFIRMED
LAST-MODIFIED:20260302T055827Z
DESCRIPTION:Regionsliga S-M mJD\nBegegnungs-Nr: 61183\nHeim: Blau-Weiß Gröditz\nGast: SG Kurort Hartha\nHalle: SH Gymnasium Klotzsche (33126)\nAdresse: Karl-Marx-Straße 44\, 01109 Dresden\n
LOCATION:SH Gymnasium Klotzsche (33126): Karl-Marx-Straße 44\, 01109 Dresden
CATEGORIES:Saison 2025/26
END:VEVENT
BEGIN:VEVENT
DTSTAMP:20260424T055522Z
DTSTART;TZID=Europe/Berlin:20260314T120000
DTEND;TZID=Europe/Berlin:20260314T130000
SUMMARY:Regionsliga S-M mJD Blau-Weiß Gröditz vs SG Klotzsche (61201)
UID:5d097de6-9dac-4453-b2a5-fdecd7fc9923
STATUS:CONFIRMED
LAST-MODIFIED:20260319T085137Z
DESCRIPTION:Regionsliga S-M mJD\nBegegnungs-Nr: 61201\nHeim: Blau-Weiß Gröditz\nGast: SG Klotzsche\nHalle: Röder-Elster-Sporthalle Gröditz (33239)\nAdresse: Waldweg 3c\, 01609 Gröditz\n
LOCATION:Röder-Elster-Sporthalle Gröditz (33239): Waldweg 3c\, 01609 Gröditz
CATEGORIES:Saison 2025/26
END:VEVENT
BEGIN:VEVENT
DTSTAMP:20260424T055522Z
DTSTART;TZID=Europe/Berlin:20260314T140000
DTEND;TZID=Europe/Berlin:20260314T150000
SUMMARY:Regionsliga S-M mJD Blau-Weiß Gröditz vs Medizin Bad Gottleuba (61203)
UID:3c7cfd63-c5c2-4609-9423-afd3ccf48ece
STATUS:CONFIRMED
LAST-MODIFIED:20260319T085315Z
DESCRIPTION:Regionsliga S-M mJD\nBegegnungs-Nr: 61203\nHeim: Blau-Weiß Gröditz\nGast: Medizin Bad Gottleuba\nHalle: Röder-Elster-Sporthalle Gröditz (33239)\nAdresse: Waldweg 3c\, 01609 Gröditz\n
LOCATION:Röder-Elster-Sporthalle Gröditz (33239): Waldweg 3c\, 01609 Gröditz
CATEGORIES:Saison 2025/26
END:VEVENT
BEGIN:VEVENT
DTSTAMP:20260424T055522Z
DTSTART;TZID=Europe/Berlin:20260328T120000
DTEND;TZID=Europe/Berlin:20260328T130000
SUMMARY:Regionsliga S-M mJD Blau-Weiß Gröditz vs Coswiger HSG II (61251)
UID:030577fb-0313-4ac0-a3dd-20a9759de299
STATUS:CONFIRMED
LAST-MODIFIED:20260420T054623Z
DESCRIPTION:Regionsliga S-M mJD\nBegegnungs-Nr: 61251\nHeim: Blau-Weiß Gröditz\nGast: Coswiger HSG II\nHalle: Röder-Elster-Sporthalle Gröditz (33239)\nAdresse: Waldweg 3c\, 01609 Gröditz\n
LOCATION:Röder-Elster-Sporthalle Gröditz (33239): Waldweg 3c\, 01609 Gröditz
CATEGORIES:Saison 2025/26
END:VEVENT
BEGIN:VEVENT
DTSTAMP:20260424T055522Z
DTSTART;TZID=Europe/Berlin:20260328T150000
DTEND;TZID=Europe/Berlin:20260328T160000
SUMMARY:Regionsliga S-M mJD Blau-Weiß Gröditz vs Radebeuler HV II (61254)
UID:76084920-cf78-4948-9eb7-c566a1d20b88
STATUS:CONFIRMED
LAST-MODIFIED:20260420T054935Z
DESCRIPTION:Regionsliga S-M mJD\nBegegnungs-Nr: 61254\nHeim: Blau-Weiß Gröditz\nGast: Radebeuler HV II\nHalle: Röder-Elster-Sporthalle Gröditz (33239)\nAdresse: Waldweg 3c\, 01609 Gröditz\n
LOCATION:Röder-Elster-Sporthalle Gröditz (33239): Waldweg 3c\, 01609 Gröditz
CATEGORIES:Saison 2025/26
END:VEVENT
BEGIN:VEVENT
DTSTAMP:20260424T055522Z
DTSTART;TZID=Europe/Berlin:20250907T094500
DTEND;TZID=Europe/Berlin:20250907T104500
SUMMARY:Regionsliga S-M mJD SG Dippoldiswalde-Ruppendorf vs Blau-Weiß Gröditz (61022)
UID:bb6d2573-8d1f-490e-9cb8-42d740614c6b
STATUS:CONFIRMED
LAST-MODIFIED:20250908T064739Z
DESCRIPTION:Regionsliga S-M mJD\nBegegnungs-Nr: 61022\nHeim: SG Dippoldiswalde-Ruppendorf\nGast: Blau-Weiß Gröditz\nHalle: Saubach-SH Wilsdruff (33208)\nAdresse: Nossener Str. 21b\, 01723 Wilsdruff\n
LOCATION:Saubach-SH Wilsdruff (33208): Nossener Str. 21b\, 01723 Wilsdruff
CATEGORIES:Saison 2025/26
END:VEVENT
BEGIN:VEVENT
DTSTAMP:20260424T055522Z
DTSTART;TZID=Europe/Berlin:20250907T105500
DTEND;TZID=Europe/Berlin:20250907T115500
SUMMARY:Regionsliga S-M mJD SG Kurort Hartha vs Blau-Weiß Gröditz (61023)
UID:58018823-b372-4eac-ba60-92765031bce7
STATUS:CONFIRMED
LAST-MODIFIED:20250908T064506Z
DESCRIPTION:Regionsliga S-M mJD\nBegegnungs-Nr: 61023\nHeim: SG Kurort Hartha\nGast: Blau-Weiß Gröditz\nHalle: Saubach-SH Wilsdruff (33208)\nAdresse: Nossener Str. 21b\, 01723 Wilsdruff\n
LOCATION:Saubach-SH Wilsdruff (33208): Nossener Str. 21b\, 01723 Wilsdruff
CATEGORIES:Saison 2025/26
END:VEVENT
BEGIN:VEVENT
DTSTAMP:20260424T055522Z
DTSTART;TZID=Europe/Berlin:20250928T110000
DTEND;TZID=Europe/Berlin:20250928T120000
SUMMARY:Regionsliga S-M mJD SG Klotzsche vs Blau-Weiß Gröditz (61051)
UID:accc527d-27e6-430d-add2-5a756174bf43
STATUS:CONFIRMED
LAST-MODIFIED:20251003T071018Z
DESCRIPTION:Regionsliga S-M mJD\nBegegnungs-Nr: 61051\nHeim: SG Klotzsche\nGast: Blau-Weiß Gröditz\nHalle: SH Gymnasium Klotzsche (33126)\nAdresse: Karl-Marx-Straße 44\, 01109 Dresden\n
LOCATION:SH Gymnasium Klotzsche (33126): Karl-Marx-Straße 44\, 01109 Dresden
CATEGORIES:Saison 2025/26
END:VEVENT
BEGIN:VEVENT
DTSTAMP:20260424T055522Z
DTSTART;TZID=Europe/Berlin:20251214T110000
DTEND;TZID=Europe/Berlin:20251214T120000
SUMMARY:Regionsliga S-M mJD SC Riesa II vs Blau-Weiß Gröditz (61112)
UID:3c56ebf8-20a1-4f1f-bc87-1dd4b9d83118
STATUS:CONFIRMED
LAST-MODIFIED:20251218T100834Z
DESCRIPTION:Regionsliga S-M mJD\nBegegnungs-Nr: 61112\nHeim: SC Riesa II\nGast: Blau-Weiß Gröditz\nHalle: Gerhard-Grafe-SH Weixdorf (33116)\nAdresse: Weixdorfer Rathausplatz 2a\, 01108 Dresden\n
LOCATION:Gerhard-Grafe-SH Weixdorf (33116): Weixdorfer Rathausplatz 2a\, 01108 Dresden
CATEGORIES:Saison 2025/26
END:VEVENT
BEGIN:VEVENT
DTSTAMP:20260424T055522Z
DTSTART;TZID=Europe/Berlin:20251214T130000
DTEND;TZID=Europe/Berlin:20251214T140000
SUMMARY:Regionsliga S-M mJD SG Weixdorf vs Blau-Weiß Gröditz (61114)
UID:f4622357-073a-406e-9c2f-e81c519e55c0
STATUS:CONFIRMED
LAST-MODIFIED:20251218T101003Z
DESCRIPTION:Regionsliga S-M mJD\nBegegnungs-Nr: 61114\nHeim: SG Weixdorf\nGast: Blau-Weiß Gröditz\nHalle: Gerhard-Grafe-SH Weixdorf (33116)\nAdresse: Weixdorfer Rathausplatz 2a\, 01108 Dresden\n
LOCATION:Gerhard-Grafe-SH Weixdorf (33116): Weixdorfer Rathausplatz 2a\, 01108 Dresden
CATEGORIES:Saison 2025/26
END:VEVENT
BEGIN:VEVENT
DTSTAMP:20260424T055522Z
DTSTART;TZID=Europe/Berlin:20260321T100000
DTEND;TZID=Europe/Berlin:20260321T110000
SUMMARY:Regionsliga S-M mJD Coswiger HSG II vs Blau-Weiß Gröditz (61211)
UID:4bde73fa-f90d-40aa-812f-32828d8c7d1c
STATUS:CONFIRMED
LAST-MODIFIED:20260323T112736Z
DESCRIPTION:Regionsliga S-M mJD\nBegegnungs-Nr: 61211\nHeim: Coswiger HSG II\nGast: Blau-Weiß Gröditz\nHalle: SH Gymnasium Coswig (33209)\nAdresse: Melanchthonstraße 8 - 10\, 01640 Coswig\n
LOCATION:SH Gymnasium Coswig (33209): Melanchthonstraße 8 - 10\, 01640 Coswig
CATEGORIES:Saison 2025/26
END:VEVENT
BEGIN:VEVENT
DTSTAMP:20260424T055522Z
DTSTART;TZID=Europe/Berlin:20260321T115000
DTEND;TZID=Europe/Berlin:20260321T125000
SUMMARY:Regionsliga S-M mJD Radebeuler HV II vs Blau-Weiß Gröditz (61213)
UID:67a3e885-0e70-4bea-b917-a0d6bd618c21
STATUS:CONFIRMED
LAST-MODIFIED:20260323T112943Z
DESCRIPTION:Regionsliga S-M mJD\nBegegnungs-Nr: 61213\nHeim: Radebeuler HV II\nGast: Blau-Weiß Gröditz\nHalle: SH Gymnasium Coswig (33209)\nAdresse: Melanchthonstraße 8 - 10\, 01640 Coswig\n
LOCATION:SH Gymnasium Coswig (33209): Melanchthonstraße 8 - 10\, 01640 Coswig
CATEGORIES:Saison 2025/26
END:VEVENT
BEGIN:VEVENT
DTSTAMP:20260424T055522Z
DTSTART;TZID=Europe/Berlin:20260426T110000
DTEND;TZID=Europe/Berlin:20260426T120000
SUMMARY:Regionsliga S-M mJD Medizin Bad Gottleuba vs Blau-Weiß Gröditz (61271)
UID:3ae8382f-29c2-40c6-897a-a1a94f43f357
STATUS:CONFIRMED
LAST-MODIFIED:20260423T074626Z
DESCRIPTION:Regionsliga S-M mJD\nBegegnungs-Nr: 61271\nHeim: Medizin Bad Gottleuba\nGast: Blau-Weiß Gröditz\nHalle: SH Geising (33201)\nAdresse: Lange Str. 25\, 01778 Altenberg ST Geising\n
LOCATION:SH Geising (33201): Lange Str. 25\, 01778 Altenberg ST Geising
CATEGORIES:Saison 2025/26
END:VEVENT
BEGIN:VEVENT
DTSTAMP:20260424T055522Z
DTSTART;TZID=Europe/Berlin:20260426T130000
DTEND;TZID=Europe/Berlin:20260426T140000
SUMMARY:Regionsliga S-M mJD SG Pirna/Heidenau II vs Blau-Weiß Gröditz (61273)
UID:6ca73663-4a81-4835-aec7-209cc4a48f0a
STATUS:CONFIRMED
LAST-MODIFIED:20260423T074725Z
DESCRIPTION:Regionsliga S-M mJD\nBegegnungs-Nr: 61273\nHeim: SG Pirna/Heidenau II\nGast: Blau-Weiß Gröditz\nHalle: SH Geising (33201)\nAdresse: Lange Str. 25\, 01778 Altenberg ST Geising\n
LOCATION:SH Geising (33201): Lange Str. 25\, 01778 Altenberg ST Geising
CATEGORIES:Saison 2025/26
END:VEVENT
END:VCALENDAR
