BEGIN:VCALENDAR
PRODID:-//nuDatenautomaten//framework iCal4j //DE
VERSION:2.0
CALSCALE:GREGORIAN
BEGIN:VTIMEZONE
TZID:Europe/Berlin
LAST-MODIFIED:20260306T231828Z
TZURL:https://www.tzurl.org/zoneinfo/Europe/Berlin
X-LIC-LOCATION:Europe/Berlin
X-PROLEPTIC-TZNAME:LMT
BEGIN:STANDARD
TZNAME:CET
TZOFFSETFROM:+005328
TZOFFSETTO:+0100
DTSTART:18930401T000000
END:STANDARD
BEGIN:DAYLIGHT
TZNAME:CEST
TZOFFSETFROM:+0100
TZOFFSETTO:+0200
DTSTART:19160430T230000
RDATE:19400401T020000
RDATE:19430329T020000
RDATE:19460414T020000
RDATE:19470406T030000
RDATE:19480418T020000
RDATE:19490410T020000
RDATE:19800406T020000
END:DAYLIGHT
BEGIN:STANDARD
TZNAME:CET
TZOFFSETFROM:+0200
TZOFFSETTO:+0100
DTSTART:19161001T010000
RDATE:19421102T030000
RDATE:19431004T030000
RDATE:19441002T030000
RDATE:19451118T030000
RDATE:19461007T030000
END:STANDARD
BEGIN:DAYLIGHT
TZNAME:CEST
TZOFFSETFROM:+0100
TZOFFSETTO:+0200
DTSTART:19170416T020000
RRULE:FREQ=YEARLY;UNTIL=19180415T010000Z;BYMONTH=4;BYDAY=3MO
END:DAYLIGHT
BEGIN:STANDARD
TZNAME:CET
TZOFFSETFROM:+0200
TZOFFSETTO:+0100
DTSTART:19170917T030000
RRULE:FREQ=YEARLY;UNTIL=19180916T010000Z;BYMONTH=9;BYDAY=3MO
END:STANDARD
BEGIN:DAYLIGHT
TZNAME:CEST
TZOFFSETFROM:+0100
TZOFFSETTO:+0200
DTSTART:19440403T020000
RRULE:FREQ=YEARLY;UNTIL=19450402T010000Z;BYMONTH=4;BYDAY=1MO
END:DAYLIGHT
BEGIN:DAYLIGHT
TZNAME:CEMT
TZOFFSETFROM:+0200
TZOFFSETTO:+0300
DTSTART:19450524T020000
RDATE:19470511T030000
END:DAYLIGHT
BEGIN:DAYLIGHT
TZNAME:CEST
TZOFFSETFROM:+0300
TZOFFSETTO:+0200
DTSTART:19450924T030000
RDATE:19470629T030000
END:DAYLIGHT
BEGIN:STANDARD
TZNAME:CET
TZOFFSETFROM:+0100
TZOFFSETTO:+0100
DTSTART:19460101T000000
RDATE:19800101T000000
END:STANDARD
BEGIN:STANDARD
TZNAME:CET
TZOFFSETFROM:+0200
TZOFFSETTO:+0100
DTSTART:19471005T030000
RRULE:FREQ=YEARLY;UNTIL=19491002T010000Z;BYMONTH=10;BYDAY=1SU
END:STANDARD
BEGIN:STANDARD
TZNAME:CET
TZOFFSETFROM:+0200
TZOFFSETTO:+0100
DTSTART:19800928T030000
RRULE:FREQ=YEARLY;UNTIL=19950924T010000Z;BYMONTH=9;BYDAY=-1SU
END:STANDARD
BEGIN:DAYLIGHT
TZNAME:CEST
TZOFFSETFROM:+0100
TZOFFSETTO:+0200
DTSTART:19810329T020000
RRULE:FREQ=YEARLY;BYMONTH=3;BYDAY=-1SU
END:DAYLIGHT
BEGIN:STANDARD
TZNAME:CET
TZOFFSETFROM:+0200
TZOFFSETTO:+0100
DTSTART:19961027T030000
RRULE:FREQ=YEARLY;BYMONTH=10;BYDAY=-1SU
END:STANDARD
END:VTIMEZONE
BEGIN:VEVENT
DTSTAMP:20260423T004431Z
DTSTART;TZID=Europe/Berlin:20250927T120000
DTEND;TZID=Europe/Berlin:20250927T130000
SUMMARY:ROL wJB West SG Raschau-Beierfeld vs HC Annaberg-B. (421011)
UID:f2fc237c-fae6-4008-8145-08904bffe0ed
STATUS:CONFIRMED
LAST-MODIFIED:20251002T124142Z
DESCRIPTION:Regionsoberliga weibliche B-Jugend\nBegegnungs-Nr: 421011\nHeim: SG Raschau-Beierfeld\nGast: HC Annaberg-B.\nHalle: Spiegelwaldhalle Beierfeld (32309)\nAdresse: Str. des Sports\, 08340 Beierfeld\n
LOCATION:Spiegelwaldhalle Beierfeld (32309): Str. des Sports\, 08340 Beierfeld
CATEGORIES:Saison 2025/26
END:VEVENT
BEGIN:VEVENT
DTSTAMP:20260423T004431Z
DTSTART;TZID=Europe/Berlin:20251122T150000
DTEND;TZID=Europe/Berlin:20251122T160000
SUMMARY:ROL wJB West SG Raschau-Beierfeld vs SG HSC Chemnitz (421016)
UID:2ba93253-d4fe-4026-a397-67aba72a0de8
STATUS:CONFIRMED
LAST-MODIFIED:20251124T103102Z
DESCRIPTION:Regionsoberliga weibliche B-Jugend\nBegegnungs-Nr: 421016\nHeim: SG Raschau-Beierfeld\nGast: SG HSC Chemnitz\nHalle: Spiegelwaldhalle Beierfeld (32309)\nAdresse: Str. des Sports\, 08340 Beierfeld\n
LOCATION:Spiegelwaldhalle Beierfeld (32309): Str. des Sports\, 08340 Beierfeld
CATEGORIES:Saison 2025/26
END:VEVENT
BEGIN:VEVENT
DTSTAMP:20260423T004431Z
DTSTART;TZID=Europe/Berlin:20260131T100000
DTEND;TZID=Europe/Berlin:20260131T110000
SUMMARY:ROL wJB West SG Raschau-Beierfeld vs Sachsen 90 Werdau (421027)
UID:ae254e58-bac6-491d-b8ea-4dfc45fc8ea7
STATUS:CONFIRMED
LAST-MODIFIED:20260201T185800Z
DESCRIPTION:Regionsoberliga weibliche B-Jugend\nBegegnungs-Nr: 421027\nHeim: SG Raschau-Beierfeld\nGast: Sachsen 90 Werdau\nHalle: Spiegelwaldhalle Beierfeld (32309)\nAdresse: Str. des Sports\, 08340 Beierfeld\n
LOCATION:Spiegelwaldhalle Beierfeld (32309): Str. des Sports\, 08340 Beierfeld
CATEGORIES:Saison 2025/26
END:VEVENT
BEGIN:VEVENT
DTSTAMP:20260423T004431Z
DTSTART;TZID=Europe/Berlin:20260117T120000
DTEND;TZID=Europe/Berlin:20260117T130000
SUMMARY:ROL wJB West SG Raschau-Beierfeld vs Fortschritt Mylau-Reichenb. (421004)
UID:7e017092-5609-4e01-b960-4457dc3db428
STATUS:CONFIRMED
LAST-MODIFIED:20260122T130853Z
DESCRIPTION:Regionsoberliga weibliche B-Jugend\nBegegnungs-Nr: 421004\nHeim: SG Raschau-Beierfeld\nGast: Fortschritt Mylau-Reichenb.\nHalle: Spiegelwaldhalle Beierfeld (32309)\nAdresse: Str. des Sports\, 08340 Beierfeld\n
LOCATION:Spiegelwaldhalle Beierfeld (32309): Str. des Sports\, 08340 Beierfeld
CATEGORIES:Saison 2025/26
END:VEVENT
BEGIN:VEVENT
DTSTAMP:20260423T004431Z
DTSTART;TZID=Europe/Berlin:20250913T150000
DTEND;TZID=Europe/Berlin:20250913T160000
SUMMARY:ROL wJB West SG Raschau-Beierfeld vs SV 04 Plauen-O. (421006)
UID:a6422b3c-0ab4-4d73-98e8-d3c7e2dc4e08
STATUS:CONFIRMED
LAST-MODIFIED:20250914T205059Z
DESCRIPTION:Regionsoberliga weibliche B-Jugend\nBegegnungs-Nr: 421006\nHeim: SG Raschau-Beierfeld\nGast: SV 04 Plauen-O.\nHalle: Spiegelwaldhalle Beierfeld (32309)\nAdresse: Str. des Sports\, 08340 Beierfeld\n
LOCATION:Spiegelwaldhalle Beierfeld (32309): Str. des Sports\, 08340 Beierfeld
CATEGORIES:Saison 2025/26
END:VEVENT
BEGIN:VEVENT
DTSTAMP:20260423T004431Z
DTSTART;TZID=Europe/Berlin:20260131T100000
DTEND;TZID=Europe/Berlin:20260131T110000
SUMMARY:ROL wJB Meisterrunde 1-6 SG Raschau-Beierfeld vs Sachsen 90 Werdau (421027)
UID:a2e6a318-5701-40f5-98b7-1f1eef0dbf66
STATUS:CONFIRMED
LAST-MODIFIED:20260201T185800Z
DESCRIPTION:Regionsoberliga weibliche B-Jugend\nBegegnungs-Nr: 421027\nHeim: SG Raschau-Beierfeld\nGast: Sachsen 90 Werdau\n
LOCATION:
CATEGORIES:Saison 2025/26
END:VEVENT
BEGIN:VEVENT
DTSTAMP:20260423T004431Z
DTSTART;TZID=Europe/Berlin:20250913T150000
DTEND;TZID=Europe/Berlin:20250913T160000
SUMMARY:ROL wJB Meisterrunde 1-6 SG Raschau-Beierfeld vs SV 04 Plauen-O. (421006)
UID:324f1af4-cf49-45bc-98af-b0e20cd54a6e
STATUS:CONFIRMED
LAST-MODIFIED:20250914T205059Z
DESCRIPTION:Regionsoberliga weibliche B-Jugend\nBegegnungs-Nr: 421006\nHeim: SG Raschau-Beierfeld\nGast: SV 04 Plauen-O.\n
LOCATION:
CATEGORIES:Saison 2025/26
END:VEVENT
BEGIN:VEVENT
DTSTAMP:20260423T004431Z
DTSTART;TZID=Europe/Berlin:20260228T120000
DTEND;TZID=Europe/Berlin:20260228T130000
SUMMARY:ROL wJB Meisterrunde 1-6 SG Raschau-Beierfeld vs HV Grüna (423002)
UID:d1a20f2a-81ce-4190-8c21-299559898882
STATUS:CONFIRMED
LAST-MODIFIED:20260302T073731Z
DESCRIPTION:Regionsoberliga weibliche B-Jugend\nBegegnungs-Nr: 423002\nHeim: SG Raschau-Beierfeld\nGast: HV Grüna\nHalle: Spiegelwaldhalle Beierfeld (32309)\nAdresse: Str. des Sports\, 08340 Beierfeld\n
LOCATION:Spiegelwaldhalle Beierfeld (32309): Str. des Sports\, 08340 Beierfeld
CATEGORIES:Saison 2025/26
END:VEVENT
BEGIN:VEVENT
DTSTAMP:20260423T004431Z
DTSTART;TZID=Europe/Berlin:20260321T120000
DTEND;TZID=Europe/Berlin:20260321T130000
SUMMARY:ROL wJB Meisterrunde 1-6 SG Raschau-Beierfeld vs Rotation Weißenborn (423008)
UID:c3a0a924-613c-4b86-a229-61a146f1d7d9
STATUS:CONFIRMED
LAST-MODIFIED:20260323T112830Z
DESCRIPTION:Regionsoberliga weibliche B-Jugend\nBegegnungs-Nr: 423008\nHeim: SG Raschau-Beierfeld\nGast: Rotation Weißenborn\nHalle: Spiegelwaldhalle Beierfeld (32309)\nAdresse: Str. des Sports\, 08340 Beierfeld\n
LOCATION:Spiegelwaldhalle Beierfeld (32309): Str. des Sports\, 08340 Beierfeld
CATEGORIES:Saison 2025/26
END:VEVENT
BEGIN:VEVENT
DTSTAMP:20260423T004431Z
DTSTART;TZID=Europe/Berlin:20260418T120000
DTEND;TZID=Europe/Berlin:20260418T130000
SUMMARY:ROL wJB Meisterrunde 1-6 SG Raschau-Beierfeld vs Burgstädter HC (423014)
UID:a1c1dc3a-48d7-4f16-a698-c39bfa30c3ee
STATUS:CONFIRMED
LAST-MODIFIED:20260421T180755Z
DESCRIPTION:Regionsoberliga weibliche B-Jugend\nBegegnungs-Nr: 423014\nHeim: SG Raschau-Beierfeld\nGast: Burgstädter HC\nHalle: SH Schwarzenberg-Heide (32308)\nAdresse: Am Lindengarten 12\, 08340 Schwarzenberg\n
LOCATION:SH Schwarzenberg-Heide (32308): Am Lindengarten 12\, 08340 Schwarzenberg
CATEGORIES:Saison 2025/26
END:VEVENT
BEGIN:VEVENT
DTSTAMP:20260423T004431Z
DTSTART;TZID=Europe/Berlin:20251109T130000
DTEND;TZID=Europe/Berlin:20251109T140000
SUMMARY:ROL wJB West Fortschritt Mylau-Reichenb. vs SG Raschau-Beierfeld (421019)
UID:b5fecece-1026-4d70-80d0-7440460a5ed0
STATUS:CONFIRMED
LAST-MODIFIED:20251110T095418Z
DESCRIPTION:Regionsoberliga weibliche B-Jugend\nBegegnungs-Nr: 421019\nHeim: Fortschritt Mylau-Reichenb.\nGast: SG Raschau-Beierfeld\nHalle: SH Reichenbach/V. (32709)\nAdresse: Cunsdorfer Straße 25\, 08468 Reichenbach/V.\n
LOCATION:SH Reichenbach/V. (32709): Cunsdorfer Straße 25\, 08468 Reichenbach/V.
CATEGORIES:Saison 2025/26
END:VEVENT
BEGIN:VEVENT
DTSTAMP:20260423T004431Z
DTSTART;TZID=Europe/Berlin:20251207T100000
DTEND;TZID=Europe/Berlin:20251207T110000
SUMMARY:ROL wJB West SV 04 Plauen-O. vs SG Raschau-Beierfeld (421021)
UID:f980354d-9594-471a-b37e-e37ba6fb0bbe
STATUS:CONFIRMED
LAST-MODIFIED:20251210T075945Z
DESCRIPTION:Regionsoberliga weibliche B-Jugend\nBegegnungs-Nr: 421021\nHeim: SV 04 Plauen-O.\nGast: SG Raschau-Beierfeld\nHalle: SH Kurt-Helbig Plauen (32701)\nAdresse: Comeniusstr. 15\, 08523 Plauen\n
LOCATION:SH Kurt-Helbig Plauen (32701): Comeniusstr. 15\, 08523 Plauen
CATEGORIES:Saison 2025/26
END:VEVENT
BEGIN:VEVENT
DTSTAMP:20260423T004431Z
DTSTART;TZID=Europe/Berlin:20251026T140000
DTEND;TZID=Europe/Berlin:20251026T150000
SUMMARY:ROL wJB West Sachsen 90 Werdau vs SG Raschau-Beierfeld (421012)
UID:dcc50072-225b-4be2-9778-a09c4596db16
STATUS:CONFIRMED
LAST-MODIFIED:20251027T220317Z
DESCRIPTION:Regionsoberliga weibliche B-Jugend\nBegegnungs-Nr: 421012\nHeim: Sachsen 90 Werdau\nGast: SG Raschau-Beierfeld\nHalle: SH Werdau (32508)\nAdresse: Alexander-von-Humboldt-Str. 4\, 08412 Werdau\n
LOCATION:SH Werdau (32508): Alexander-von-Humboldt-Str. 4\, 08412 Werdau
CATEGORIES:Saison 2025/26
END:VEVENT
BEGIN:VEVENT
DTSTAMP:20260423T004431Z
DTSTART;TZID=Europe/Berlin:20260125T120000
DTEND;TZID=Europe/Berlin:20260125T130000
SUMMARY:ROL wJB West HC Annaberg-B. vs SG Raschau-Beierfeld (421026)
UID:9d5dd95a-a5c6-434a-bf06-30a9b2550d7e
STATUS:CONFIRMED
LAST-MODIFIED:20260126T041730Z
DESCRIPTION:Regionsoberliga weibliche B-Jugend\nBegegnungs-Nr: 421026\nHeim: HC Annaberg-B.\nGast: SG Raschau-Beierfeld\nHalle: Sportpark Grenzenlos Annaberg-B. (32602)\nAdresse: Barbara-Uttmann-Ring 155\, 09456 Annaberg-B.\n
LOCATION:Sportpark Grenzenlos Annaberg-B. (32602): Barbara-Uttmann-Ring 155\, 09456 Annaberg-B.
CATEGORIES:Saison 2025/26
END:VEVENT
BEGIN:VEVENT
DTSTAMP:20260423T004431Z
DTSTART;TZID=Europe/Berlin:20250831T130000
DTEND;TZID=Europe/Berlin:20250831T140000
SUMMARY:ROL wJB West SG HSC Chemnitz vs SG Raschau-Beierfeld (421001)
UID:7ab02f67-f828-4ca1-b23e-d6d8e0385567
STATUS:CONFIRMED
LAST-MODIFIED:20250831T205526Z
DESCRIPTION:Regionsoberliga weibliche B-Jugend\nBegegnungs-Nr: 421001\nHeim: SG HSC Chemnitz\nGast: SG Raschau-Beierfeld\nHalle: SH Chemnitzer PSV (32108)\nAdresse: Forststraße 9\, 09130 Chemnitz\n
LOCATION:SH Chemnitzer PSV (32108): Forststraße 9\, 09130 Chemnitz
CATEGORIES:Saison 2025/26
END:VEVENT
BEGIN:VEVENT
DTSTAMP:20260423T004431Z
DTSTART;TZID=Europe/Berlin:20251207T100000
DTEND;TZID=Europe/Berlin:20251207T110000
SUMMARY:ROL wJB Meisterrunde 1-6 SV 04 Plauen-O. vs SG Raschau-Beierfeld (421021)
UID:5154a6a2-4578-4ab1-97d2-4e2134adbfb6
STATUS:CONFIRMED
LAST-MODIFIED:20251210T075945Z
DESCRIPTION:Regionsoberliga weibliche B-Jugend\nBegegnungs-Nr: 421021\nHeim: SV 04 Plauen-O.\nGast: SG Raschau-Beierfeld\n
LOCATION:
CATEGORIES:Saison 2025/26
END:VEVENT
BEGIN:VEVENT
DTSTAMP:20260423T004431Z
DTSTART;TZID=Europe/Berlin:20251026T140000
DTEND;TZID=Europe/Berlin:20251026T150000
SUMMARY:ROL wJB Meisterrunde 1-6 Sachsen 90 Werdau vs SG Raschau-Beierfeld (421012)
UID:613d24eb-89e9-4db3-8d33-3e8a804d2de2
STATUS:CONFIRMED
LAST-MODIFIED:20251027T220317Z
DESCRIPTION:Regionsoberliga weibliche B-Jugend\nBegegnungs-Nr: 421012\nHeim: Sachsen 90 Werdau\nGast: SG Raschau-Beierfeld\n
LOCATION:
CATEGORIES:Saison 2025/26
END:VEVENT
BEGIN:VEVENT
DTSTAMP:20260423T004431Z
DTSTART;TZID=Europe/Berlin:20260308T133000
DTEND;TZID=Europe/Berlin:20260308T143000
SUMMARY:ROL wJB Meisterrunde 1-6 Burgstädter HC vs SG Raschau-Beierfeld (423006)
UID:9bda4914-e248-4445-9814-272f5c39343e
STATUS:CONFIRMED
LAST-MODIFIED:20260312T094719Z
DESCRIPTION:Regionsoberliga weibliche B-Jugend\nBegegnungs-Nr: 423006\nHeim: Burgstädter HC\nGast: SG Raschau-Beierfeld\nHalle: SH Burgstädt - Sportzentrum am Taurastein (32206)\nAdresse: Am Stadion 22\, 09217  Burgstädt\n
LOCATION:SH Burgstädt - Sportzentrum am Taurastein (32206): Am Stadion 22\, 09217  Burgstädt
CATEGORIES:Saison 2025/26
END:VEVENT
BEGIN:VEVENT
DTSTAMP:20260423T004431Z
DTSTART;TZID=Europe/Berlin:20260328T140000
DTEND;TZID=Europe/Berlin:20260328T150000
SUMMARY:ROL wJB Meisterrunde 1-6 HV Grüna vs SG Raschau-Beierfeld (423010)
UID:6f025ac8-bb34-41d0-9da4-dd25fabd7eee
STATUS:CONFIRMED
LAST-MODIFIED:20260402T201044Z
DESCRIPTION:Regionsoberliga weibliche B-Jugend\nBegegnungs-Nr: 423010\nHeim: HV Grüna\nGast: SG Raschau-Beierfeld\nHalle: SH Dr.-Wilhelm-André-Gymnasium Chemnitz (32114)\nAdresse: Henriettenstraße 35\, 09112 Chemnitz\n
LOCATION:SH Dr.-Wilhelm-André-Gymnasium Chemnitz (32114): Henriettenstraße 35\, 09112 Chemnitz
CATEGORIES:Saison 2025/26
END:VEVENT
BEGIN:VEVENT
DTSTAMP:20260423T004431Z
DTSTART;TZID=Europe/Berlin:20260314T100000
DTEND;TZID=Europe/Berlin:20260314T110000
SUMMARY:ROL wJB Meisterrunde 1-6 Rotation Weißenborn vs SG Raschau-Beierfeld (423017)
UID:286e588f-3596-46d3-b61b-2db86602ff1c
STATUS:CONFIRMED
LAST-MODIFIED:20260320T100233Z
DESCRIPTION:Regionsoberliga weibliche B-Jugend\nBegegnungs-Nr: 423017\nHeim: Rotation Weißenborn\nGast: SG Raschau-Beierfeld\nHalle: SH Schoeller Weißenborn (32415)\nAdresse: Lichtenberger Straße 8\, 09600 Weißenborn\n
LOCATION:SH Schoeller Weißenborn (32415): Lichtenberger Straße 8\, 09600 Weißenborn
CATEGORIES:Saison 2025/26
END:VEVENT
END:VCALENDAR
