BEGIN:VCALENDAR
PRODID:-//nuDatenautomaten//framework iCal4j //DE
VERSION:2.0
CALSCALE:GREGORIAN
BEGIN:VTIMEZONE
TZID:Europe/Berlin
LAST-MODIFIED:20260306T231828Z
TZURL:https://www.tzurl.org/zoneinfo/Europe/Berlin
X-LIC-LOCATION:Europe/Berlin
X-PROLEPTIC-TZNAME:LMT
BEGIN:STANDARD
TZNAME:CET
TZOFFSETFROM:+005328
TZOFFSETTO:+0100
DTSTART:18930401T000000
END:STANDARD
BEGIN:DAYLIGHT
TZNAME:CEST
TZOFFSETFROM:+0100
TZOFFSETTO:+0200
DTSTART:19160430T230000
RDATE:19400401T020000
RDATE:19430329T020000
RDATE:19460414T020000
RDATE:19470406T030000
RDATE:19480418T020000
RDATE:19490410T020000
RDATE:19800406T020000
END:DAYLIGHT
BEGIN:STANDARD
TZNAME:CET
TZOFFSETFROM:+0200
TZOFFSETTO:+0100
DTSTART:19161001T010000
RDATE:19421102T030000
RDATE:19431004T030000
RDATE:19441002T030000
RDATE:19451118T030000
RDATE:19461007T030000
END:STANDARD
BEGIN:DAYLIGHT
TZNAME:CEST
TZOFFSETFROM:+0100
TZOFFSETTO:+0200
DTSTART:19170416T020000
RRULE:FREQ=YEARLY;UNTIL=19180415T010000Z;BYMONTH=4;BYDAY=3MO
END:DAYLIGHT
BEGIN:STANDARD
TZNAME:CET
TZOFFSETFROM:+0200
TZOFFSETTO:+0100
DTSTART:19170917T030000
RRULE:FREQ=YEARLY;UNTIL=19180916T010000Z;BYMONTH=9;BYDAY=3MO
END:STANDARD
BEGIN:DAYLIGHT
TZNAME:CEST
TZOFFSETFROM:+0100
TZOFFSETTO:+0200
DTSTART:19440403T020000
RRULE:FREQ=YEARLY;UNTIL=19450402T010000Z;BYMONTH=4;BYDAY=1MO
END:DAYLIGHT
BEGIN:DAYLIGHT
TZNAME:CEMT
TZOFFSETFROM:+0200
TZOFFSETTO:+0300
DTSTART:19450524T020000
RDATE:19470511T030000
END:DAYLIGHT
BEGIN:DAYLIGHT
TZNAME:CEST
TZOFFSETFROM:+0300
TZOFFSETTO:+0200
DTSTART:19450924T030000
RDATE:19470629T030000
END:DAYLIGHT
BEGIN:STANDARD
TZNAME:CET
TZOFFSETFROM:+0100
TZOFFSETTO:+0100
DTSTART:19460101T000000
RDATE:19800101T000000
END:STANDARD
BEGIN:STANDARD
TZNAME:CET
TZOFFSETFROM:+0200
TZOFFSETTO:+0100
DTSTART:19471005T030000
RRULE:FREQ=YEARLY;UNTIL=19491002T010000Z;BYMONTH=10;BYDAY=1SU
END:STANDARD
BEGIN:STANDARD
TZNAME:CET
TZOFFSETFROM:+0200
TZOFFSETTO:+0100
DTSTART:19800928T030000
RRULE:FREQ=YEARLY;UNTIL=19950924T010000Z;BYMONTH=9;BYDAY=-1SU
END:STANDARD
BEGIN:DAYLIGHT
TZNAME:CEST
TZOFFSETFROM:+0100
TZOFFSETTO:+0200
DTSTART:19810329T020000
RRULE:FREQ=YEARLY;BYMONTH=3;BYDAY=-1SU
END:DAYLIGHT
BEGIN:STANDARD
TZNAME:CET
TZOFFSETFROM:+0200
TZOFFSETTO:+0100
DTSTART:19961027T030000
RRULE:FREQ=YEARLY;BYMONTH=10;BYDAY=-1SU
END:STANDARD
END:VTIMEZONE
BEGIN:VEVENT
DTSTAMP:20260424T170241Z
DTSTART;TZID=Europe/Berlin:20250821T200000
DTEND;TZID=Europe/Berlin:20250821T213000
SUMMARY:F Freundschaftsspiel HSV Weinböhla e.V. 1 vs HC Bad Liebenwerda 1 (1)
UID:bda47107-8f81-4bcf-be51-3a0e4e75adb9
STATUS:CONFIRMED
DESCRIPTION:Freundschaftsspiel Freundschaftsspiel\nBegegnungs-Nr: 1\nHeim: HSV Weinböhla e.V. 1\nGast: HC Bad Liebenwerda 1\nHalle: Nassau-SH Weinböhla (33224)\nAdresse: Meißner Str. 1\, 01689 Weinböhla\n
LOCATION:Nassau-SH Weinböhla (33224): Meißner Str. 1\, 01689 Weinböhla
CATEGORIES:Saison Freundschaft 2025/26
END:VEVENT
BEGIN:VEVENT
DTSTAMP:20260424T170241Z
DTSTART;TZID=Europe/Berlin:20250730T193000
DTEND;TZID=Europe/Berlin:20250730T210000
SUMMARY:F Testspiel HSV Weinböhla Koweg Görlitz 1 vs HSV Weinböhla e.V. 1 (1)
UID:861a06ca-086f-415f-ae8d-b429e4a793da
STATUS:CONFIRMED
DESCRIPTION:Freundschaftsspiel Testspiel HSV Weinböhla\nBegegnungs-Nr: 1\nHeim: Koweg Görlitz 1\nGast: HSV Weinböhla e.V. 1\nHalle: SH Rauschwalde (34301)\nAdresse: Diesterwegplatz 8\, 02827 Görlitz\n
LOCATION:SH Rauschwalde (34301): Diesterwegplatz 8\, 02827 Görlitz
CATEGORIES:Saison Freundschaft 2025/26
END:VEVENT
BEGIN:VEVENT
DTSTAMP:20260424T170241Z
DTSTART;TZID=Europe/Berlin:20250819T201500
DTEND;TZID=Europe/Berlin:20250819T214500
SUMMARY:F Freundschaftsspiel M RHV vs. Weinböhla 1 Radebeuler Handball-Verein e.V. 1 vs HSV Weinböhla e.V. 1 (1)
UID:9e9526f1-778b-47bc-bd04-e3fd18dea510
STATUS:CONFIRMED
DESCRIPTION:Freundschaftsspiel Freundschaftsspiel M RHV vs. Weinböhla 1\nBegegnungs-Nr: 1\nHeim: Radebeuler Handball-Verein e.V. 1\nGast: HSV Weinböhla e.V. 1\nHalle: Lößnitz-SH Radebeul (33204)\nAdresse: Steinbachstr. 13\, 01445 Radebeul\n
LOCATION:Lößnitz-SH Radebeul (33204): Steinbachstr. 13\, 01445 Radebeul
CATEGORIES:Saison Freundschaft 2025/26
END:VEVENT
BEGIN:VEVENT
DTSTAMP:20260424T170241Z
DTSTART;TZID=Europe/Berlin:20250816T174500
DTEND;TZID=Europe/Berlin:20250816T191500
SUMMARY:F T-Spiel HCF Männer - 16.08.2025 HC Fraureuth e.V. 1 vs HSV Weinböhla e.V. 1 (1)
UID:331e96a7-8bf9-401b-bb8c-1d1fda08de30
STATUS:CONFIRMED
DESCRIPTION:Freundschaftsspiel T-Spiel HCF Männer - 16.08.2025\nBegegnungs-Nr: 1\nHeim: HC Fraureuth e.V. 1\nGast: HSV Weinböhla e.V. 1\nHalle: Mehrzweckhalle \"Erich Glowatzky\" Fraureuth (32509)\nAdresse: Zwickauer Str. 8a\, 08427 Fraureuth\n
LOCATION:Mehrzweckhalle \"Erich Glowatzky\" Fraureuth (32509): Zwickauer Str. 8a\, 08427 Fraureuth
CATEGORIES:Saison Freundschaft 2025/26
END:VEVENT
END:VCALENDAR
