BEGIN:VCALENDAR
PRODID:-//nuDatenautomaten//framework iCal4j //DE
VERSION:2.0
CALSCALE:GREGORIAN
BEGIN:VTIMEZONE
TZID:Europe/Berlin
LAST-MODIFIED:20260306T231828Z
TZURL:https://www.tzurl.org/zoneinfo/Europe/Berlin
X-LIC-LOCATION:Europe/Berlin
X-PROLEPTIC-TZNAME:LMT
BEGIN:STANDARD
TZNAME:CET
TZOFFSETFROM:+005328
TZOFFSETTO:+0100
DTSTART:18930401T000000
END:STANDARD
BEGIN:DAYLIGHT
TZNAME:CEST
TZOFFSETFROM:+0100
TZOFFSETTO:+0200
DTSTART:19160430T230000
RDATE:19400401T020000
RDATE:19430329T020000
RDATE:19460414T020000
RDATE:19470406T030000
RDATE:19480418T020000
RDATE:19490410T020000
RDATE:19800406T020000
END:DAYLIGHT
BEGIN:STANDARD
TZNAME:CET
TZOFFSETFROM:+0200
TZOFFSETTO:+0100
DTSTART:19161001T010000
RDATE:19421102T030000
RDATE:19431004T030000
RDATE:19441002T030000
RDATE:19451118T030000
RDATE:19461007T030000
END:STANDARD
BEGIN:DAYLIGHT
TZNAME:CEST
TZOFFSETFROM:+0100
TZOFFSETTO:+0200
DTSTART:19170416T020000
RRULE:FREQ=YEARLY;UNTIL=19180415T010000Z;BYMONTH=4;BYDAY=3MO
END:DAYLIGHT
BEGIN:STANDARD
TZNAME:CET
TZOFFSETFROM:+0200
TZOFFSETTO:+0100
DTSTART:19170917T030000
RRULE:FREQ=YEARLY;UNTIL=19180916T010000Z;BYMONTH=9;BYDAY=3MO
END:STANDARD
BEGIN:DAYLIGHT
TZNAME:CEST
TZOFFSETFROM:+0100
TZOFFSETTO:+0200
DTSTART:19440403T020000
RRULE:FREQ=YEARLY;UNTIL=19450402T010000Z;BYMONTH=4;BYDAY=1MO
END:DAYLIGHT
BEGIN:DAYLIGHT
TZNAME:CEMT
TZOFFSETFROM:+0200
TZOFFSETTO:+0300
DTSTART:19450524T020000
RDATE:19470511T030000
END:DAYLIGHT
BEGIN:DAYLIGHT
TZNAME:CEST
TZOFFSETFROM:+0300
TZOFFSETTO:+0200
DTSTART:19450924T030000
RDATE:19470629T030000
END:DAYLIGHT
BEGIN:STANDARD
TZNAME:CET
TZOFFSETFROM:+0100
TZOFFSETTO:+0100
DTSTART:19460101T000000
RDATE:19800101T000000
END:STANDARD
BEGIN:STANDARD
TZNAME:CET
TZOFFSETFROM:+0200
TZOFFSETTO:+0100
DTSTART:19471005T030000
RRULE:FREQ=YEARLY;UNTIL=19491002T010000Z;BYMONTH=10;BYDAY=1SU
END:STANDARD
BEGIN:STANDARD
TZNAME:CET
TZOFFSETFROM:+0200
TZOFFSETTO:+0100
DTSTART:19800928T030000
RRULE:FREQ=YEARLY;UNTIL=19950924T010000Z;BYMONTH=9;BYDAY=-1SU
END:STANDARD
BEGIN:DAYLIGHT
TZNAME:CEST
TZOFFSETFROM:+0100
TZOFFSETTO:+0200
DTSTART:19810329T020000
RRULE:FREQ=YEARLY;BYMONTH=3;BYDAY=-1SU
END:DAYLIGHT
BEGIN:STANDARD
TZNAME:CET
TZOFFSETFROM:+0200
TZOFFSETTO:+0100
DTSTART:19961027T030000
RRULE:FREQ=YEARLY;BYMONTH=10;BYDAY=-1SU
END:STANDARD
END:VTIMEZONE
BEGIN:VEVENT
DTSTAMP:20260424T132048Z
DTSTART;TZID=Europe/Berlin:20250819T201500
DTEND;TZID=Europe/Berlin:20250819T214500
SUMMARY:F Freundschaftsspiel M RHV vs. Weinböhla 1 Radebeuler Handball-Verein e.V. 1 vs HSV Weinböhla e.V. 1 (1)
UID:9e9526f1-778b-47bc-bd04-e3fd18dea510
STATUS:CONFIRMED
DESCRIPTION:Freundschaftsspiel Freundschaftsspiel M RHV vs. Weinböhla 1\nBegegnungs-Nr: 1\nHeim: Radebeuler Handball-Verein e.V. 1\nGast: HSV Weinböhla e.V. 1\nHalle: Lößnitz-SH Radebeul (33204)\nAdresse: Steinbachstr. 13\, 01445 Radebeul\n
LOCATION:Lößnitz-SH Radebeul (33204): Steinbachstr. 13\, 01445 Radebeul
CATEGORIES:Saison Freundschaft 2025/26
END:VEVENT
BEGIN:VEVENT
DTSTAMP:20260424T132048Z
DTSTART;TZID=Europe/Berlin:20251009T190000
DTEND;TZID=Europe/Berlin:20251009T203000
SUMMARY:F Freundschaftsspiel mA RHV vs. Leipzig-Mockau Radebeuler Handball-Verein e.V. 1 vs TuS Leipzig-Mockau 1 (1)
UID:47b745d7-57cd-482f-bb63-856be5e5c68b
STATUS:CONFIRMED
DESCRIPTION:Freundschaftsspiel Freundschaftsspiel mA RHV vs. Leipzig-Mockau\nBegegnungs-Nr: 1\nHeim: Radebeuler Handball-Verein e.V. 1\nGast: TuS Leipzig-Mockau 1\nHalle: Lößnitz-SH Radebeul (33204)\nAdresse: Steinbachstr. 13\, 01445 Radebeul\n
LOCATION:Lößnitz-SH Radebeul (33204): Steinbachstr. 13\, 01445 Radebeul
CATEGORIES:Saison Freundschaft 2025/26
END:VEVENT
BEGIN:VEVENT
DTSTAMP:20260424T132048Z
DTSTART;TZID=Europe/Berlin:20250807T201500
DTEND;TZID=Europe/Berlin:20250807T214500
SUMMARY:F Freundschaftsspiel M RHV vs. Weinböhla 2 Radebeuler Handball-Verein e.V. 1 vs HSV Weinböhla e.V. 2 (1)
UID:26c487ff-8331-454e-b97f-a5257c917bf3
STATUS:CONFIRMED
DESCRIPTION:Freundschaftsspiel Freundschaftsspiel M RHV vs. Weinböhla 2\nBegegnungs-Nr: 1\nHeim: Radebeuler Handball-Verein e.V. 1\nGast: HSV Weinböhla e.V. 2\nHalle: Elb-SH Radebeul West (33203)\nAdresse: An der Festwiese 1\, 01445 Radebeul\n
LOCATION:Elb-SH Radebeul West (33203): An der Festwiese 1\, 01445 Radebeul
CATEGORIES:Saison Freundschaft 2025/26
END:VEVENT
BEGIN:VEVENT
DTSTAMP:20260424T132048Z
DTSTART;TZID=Europe/Berlin:20250816T170000
DTEND;TZID=Europe/Berlin:20250816T183000
SUMMARY:F FS 1.Männer Weißenborn ./. Radebeul SV Rotation Weißenborn e.V. 1 vs Radebeuler Handball-Verein e.V. 1 (4)
UID:3449a768-c4d8-426b-89ee-2f443a84257d
STATUS:CONFIRMED
DESCRIPTION:Freundschaftsspiel FS 1.Männer Weißenborn ./. Radebeul\nBegegnungs-Nr: 4\nHeim: SV Rotation Weißenborn e.V. 1\nGast: Radebeuler Handball-Verein e.V. 1\nHalle: SH Schoeller Weißenborn (32415)\nAdresse: Lichtenberger Straße 8\, 09600 Weißenborn\n
LOCATION:SH Schoeller Weißenborn (32415): Lichtenberger Straße 8\, 09600 Weißenborn
CATEGORIES:Saison Freundschaft 2025/26
END:VEVENT
BEGIN:VEVENT
DTSTAMP:20260424T132048Z
DTSTART;TZID=Europe/Berlin:20250815T190000
DTEND;TZID=Europe/Berlin:20250815T193000
SUMMARY:F Testspiel Burgstädter HC e.V. 1 vs Radebeuler Handball-Verein e.V. 1 (0)
UID:1003874b-69a4-4952-ab51-0f7ad737b7ba
STATUS:CONFIRMED
DESCRIPTION:Freundschaftsspiel Testspiel\nBegegnungs-Nr: 0\nHeim: Burgstädter HC e.V. 1\nGast: Radebeuler Handball-Verein e.V. 1\nHalle: SH Burgstädt - Sportzentrum am Taurastein (32206)\nAdresse: Am Stadion 22\, 09217  Burgstädt\n
LOCATION:SH Burgstädt - Sportzentrum am Taurastein (32206): Am Stadion 22\, 09217  Burgstädt
CATEGORIES:Saison Freundschaft 2025/26
END:VEVENT
END:VCALENDAR
