BEGIN:VCALENDAR
PRODID:-//nuDatenautomaten//framework iCal4j //DE
VERSION:2.0
CALSCALE:GREGORIAN
BEGIN:VTIMEZONE
TZID:Europe/Berlin
LAST-MODIFIED:20260306T231828Z
TZURL:https://www.tzurl.org/zoneinfo/Europe/Berlin
X-LIC-LOCATION:Europe/Berlin
X-PROLEPTIC-TZNAME:LMT
BEGIN:STANDARD
TZNAME:CET
TZOFFSETFROM:+005328
TZOFFSETTO:+0100
DTSTART:18930401T000000
END:STANDARD
BEGIN:DAYLIGHT
TZNAME:CEST
TZOFFSETFROM:+0100
TZOFFSETTO:+0200
DTSTART:19160430T230000
RDATE:19400401T020000
RDATE:19430329T020000
RDATE:19460414T020000
RDATE:19470406T030000
RDATE:19480418T020000
RDATE:19490410T020000
RDATE:19800406T020000
END:DAYLIGHT
BEGIN:STANDARD
TZNAME:CET
TZOFFSETFROM:+0200
TZOFFSETTO:+0100
DTSTART:19161001T010000
RDATE:19421102T030000
RDATE:19431004T030000
RDATE:19441002T030000
RDATE:19451118T030000
RDATE:19461007T030000
END:STANDARD
BEGIN:DAYLIGHT
TZNAME:CEST
TZOFFSETFROM:+0100
TZOFFSETTO:+0200
DTSTART:19170416T020000
RRULE:FREQ=YEARLY;UNTIL=19180415T010000Z;BYMONTH=4;BYDAY=3MO
END:DAYLIGHT
BEGIN:STANDARD
TZNAME:CET
TZOFFSETFROM:+0200
TZOFFSETTO:+0100
DTSTART:19170917T030000
RRULE:FREQ=YEARLY;UNTIL=19180916T010000Z;BYMONTH=9;BYDAY=3MO
END:STANDARD
BEGIN:DAYLIGHT
TZNAME:CEST
TZOFFSETFROM:+0100
TZOFFSETTO:+0200
DTSTART:19440403T020000
RRULE:FREQ=YEARLY;UNTIL=19450402T010000Z;BYMONTH=4;BYDAY=1MO
END:DAYLIGHT
BEGIN:DAYLIGHT
TZNAME:CEMT
TZOFFSETFROM:+0200
TZOFFSETTO:+0300
DTSTART:19450524T020000
RDATE:19470511T030000
END:DAYLIGHT
BEGIN:DAYLIGHT
TZNAME:CEST
TZOFFSETFROM:+0300
TZOFFSETTO:+0200
DTSTART:19450924T030000
RDATE:19470629T030000
END:DAYLIGHT
BEGIN:STANDARD
TZNAME:CET
TZOFFSETFROM:+0100
TZOFFSETTO:+0100
DTSTART:19460101T000000
RDATE:19800101T000000
END:STANDARD
BEGIN:STANDARD
TZNAME:CET
TZOFFSETFROM:+0200
TZOFFSETTO:+0100
DTSTART:19471005T030000
RRULE:FREQ=YEARLY;UNTIL=19491002T010000Z;BYMONTH=10;BYDAY=1SU
END:STANDARD
BEGIN:STANDARD
TZNAME:CET
TZOFFSETFROM:+0200
TZOFFSETTO:+0100
DTSTART:19800928T030000
RRULE:FREQ=YEARLY;UNTIL=19950924T010000Z;BYMONTH=9;BYDAY=-1SU
END:STANDARD
BEGIN:DAYLIGHT
TZNAME:CEST
TZOFFSETFROM:+0100
TZOFFSETTO:+0200
DTSTART:19810329T020000
RRULE:FREQ=YEARLY;BYMONTH=3;BYDAY=-1SU
END:DAYLIGHT
BEGIN:STANDARD
TZNAME:CET
TZOFFSETFROM:+0200
TZOFFSETTO:+0100
DTSTART:19961027T030000
RRULE:FREQ=YEARLY;BYMONTH=10;BYDAY=-1SU
END:STANDARD
END:VTIMEZONE
BEGIN:VEVENT
DTSTAMP:20260424T052221Z
DTSTART;TZID=Europe/Berlin:20251213T104000
DTEND;TZID=Europe/Berlin:20251213T114000
SUMMARY:T GENOS-Cup E-Jugend Radeberger SV 1 vs TJ Sokol Uvaly 1 (2)
UID:50073b05-7d82-4fed-9ecc-3eb86a761a18
STATUS:CONFIRMED
DESCRIPTION:Turnier GENOS-Cup E-Jugend\nBegegnungs-Nr: 2\nHeim: Radeberger SV 1\nGast: TJ Sokol Uvaly 1\nHalle: SH Rauschwalde (34301)\nAdresse: Diesterwegplatz 8\, 02827 Görlitz\n
LOCATION:SH Rauschwalde (34301): Diesterwegplatz 8\, 02827 Görlitz
CATEGORIES:Saison Freundschaft 2025/26
END:VEVENT
BEGIN:VEVENT
DTSTAMP:20260424T052221Z
DTSTART;TZID=Europe/Berlin:20250827T203000
DTEND;TZID=Europe/Berlin:20250827T220000
SUMMARY:F Testspiel Radeberger SV 1 vs HV Oberlausitz Cunewalde e.V. 1 (1)
UID:228384c1-e2a2-4a0c-b54e-03b40d720071
STATUS:CONFIRMED
DESCRIPTION:Freundschaftsspiel Testspiel\nBegegnungs-Nr: 1\nHeim: Radeberger SV 1\nGast: HV Oberlausitz Cunewalde e.V. 1\nHalle: 3-Feld-Halle-BSZ Radeberg (34209)\nAdresse: Robert-Blum-Weg 5\, 01454 Radeberg\n
LOCATION:3-Feld-Halle-BSZ Radeberg (34209): Robert-Blum-Weg 5\, 01454 Radeberg
CATEGORIES:Saison Freundschaft 2025/26
END:VEVENT
BEGIN:VEVENT
DTSTAMP:20260424T052221Z
DTSTART;TZID=Europe/Berlin:20250807T203000
DTEND;TZID=Europe/Berlin:20250807T220000
SUMMARY:F F KJS vs. RSV KJS-Club Dresden 1 vs Radeberger SV 1 (1)
UID:47624ca7-9988-4782-b889-8b4025c85ec5
STATUS:CONFIRMED
DESCRIPTION:Freundschaftsspiel F KJS vs. RSV\nBegegnungs-Nr: 1\nHeim: KJS-Club Dresden 1\nGast: Radeberger SV 1\nHalle: SH Bertolt-Brecht-Gymnasium Dresden (33129)\nAdresse: Thomaestraße 60\, 01307 Dresden\n
LOCATION:SH Bertolt-Brecht-Gymnasium Dresden (33129): Thomaestraße 60\, 01307 Dresden
CATEGORIES:Saison Freundschaft 2025/26
END:VEVENT
BEGIN:VEVENT
DTSTAMP:20260424T052221Z
DTSTART;TZID=Europe/Berlin:20251213T121500
DTEND;TZID=Europe/Berlin:20251213T131500
SUMMARY:T GENOS-Cup E-Jugend Görlitzer HC - Die GÖRLS 1 vs Radeberger SV 1 (4)
UID:15b35ccf-e9f7-4925-be09-214d4b99be89
STATUS:CONFIRMED
DESCRIPTION:Turnier GENOS-Cup E-Jugend\nBegegnungs-Nr: 4\nHeim: Görlitzer HC - Die GÖRLS 1\nGast: Radeberger SV 1\nHalle: SH Rauschwalde (34301)\nAdresse: Diesterwegplatz 8\, 02827 Görlitz\n
LOCATION:SH Rauschwalde (34301): Diesterwegplatz 8\, 02827 Görlitz
CATEGORIES:Saison Freundschaft 2025/26
END:VEVENT
BEGIN:VEVENT
DTSTAMP:20260424T052221Z
DTSTART;TZID=Europe/Berlin:20251213T141000
DTEND;TZID=Europe/Berlin:20251213T151000
SUMMARY:T GENOS-Cup E-Jugend Koweg Görlitz 1 vs Radeberger SV 1 (6)
UID:5d782e9f-816f-40e4-ba07-8a62ec404607
STATUS:CONFIRMED
DESCRIPTION:Turnier GENOS-Cup E-Jugend\nBegegnungs-Nr: 6\nHeim: Koweg Görlitz 1\nGast: Radeberger SV 1\nHalle: SH Rauschwalde (34301)\nAdresse: Diesterwegplatz 8\, 02827 Görlitz\n
LOCATION:SH Rauschwalde (34301): Diesterwegplatz 8\, 02827 Görlitz
CATEGORIES:Saison Freundschaft 2025/26
END:VEVENT
END:VCALENDAR
