BEGIN:VCALENDAR
PRODID:-//nuDatenautomaten//framework iCal4j //DE
VERSION:2.0
CALSCALE:GREGORIAN
BEGIN:VTIMEZONE
TZID:Europe/Berlin
LAST-MODIFIED:20260306T231828Z
TZURL:https://www.tzurl.org/zoneinfo/Europe/Berlin
X-LIC-LOCATION:Europe/Berlin
X-PROLEPTIC-TZNAME:LMT
BEGIN:STANDARD
TZNAME:CET
TZOFFSETFROM:+005328
TZOFFSETTO:+0100
DTSTART:18930401T000000
END:STANDARD
BEGIN:DAYLIGHT
TZNAME:CEST
TZOFFSETFROM:+0100
TZOFFSETTO:+0200
DTSTART:19160430T230000
RDATE:19400401T020000
RDATE:19430329T020000
RDATE:19460414T020000
RDATE:19470406T030000
RDATE:19480418T020000
RDATE:19490410T020000
RDATE:19800406T020000
END:DAYLIGHT
BEGIN:STANDARD
TZNAME:CET
TZOFFSETFROM:+0200
TZOFFSETTO:+0100
DTSTART:19161001T010000
RDATE:19421102T030000
RDATE:19431004T030000
RDATE:19441002T030000
RDATE:19451118T030000
RDATE:19461007T030000
END:STANDARD
BEGIN:DAYLIGHT
TZNAME:CEST
TZOFFSETFROM:+0100
TZOFFSETTO:+0200
DTSTART:19170416T020000
RRULE:FREQ=YEARLY;UNTIL=19180415T010000Z;BYMONTH=4;BYDAY=3MO
END:DAYLIGHT
BEGIN:STANDARD
TZNAME:CET
TZOFFSETFROM:+0200
TZOFFSETTO:+0100
DTSTART:19170917T030000
RRULE:FREQ=YEARLY;UNTIL=19180916T010000Z;BYMONTH=9;BYDAY=3MO
END:STANDARD
BEGIN:DAYLIGHT
TZNAME:CEST
TZOFFSETFROM:+0100
TZOFFSETTO:+0200
DTSTART:19440403T020000
RRULE:FREQ=YEARLY;UNTIL=19450402T010000Z;BYMONTH=4;BYDAY=1MO
END:DAYLIGHT
BEGIN:DAYLIGHT
TZNAME:CEMT
TZOFFSETFROM:+0200
TZOFFSETTO:+0300
DTSTART:19450524T020000
RDATE:19470511T030000
END:DAYLIGHT
BEGIN:DAYLIGHT
TZNAME:CEST
TZOFFSETFROM:+0300
TZOFFSETTO:+0200
DTSTART:19450924T030000
RDATE:19470629T030000
END:DAYLIGHT
BEGIN:STANDARD
TZNAME:CET
TZOFFSETFROM:+0100
TZOFFSETTO:+0100
DTSTART:19460101T000000
RDATE:19800101T000000
END:STANDARD
BEGIN:STANDARD
TZNAME:CET
TZOFFSETFROM:+0200
TZOFFSETTO:+0100
DTSTART:19471005T030000
RRULE:FREQ=YEARLY;UNTIL=19491002T010000Z;BYMONTH=10;BYDAY=1SU
END:STANDARD
BEGIN:STANDARD
TZNAME:CET
TZOFFSETFROM:+0200
TZOFFSETTO:+0100
DTSTART:19800928T030000
RRULE:FREQ=YEARLY;UNTIL=19950924T010000Z;BYMONTH=9;BYDAY=-1SU
END:STANDARD
BEGIN:DAYLIGHT
TZNAME:CEST
TZOFFSETFROM:+0100
TZOFFSETTO:+0200
DTSTART:19810329T020000
RRULE:FREQ=YEARLY;BYMONTH=3;BYDAY=-1SU
END:DAYLIGHT
BEGIN:STANDARD
TZNAME:CET
TZOFFSETFROM:+0200
TZOFFSETTO:+0100
DTSTART:19961027T030000
RRULE:FREQ=YEARLY;BYMONTH=10;BYDAY=-1SU
END:STANDARD
END:VTIMEZONE
BEGIN:VEVENT
DTSTAMP:20260424T205634Z
DTSTART;TZID=Europe/Berlin:20250824T134600
DTEND;TZID=Europe/Berlin:20250824T141600
SUMMARY:T Vorbereitungsturnier Sportfreunde 01 Dresden  SV 04 Plauen-Oberlosa e.V. 1 vs TBSV Neugersdorf 1990 e.V. 1 (9)
UID:3c62db00-e7e9-47fd-a445-3e825024ea58
STATUS:CONFIRMED
DESCRIPTION:Turnier Vorbereitungsturnier Sportfreunde 01 Dresden \nBegegnungs-Nr: 9\nHeim: SV 04 Plauen-Oberlosa e.V. 1\nGast: TBSV Neugersdorf 1990 e.V. 1\nHalle: SH 151. Gesamtschule Dresden (33142)\nAdresse: Stauffenbergallee 8\, 01099 Dresden\n
LOCATION:SH 151. Gesamtschule Dresden (33142): Stauffenbergallee 8\, 01099 Dresden
CATEGORIES:Saison Freundschaft 2025/26
END:VEVENT
BEGIN:VEVENT
DTSTAMP:20260424T205634Z
DTSTART;TZID=Europe/Berlin:20250802T160000
DTEND;TZID=Europe/Berlin:20250802T173000
SUMMARY:F Testspiel SV 04 Plauen-Oberlosa : HV Grüna SV 04 Plauen-Oberlosa e.V. 1 vs HV Grüna e.V. 1 (0)
UID:185f534e-4394-4cb3-899d-99ea354b1786
STATUS:CONFIRMED
DESCRIPTION:Freundschaftsspiel Testspiel SV 04 Plauen-Oberlosa : HV Grüna\nBegegnungs-Nr: 0\nHeim: SV 04 Plauen-Oberlosa e.V. 1\nGast: HV Grüna e.V. 1\nHalle: SH Kurt-Helbig Plauen (32701)\nAdresse: Comeniusstr. 15\, 08523 Plauen\n
LOCATION:SH Kurt-Helbig Plauen (32701): Comeniusstr. 15\, 08523 Plauen
CATEGORIES:Saison Freundschaft 2025/26
END:VEVENT
BEGIN:VEVENT
DTSTAMP:20260424T205634Z
DTSTART;TZID=Europe/Berlin:20250817T123000
DTEND;TZID=Europe/Berlin:20250817T140000
SUMMARY:T Sparkassen Cup SV 04 Plauen-Oberlosa e.V. 1 vs Zwönitzer HSV 1928 e.V. 1 (4)
UID:5b27aab1-ed2b-4b77-babf-5eb40e8b8835
STATUS:CONFIRMED
DESCRIPTION:Turnier Sparkassen Cup\nBegegnungs-Nr: 4\nHeim: SV 04 Plauen-Oberlosa e.V. 1\nGast: Zwönitzer HSV 1928 e.V. 1\nHalle: SH Zwönitz (32301)\nAdresse: Turnhallenweg 5\, 08297 Zwönitz\n
LOCATION:SH Zwönitz (32301): Turnhallenweg 5\, 08297 Zwönitz
CATEGORIES:Saison Freundschaft 2025/26
END:VEVENT
BEGIN:VEVENT
DTSTAMP:20260424T205634Z
DTSTART;TZID=Europe/Berlin:20250817T163000
DTEND;TZID=Europe/Berlin:20250817T180000
SUMMARY:T Sparkassen Cup SV 04 Plauen-Oberlosa e.V. 1 vs Burgstädter HC e.V. 1 (9)
UID:5e3f96ae-c727-46f2-8d5d-90e5b2172996
STATUS:CONFIRMED
DESCRIPTION:Turnier Sparkassen Cup\nBegegnungs-Nr: 9\nHeim: SV 04 Plauen-Oberlosa e.V. 1\nGast: Burgstädter HC e.V. 1\nHalle: SH Zwönitz (32301)\nAdresse: Turnhallenweg 5\, 08297 Zwönitz\n
LOCATION:SH Zwönitz (32301): Turnhallenweg 5\, 08297 Zwönitz
CATEGORIES:Saison Freundschaft 2025/26
END:VEVENT
BEGIN:VEVENT
DTSTAMP:20260424T205634Z
DTSTART;TZID=Europe/Berlin:20250824T110400
DTEND;TZID=Europe/Berlin:20250824T113400
SUMMARY:T Vorbereitungsturnier Sportfreunde 01 Dresden  HSG Langenhessen/Crimmitschau 1 vs SV 04 Plauen-Oberlosa e.V. 1 (3)
UID:8a576252-ba68-47ba-907f-f2bc78cbd354
STATUS:CONFIRMED
DESCRIPTION:Turnier Vorbereitungsturnier Sportfreunde 01 Dresden \nBegegnungs-Nr: 3\nHeim: HSG Langenhessen/Crimmitschau 1\nGast: SV 04 Plauen-Oberlosa e.V. 1\nHalle: SH 151. Gesamtschule Dresden (33142)\nAdresse: Stauffenbergallee 8\, 01099 Dresden\n
LOCATION:SH 151. Gesamtschule Dresden (33142): Stauffenbergallee 8\, 01099 Dresden
CATEGORIES:Saison Freundschaft 2025/26
END:VEVENT
BEGIN:VEVENT
DTSTAMP:20260424T205634Z
DTSTART;TZID=Europe/Berlin:20250824T144000
DTEND;TZID=Europe/Berlin:20250824T151000
SUMMARY:T Vorbereitungsturnier Sportfreunde 01 Dresden  ESV Dresden e.V. 1 vs SV 04 Plauen-Oberlosa e.V. 1 (11)
UID:1d0d29bc-47ca-4eca-b4fd-4363c0ae34e0
STATUS:CONFIRMED
DESCRIPTION:Turnier Vorbereitungsturnier Sportfreunde 01 Dresden \nBegegnungs-Nr: 11\nHeim: ESV Dresden e.V. 1\nGast: SV 04 Plauen-Oberlosa e.V. 1\nHalle: SH 151. Gesamtschule Dresden (33142)\nAdresse: Stauffenbergallee 8\, 01099 Dresden\n
LOCATION:SH 151. Gesamtschule Dresden (33142): Stauffenbergallee 8\, 01099 Dresden
CATEGORIES:Saison Freundschaft 2025/26
END:VEVENT
BEGIN:VEVENT
DTSTAMP:20260424T205634Z
DTSTART;TZID=Europe/Berlin:20250824T162800
DTEND;TZID=Europe/Berlin:20250824T165800
SUMMARY:T Vorbereitungsturnier Sportfreunde 01 Dresden  Görlitzer HC - Die GÖRLS 2 vs SV 04 Plauen-Oberlosa e.V. 1 (15)
UID:341201d3-439c-4b0a-bfd6-cd342015be02
STATUS:CONFIRMED
DESCRIPTION:Turnier Vorbereitungsturnier Sportfreunde 01 Dresden \nBegegnungs-Nr: 15\nHeim: Görlitzer HC - Die GÖRLS 2\nGast: SV 04 Plauen-Oberlosa e.V. 1\nHalle: SH 151. Gesamtschule Dresden (33142)\nAdresse: Stauffenbergallee 8\, 01099 Dresden\n
LOCATION:SH 151. Gesamtschule Dresden (33142): Stauffenbergallee 8\, 01099 Dresden
CATEGORIES:Saison Freundschaft 2025/26
END:VEVENT
BEGIN:VEVENT
DTSTAMP:20260424T205634Z
DTSTART;TZID=Europe/Berlin:20250824T122500
DTEND;TZID=Europe/Berlin:20250824T125500
SUMMARY:T Vorbereitungsturnier Sportfreunde 01 Dresden  Sportfreunde 01 Dresden-Nord e.V. 1 vs SV 04 Plauen-Oberlosa e.V. 1 (6)
UID:4d48384e-ba15-4b53-96ce-b56948f789a3
STATUS:CONFIRMED
DESCRIPTION:Turnier Vorbereitungsturnier Sportfreunde 01 Dresden \nBegegnungs-Nr: 6\nHeim: Sportfreunde 01 Dresden-Nord e.V. 1\nGast: SV 04 Plauen-Oberlosa e.V. 1\nHalle: SH 151. Gesamtschule Dresden (33142)\nAdresse: Stauffenbergallee 8\, 01099 Dresden\n
LOCATION:SH 151. Gesamtschule Dresden (33142): Stauffenbergallee 8\, 01099 Dresden
CATEGORIES:Saison Freundschaft 2025/26
END:VEVENT
BEGIN:VEVENT
DTSTAMP:20260424T205634Z
DTSTART;TZID=Europe/Berlin:20250816T114000
DTEND;TZID=Europe/Berlin:20250816T124000
SUMMARY:F T-Spiel HCF wD - 16.08.2025 HC Fraureuth e.V. 1 vs SV 04 Plauen-Oberlosa e.V. 1 (1)
UID:ce6e52e7-1447-40f7-a3f7-b2f6494cc494
STATUS:CONFIRMED
DESCRIPTION:Freundschaftsspiel T-Spiel HCF wD - 16.08.2025\nBegegnungs-Nr: 1\nHeim: HC Fraureuth e.V. 1\nGast: SV 04 Plauen-Oberlosa e.V. 1\nHalle: Mehrzweckhalle \"Erich Glowatzky\" Fraureuth (32509)\nAdresse: Zwickauer Str. 8a\, 08427 Fraureuth\n
LOCATION:Mehrzweckhalle \"Erich Glowatzky\" Fraureuth (32509): Zwickauer Str. 8a\, 08427 Fraureuth
CATEGORIES:Saison Freundschaft 2025/26
END:VEVENT
BEGIN:VEVENT
DTSTAMP:20260424T205634Z
DTSTART;TZID=Europe/Berlin:20250817T110000
DTEND;TZID=Europe/Berlin:20250817T123000
SUMMARY:T Sparkassen Cup SV Schneeberg e.V. 1 vs SV 04 Plauen-Oberlosa e.V. 1 (2)
UID:8e89f276-09f7-4d70-97b6-aa8699ee6d12
STATUS:CONFIRMED
DESCRIPTION:Turnier Sparkassen Cup\nBegegnungs-Nr: 2\nHeim: SV Schneeberg e.V. 1\nGast: SV 04 Plauen-Oberlosa e.V. 1\nHalle: SH Zwönitz (32301)\nAdresse: Turnhallenweg 5\, 08297 Zwönitz\n
LOCATION:SH Zwönitz (32301): Turnhallenweg 5\, 08297 Zwönitz
CATEGORIES:Saison Freundschaft 2025/26
END:VEVENT
BEGIN:VEVENT
DTSTAMP:20260424T205634Z
DTSTART;TZID=Europe/Berlin:20250817T141500
DTEND;TZID=Europe/Berlin:20250817T154500
SUMMARY:T Sparkassen Cup HC Glauchau/Meerane e.V. 1 vs SV 04 Plauen-Oberlosa e.V. 1 (6)
UID:21a6978e-93cf-471e-9ce2-d0eed05c54b7
STATUS:CONFIRMED
DESCRIPTION:Turnier Sparkassen Cup\nBegegnungs-Nr: 6\nHeim: HC Glauchau/Meerane e.V. 1\nGast: SV 04 Plauen-Oberlosa e.V. 1\nHalle: SH Zwönitz (32301)\nAdresse: Turnhallenweg 5\, 08297 Zwönitz\n
LOCATION:SH Zwönitz (32301): Turnhallenweg 5\, 08297 Zwönitz
CATEGORIES:Saison Freundschaft 2025/26
END:VEVENT
BEGIN:VEVENT
DTSTAMP:20260424T205634Z
DTSTART;TZID=Europe/Berlin:20260110T160000
DTEND;TZID=Europe/Berlin:20260110T173000
SUMMARY:F T-Spiel HCF wJB - 10.01.2026 HC Fraureuth e.V. 1 vs SV 04 Plauen-Oberlosa e.V. 1 (1)
UID:b6a0d965-20e9-4ded-b5b6-145fe884af19
STATUS:CONFIRMED
DESCRIPTION:Freundschaftsspiel T-Spiel HCF wJB - 10.01.2026\nBegegnungs-Nr: 1\nHeim: HC Fraureuth e.V. 1\nGast: SV 04 Plauen-Oberlosa e.V. 1\nHalle: SH Netzschkau (32704)\nAdresse: Siedlungsstr. 41\, 08491 Netzschkau\n
LOCATION:SH Netzschkau (32704): Siedlungsstr. 41\, 08491 Netzschkau
CATEGORIES:Saison Freundschaft 2025/26
END:VEVENT
END:VCALENDAR
