BEGIN:VCALENDAR
PRODID:-//nuDatenautomaten//framework iCal4j //DE
VERSION:2.0
CALSCALE:GREGORIAN
BEGIN:VTIMEZONE
TZID:Europe/Berlin
LAST-MODIFIED:20260306T231828Z
TZURL:https://www.tzurl.org/zoneinfo/Europe/Berlin
X-LIC-LOCATION:Europe/Berlin
X-PROLEPTIC-TZNAME:LMT
BEGIN:STANDARD
TZNAME:CET
TZOFFSETFROM:+005328
TZOFFSETTO:+0100
DTSTART:18930401T000000
END:STANDARD
BEGIN:DAYLIGHT
TZNAME:CEST
TZOFFSETFROM:+0100
TZOFFSETTO:+0200
DTSTART:19160430T230000
RDATE:19400401T020000
RDATE:19430329T020000
RDATE:19460414T020000
RDATE:19470406T030000
RDATE:19480418T020000
RDATE:19490410T020000
RDATE:19800406T020000
END:DAYLIGHT
BEGIN:STANDARD
TZNAME:CET
TZOFFSETFROM:+0200
TZOFFSETTO:+0100
DTSTART:19161001T010000
RDATE:19421102T030000
RDATE:19431004T030000
RDATE:19441002T030000
RDATE:19451118T030000
RDATE:19461007T030000
END:STANDARD
BEGIN:DAYLIGHT
TZNAME:CEST
TZOFFSETFROM:+0100
TZOFFSETTO:+0200
DTSTART:19170416T020000
RRULE:FREQ=YEARLY;UNTIL=19180415T010000Z;BYMONTH=4;BYDAY=3MO
END:DAYLIGHT
BEGIN:STANDARD
TZNAME:CET
TZOFFSETFROM:+0200
TZOFFSETTO:+0100
DTSTART:19170917T030000
RRULE:FREQ=YEARLY;UNTIL=19180916T010000Z;BYMONTH=9;BYDAY=3MO
END:STANDARD
BEGIN:DAYLIGHT
TZNAME:CEST
TZOFFSETFROM:+0100
TZOFFSETTO:+0200
DTSTART:19440403T020000
RRULE:FREQ=YEARLY;UNTIL=19450402T010000Z;BYMONTH=4;BYDAY=1MO
END:DAYLIGHT
BEGIN:DAYLIGHT
TZNAME:CEMT
TZOFFSETFROM:+0200
TZOFFSETTO:+0300
DTSTART:19450524T020000
RDATE:19470511T030000
END:DAYLIGHT
BEGIN:DAYLIGHT
TZNAME:CEST
TZOFFSETFROM:+0300
TZOFFSETTO:+0200
DTSTART:19450924T030000
RDATE:19470629T030000
END:DAYLIGHT
BEGIN:STANDARD
TZNAME:CET
TZOFFSETFROM:+0100
TZOFFSETTO:+0100
DTSTART:19460101T000000
RDATE:19800101T000000
END:STANDARD
BEGIN:STANDARD
TZNAME:CET
TZOFFSETFROM:+0200
TZOFFSETTO:+0100
DTSTART:19471005T030000
RRULE:FREQ=YEARLY;UNTIL=19491002T010000Z;BYMONTH=10;BYDAY=1SU
END:STANDARD
BEGIN:STANDARD
TZNAME:CET
TZOFFSETFROM:+0200
TZOFFSETTO:+0100
DTSTART:19800928T030000
RRULE:FREQ=YEARLY;UNTIL=19950924T010000Z;BYMONTH=9;BYDAY=-1SU
END:STANDARD
BEGIN:DAYLIGHT
TZNAME:CEST
TZOFFSETFROM:+0100
TZOFFSETTO:+0200
DTSTART:19810329T020000
RRULE:FREQ=YEARLY;BYMONTH=3;BYDAY=-1SU
END:DAYLIGHT
BEGIN:STANDARD
TZNAME:CET
TZOFFSETFROM:+0200
TZOFFSETTO:+0100
DTSTART:19961027T030000
RRULE:FREQ=YEARLY;BYMONTH=10;BYDAY=-1SU
END:STANDARD
END:VTIMEZONE
BEGIN:VEVENT
DTSTAMP:20260424T221607Z
DTSTART;TZID=Europe/Berlin:20250824T110400
DTEND;TZID=Europe/Berlin:20250824T113400
SUMMARY:T Vorbereitungsturnier Sportfreunde 01 Dresden  HSG Langenhessen/Crimmitschau 1 vs SV 04 Plauen-Oberlosa e.V. 1 (3)
UID:8a576252-ba68-47ba-907f-f2bc78cbd354
STATUS:CONFIRMED
DESCRIPTION:Turnier Vorbereitungsturnier Sportfreunde 01 Dresden \nBegegnungs-Nr: 3\nHeim: HSG Langenhessen/Crimmitschau 1\nGast: SV 04 Plauen-Oberlosa e.V. 1\nHalle: SH 151. Gesamtschule Dresden (33142)\nAdresse: Stauffenbergallee 8\, 01099 Dresden\n
LOCATION:SH 151. Gesamtschule Dresden (33142): Stauffenbergallee 8\, 01099 Dresden
CATEGORIES:Saison Freundschaft 2025/26
END:VEVENT
BEGIN:VEVENT
DTSTAMP:20260424T221607Z
DTSTART;TZID=Europe/Berlin:20250805T183000
DTEND;TZID=Europe/Berlin:20250805T190000
SUMMARY:F Testspiel HSG Langenhessen/Crimmitschau 1 vs HC Glauchau/Meerane e.V. 2 (1)
UID:5f462c08-44ab-4f58-9c27-3b779b414558
STATUS:CONFIRMED
DESCRIPTION:Freundschaftsspiel Testspiel\nBegegnungs-Nr: 1\nHeim: HSG Langenhessen/Crimmitschau 1\nGast: HC Glauchau/Meerane e.V. 2\nHalle: SH Koberbachzentrum Langenhessen (32505)\nAdresse: Seelingstädter Str. 7\, 08412 Werdau OT Langenhessen\n
LOCATION:SH Koberbachzentrum Langenhessen (32505): Seelingstädter Str. 7\, 08412 Werdau OT Langenhessen
CATEGORIES:Saison Freundschaft 2025/26
END:VEVENT
BEGIN:VEVENT
DTSTAMP:20260424T221607Z
DTSTART;TZID=Europe/Berlin:20250824T141300
DTEND;TZID=Europe/Berlin:20250824T144300
SUMMARY:T Vorbereitungsturnier Sportfreunde 01 Dresden  Sportfreunde 01 Dresden-Nord e.V. 1 vs HSG Langenhessen/Crimmitschau 1 (10)
UID:877f3a3b-ec81-48e5-b451-50540ed80d1a
STATUS:CONFIRMED
DESCRIPTION:Turnier Vorbereitungsturnier Sportfreunde 01 Dresden \nBegegnungs-Nr: 10\nHeim: Sportfreunde 01 Dresden-Nord e.V. 1\nGast: HSG Langenhessen/Crimmitschau 1\nHalle: SH 151. Gesamtschule Dresden (33142)\nAdresse: Stauffenbergallee 8\, 01099 Dresden\n
LOCATION:SH 151. Gesamtschule Dresden (33142): Stauffenbergallee 8\, 01099 Dresden
CATEGORIES:Saison Freundschaft 2025/26
END:VEVENT
BEGIN:VEVENT
DTSTAMP:20260424T221607Z
DTSTART;TZID=Europe/Berlin:20250824T160100
DTEND;TZID=Europe/Berlin:20250824T163100
SUMMARY:T Vorbereitungsturnier Sportfreunde 01 Dresden  TBSV Neugersdorf 1990 e.V. 1 vs HSG Langenhessen/Crimmitschau 1 (14)
UID:7a2a65ab-4843-427c-bd27-3a801ce047d1
STATUS:CONFIRMED
DESCRIPTION:Turnier Vorbereitungsturnier Sportfreunde 01 Dresden \nBegegnungs-Nr: 14\nHeim: TBSV Neugersdorf 1990 e.V. 1\nGast: HSG Langenhessen/Crimmitschau 1\nHalle: SH 151. Gesamtschule Dresden (33142)\nAdresse: Stauffenbergallee 8\, 01099 Dresden\n
LOCATION:SH 151. Gesamtschule Dresden (33142): Stauffenbergallee 8\, 01099 Dresden
CATEGORIES:Saison Freundschaft 2025/26
END:VEVENT
BEGIN:VEVENT
DTSTAMP:20260424T221607Z
DTSTART;TZID=Europe/Berlin:20250824T115800
DTEND;TZID=Europe/Berlin:20250824T122800
SUMMARY:T Vorbereitungsturnier Sportfreunde 01 Dresden  Görlitzer HC - Die GÖRLS 2 vs HSG Langenhessen/Crimmitschau 1 (5)
UID:2b8b88e9-1e12-4011-ad44-f1c513935a3e
STATUS:CONFIRMED
DESCRIPTION:Turnier Vorbereitungsturnier Sportfreunde 01 Dresden \nBegegnungs-Nr: 5\nHeim: Görlitzer HC - Die GÖRLS 2\nGast: HSG Langenhessen/Crimmitschau 1\nHalle: SH 151. Gesamtschule Dresden (33142)\nAdresse: Stauffenbergallee 8\, 01099 Dresden\n
LOCATION:SH 151. Gesamtschule Dresden (33142): Stauffenbergallee 8\, 01099 Dresden
CATEGORIES:Saison Freundschaft 2025/26
END:VEVENT
BEGIN:VEVENT
DTSTAMP:20260424T221607Z
DTSTART;TZID=Europe/Berlin:20250824T125200
DTEND;TZID=Europe/Berlin:20250824T132200
SUMMARY:T Vorbereitungsturnier Sportfreunde 01 Dresden  ESV Dresden e.V. 1 vs HSG Langenhessen/Crimmitschau 1 (7)
UID:57e9fdb1-5346-4065-9441-bd46c1f4cd9d
STATUS:CONFIRMED
DESCRIPTION:Turnier Vorbereitungsturnier Sportfreunde 01 Dresden \nBegegnungs-Nr: 7\nHeim: ESV Dresden e.V. 1\nGast: HSG Langenhessen/Crimmitschau 1\nHalle: SH 151. Gesamtschule Dresden (33142)\nAdresse: Stauffenbergallee 8\, 01099 Dresden\n
LOCATION:SH 151. Gesamtschule Dresden (33142): Stauffenbergallee 8\, 01099 Dresden
CATEGORIES:Saison Freundschaft 2025/26
END:VEVENT
END:VCALENDAR
