BEGIN:VCALENDAR
PRODID:-//nuDatenautomaten//framework iCal4j //DE
VERSION:2.0
CALSCALE:GREGORIAN
BEGIN:VTIMEZONE
TZID:Europe/Berlin
LAST-MODIFIED:20260306T231828Z
TZURL:https://www.tzurl.org/zoneinfo/Europe/Berlin
X-LIC-LOCATION:Europe/Berlin
X-PROLEPTIC-TZNAME:LMT
BEGIN:STANDARD
TZNAME:CET
TZOFFSETFROM:+005328
TZOFFSETTO:+0100
DTSTART:18930401T000000
END:STANDARD
BEGIN:DAYLIGHT
TZNAME:CEST
TZOFFSETFROM:+0100
TZOFFSETTO:+0200
DTSTART:19160430T230000
RDATE:19400401T020000
RDATE:19430329T020000
RDATE:19460414T020000
RDATE:19470406T030000
RDATE:19480418T020000
RDATE:19490410T020000
RDATE:19800406T020000
END:DAYLIGHT
BEGIN:STANDARD
TZNAME:CET
TZOFFSETFROM:+0200
TZOFFSETTO:+0100
DTSTART:19161001T010000
RDATE:19421102T030000
RDATE:19431004T030000
RDATE:19441002T030000
RDATE:19451118T030000
RDATE:19461007T030000
END:STANDARD
BEGIN:DAYLIGHT
TZNAME:CEST
TZOFFSETFROM:+0100
TZOFFSETTO:+0200
DTSTART:19170416T020000
RRULE:FREQ=YEARLY;UNTIL=19180415T010000Z;BYMONTH=4;BYDAY=3MO
END:DAYLIGHT
BEGIN:STANDARD
TZNAME:CET
TZOFFSETFROM:+0200
TZOFFSETTO:+0100
DTSTART:19170917T030000
RRULE:FREQ=YEARLY;UNTIL=19180916T010000Z;BYMONTH=9;BYDAY=3MO
END:STANDARD
BEGIN:DAYLIGHT
TZNAME:CEST
TZOFFSETFROM:+0100
TZOFFSETTO:+0200
DTSTART:19440403T020000
RRULE:FREQ=YEARLY;UNTIL=19450402T010000Z;BYMONTH=4;BYDAY=1MO
END:DAYLIGHT
BEGIN:DAYLIGHT
TZNAME:CEMT
TZOFFSETFROM:+0200
TZOFFSETTO:+0300
DTSTART:19450524T020000
RDATE:19470511T030000
END:DAYLIGHT
BEGIN:DAYLIGHT
TZNAME:CEST
TZOFFSETFROM:+0300
TZOFFSETTO:+0200
DTSTART:19450924T030000
RDATE:19470629T030000
END:DAYLIGHT
BEGIN:STANDARD
TZNAME:CET
TZOFFSETFROM:+0100
TZOFFSETTO:+0100
DTSTART:19460101T000000
RDATE:19800101T000000
END:STANDARD
BEGIN:STANDARD
TZNAME:CET
TZOFFSETFROM:+0200
TZOFFSETTO:+0100
DTSTART:19471005T030000
RRULE:FREQ=YEARLY;UNTIL=19491002T010000Z;BYMONTH=10;BYDAY=1SU
END:STANDARD
BEGIN:STANDARD
TZNAME:CET
TZOFFSETFROM:+0200
TZOFFSETTO:+0100
DTSTART:19800928T030000
RRULE:FREQ=YEARLY;UNTIL=19950924T010000Z;BYMONTH=9;BYDAY=-1SU
END:STANDARD
BEGIN:DAYLIGHT
TZNAME:CEST
TZOFFSETFROM:+0100
TZOFFSETTO:+0200
DTSTART:19810329T020000
RRULE:FREQ=YEARLY;BYMONTH=3;BYDAY=-1SU
END:DAYLIGHT
BEGIN:STANDARD
TZNAME:CET
TZOFFSETFROM:+0200
TZOFFSETTO:+0100
DTSTART:19961027T030000
RRULE:FREQ=YEARLY;BYMONTH=10;BYDAY=-1SU
END:STANDARD
END:VTIMEZONE
BEGIN:VEVENT
DTSTAMP:20260424T130145Z
DTSTART;TZID=Europe/Berlin:20260106T200000
DTEND;TZID=Europe/Berlin:20260106T213000
SUMMARY:F Testspiel SV 04 Plauen-Oberlosa II : Union Chemnitz SV 04 Plauen-Oberlosa e.V. 2 vs Union Chemnitz 1 (0)
UID:94466f90-f62d-4c5a-972a-8f16766a864c
STATUS:CONFIRMED
DESCRIPTION:Freundschaftsspiel Testspiel SV 04 Plauen-Oberlosa II : Union Chemnitz\nBegegnungs-Nr: 0\nHeim: SV 04 Plauen-Oberlosa e.V. 2\nGast: Union Chemnitz 1\nHalle: SH Kurt-Helbig Plauen (32701)\nAdresse: Comeniusstr. 15\, 08523 Plauen\n
LOCATION:SH Kurt-Helbig Plauen (32701): Comeniusstr. 15\, 08523 Plauen
CATEGORIES:Saison Freundschaft 2025/26
END:VEVENT
BEGIN:VEVENT
DTSTAMP:20260424T130145Z
DTSTART;TZID=Europe/Berlin:20250823T160000
DTEND;TZID=Europe/Berlin:20250823T173000
SUMMARY:F Testspiel HSG Neudorf/Döbeln - Plauen Oberlosa II HSG Neudorf/Döbeln e.V. 1 vs SV 04 Plauen-Oberlosa e.V. 2 (0)
UID:cc0bda58-27e9-4551-9dcb-d8c95137c0b6
STATUS:CONFIRMED
DESCRIPTION:Freundschaftsspiel Testspiel HSG Neudorf/Döbeln - Plauen Oberlosa II\nBegegnungs-Nr: 0\nHeim: HSG Neudorf/Döbeln e.V. 1\nGast: SV 04 Plauen-Oberlosa e.V. 2\nHalle: Stadtsporthalle Döbeln\nAdresse: Straße des Friedens 9 \, 04720 Döbeln\n
LOCATION:Stadtsporthalle Döbeln Straße des Friedens 9 \, 04720 Döbeln
CATEGORIES:Saison Freundschaft 2025/26
END:VEVENT
BEGIN:VEVENT
DTSTAMP:20260424T130145Z
DTSTART;TZID=Europe/Berlin:20250815T193500
DTEND;TZID=Europe/Berlin:20250815T210500
SUMMARY:F Testspiel HVO vs. Plauen Oberlosa HV Oberlausitz Cunewalde e.V. 1 vs SV 04 Plauen-Oberlosa e.V. 2 (0)
UID:5c0d654e-abff-45e1-aa9a-0c18e5488003
STATUS:CONFIRMED
DESCRIPTION:Freundschaftsspiel Testspiel HVO vs. Plauen Oberlosa\nBegegnungs-Nr: 0\nHeim: HV Oberlausitz Cunewalde e.V. 1\nGast: SV 04 Plauen-Oberlosa e.V. 2\nHalle: 2-Feld-Halle Sorbisches Schul- und Begegnungszentrum Bautzen (34511)\nAdresse: Friedrich - List - Str. 8\, 02625 Bautzen\n
LOCATION:2-Feld-Halle Sorbisches Schul- und Begegnungszentrum Bautzen (34511): Friedrich - List - Str. 8\, 02625 Bautzen
CATEGORIES:Saison Freundschaft 2025/26
END:VEVENT
BEGIN:VEVENT
DTSTAMP:20260424T130145Z
DTSTART;TZID=Europe/Berlin:20250808T193000
DTEND;TZID=Europe/Berlin:20250808T210000
SUMMARY:F Herren SG Helmbrechts/Münchberg - SV 04 Plauen-Oberlosa e.V. 2 SG Helmbrechts/Münchberg 1 vs SV 04 Plauen-Oberlosa e.V. 2 (1)
UID:7bdfe561-bbfd-47ad-bd38-69e8a7394c9d
STATUS:CONFIRMED
LAST-MODIFIED:20250815T133927Z
DESCRIPTION:Freundschaftsspiel Herren SG Helmbrechts/Münchberg - SV 04 Plauen-Oberlosa e.V. 2\nBegegnungs-Nr: 1\nHeim: SG Helmbrechts/Münchberg 1\nGast: SV 04 Plauen-Oberlosa e.V. 2\nHalle: Münchberg\, Gymnasiumhalle (220224)\nAdresse: Hofer Str. 41\, 95213 Münchberg\n
LOCATION:Münchberg\, Gymnasiumhalle (220224): Hofer Str. 41\, 95213 Münchberg
CATEGORIES:Saison Freundschaft 2025/26
END:VEVENT
END:VCALENDAR
