BEGIN:VCALENDAR
PRODID:-//nuDatenautomaten//framework iCal4j //DE
VERSION:2.0
CALSCALE:GREGORIAN
BEGIN:VTIMEZONE
TZID:Europe/Berlin
LAST-MODIFIED:20260306T231828Z
TZURL:https://www.tzurl.org/zoneinfo/Europe/Berlin
X-LIC-LOCATION:Europe/Berlin
X-PROLEPTIC-TZNAME:LMT
BEGIN:STANDARD
TZNAME:CET
TZOFFSETFROM:+005328
TZOFFSETTO:+0100
DTSTART:18930401T000000
END:STANDARD
BEGIN:DAYLIGHT
TZNAME:CEST
TZOFFSETFROM:+0100
TZOFFSETTO:+0200
DTSTART:19160430T230000
RDATE:19400401T020000
RDATE:19430329T020000
RDATE:19460414T020000
RDATE:19470406T030000
RDATE:19480418T020000
RDATE:19490410T020000
RDATE:19800406T020000
END:DAYLIGHT
BEGIN:STANDARD
TZNAME:CET
TZOFFSETFROM:+0200
TZOFFSETTO:+0100
DTSTART:19161001T010000
RDATE:19421102T030000
RDATE:19431004T030000
RDATE:19441002T030000
RDATE:19451118T030000
RDATE:19461007T030000
END:STANDARD
BEGIN:DAYLIGHT
TZNAME:CEST
TZOFFSETFROM:+0100
TZOFFSETTO:+0200
DTSTART:19170416T020000
RRULE:FREQ=YEARLY;UNTIL=19180415T010000Z;BYMONTH=4;BYDAY=3MO
END:DAYLIGHT
BEGIN:STANDARD
TZNAME:CET
TZOFFSETFROM:+0200
TZOFFSETTO:+0100
DTSTART:19170917T030000
RRULE:FREQ=YEARLY;UNTIL=19180916T010000Z;BYMONTH=9;BYDAY=3MO
END:STANDARD
BEGIN:DAYLIGHT
TZNAME:CEST
TZOFFSETFROM:+0100
TZOFFSETTO:+0200
DTSTART:19440403T020000
RRULE:FREQ=YEARLY;UNTIL=19450402T010000Z;BYMONTH=4;BYDAY=1MO
END:DAYLIGHT
BEGIN:DAYLIGHT
TZNAME:CEMT
TZOFFSETFROM:+0200
TZOFFSETTO:+0300
DTSTART:19450524T020000
RDATE:19470511T030000
END:DAYLIGHT
BEGIN:DAYLIGHT
TZNAME:CEST
TZOFFSETFROM:+0300
TZOFFSETTO:+0200
DTSTART:19450924T030000
RDATE:19470629T030000
END:DAYLIGHT
BEGIN:STANDARD
TZNAME:CET
TZOFFSETFROM:+0100
TZOFFSETTO:+0100
DTSTART:19460101T000000
RDATE:19800101T000000
END:STANDARD
BEGIN:STANDARD
TZNAME:CET
TZOFFSETFROM:+0200
TZOFFSETTO:+0100
DTSTART:19471005T030000
RRULE:FREQ=YEARLY;UNTIL=19491002T010000Z;BYMONTH=10;BYDAY=1SU
END:STANDARD
BEGIN:STANDARD
TZNAME:CET
TZOFFSETFROM:+0200
TZOFFSETTO:+0100
DTSTART:19800928T030000
RRULE:FREQ=YEARLY;UNTIL=19950924T010000Z;BYMONTH=9;BYDAY=-1SU
END:STANDARD
BEGIN:DAYLIGHT
TZNAME:CEST
TZOFFSETFROM:+0100
TZOFFSETTO:+0200
DTSTART:19810329T020000
RRULE:FREQ=YEARLY;BYMONTH=3;BYDAY=-1SU
END:DAYLIGHT
BEGIN:STANDARD
TZNAME:CET
TZOFFSETFROM:+0200
TZOFFSETTO:+0100
DTSTART:19961027T030000
RRULE:FREQ=YEARLY;BYMONTH=10;BYDAY=-1SU
END:STANDARD
END:VTIMEZONE
BEGIN:VEVENT
DTSTAMP:20260419T222352Z
DTSTART;TZID=Europe/Berlin:20260314T100000
DTEND;TZID=Europe/Berlin:20260314T110000
SUMMARY:Regionspokal mJE ER Staffel 1 Fortschritt Mittweida vs NSG Gc-Mee-LO (63026)
UID:df8c9ab0-2ec5-4b1f-bf29-bad79d8e3fa5
STATUS:CONFIRMED
LAST-MODIFIED:20260405T052845Z
DESCRIPTION:Regionspokal männliche Jugend E ER Staffel 1\nBegegnungs-Nr: 63026\nHeim: Fortschritt Mittweida\nGast: NSG Gc-Mee-LO\nHalle: SH \"Am Schwanenteich\" Mittweida (32207)\nAdresse: Leipziger Straße 15\, 09648 Mittweida\n
LOCATION:SH \"Am Schwanenteich\" Mittweida (32207): Leipziger Straße 15\, 09648 Mittweida
CATEGORIES:Saison Pokal 2025/26
END:VEVENT
BEGIN:VEVENT
DTSTAMP:20260419T222352Z
DTSTART;TZID=Europe/Berlin:20260314T124000
DTEND;TZID=Europe/Berlin:20260314T134000
SUMMARY:Regionspokal mJE ER Staffel 1 Fortschritt Mittweida vs NSG EHV/NH/Buteo (63034)
UID:cdbca2a3-2b5e-4816-aaf6-66a5edc00290
STATUS:CONFIRMED
LAST-MODIFIED:20260321T062411Z
DESCRIPTION:Regionspokal männliche Jugend E ER Staffel 1\nBegegnungs-Nr: 63034\nHeim: Fortschritt Mittweida\nGast: NSG EHV/NH/Buteo\nHalle: SH \"Am Schwanenteich\" Mittweida (32207)\nAdresse: Leipziger Straße 15\, 09648 Mittweida\n
LOCATION:SH \"Am Schwanenteich\" Mittweida (32207): Leipziger Straße 15\, 09648 Mittweida
CATEGORIES:Saison Pokal 2025/26
END:VEVENT
BEGIN:VEVENT
DTSTAMP:20260419T222352Z
DTSTART;TZID=Europe/Berlin:20260125T135000
DTEND;TZID=Europe/Berlin:20260125T142000
SUMMARY:Regionspokal mJE VR Staffel 2 Fortschritt Mittweida vs Union Chemnitz II (63018)
UID:4b8e43f4-410a-4efa-9fbe-b560c31d7ef7
STATUS:CONFIRMED
LAST-MODIFIED:20260129T071730Z
DESCRIPTION:Regionspokal männliche Jugend E VR Staffel 2\nBegegnungs-Nr: 63018\nHeim: Fortschritt Mittweida\nGast: Union Chemnitz II\nHalle: SH Zeller Berg Aue  (32304)\nAdresse: Agricolastr. 5\, 08280 Aue\n
LOCATION:SH Zeller Berg Aue  (32304): Agricolastr. 5\, 08280 Aue
CATEGORIES:Saison Pokal 2025/26
END:VEVENT
BEGIN:VEVENT
DTSTAMP:20260419T222352Z
DTSTART;TZID=Europe/Berlin:20260125T150500
DTEND;TZID=Europe/Berlin:20260125T153500
SUMMARY:Regionspokal mJE VR Staffel 2 Fortschritt Mittweida vs Buteo Youngsters Chemnitz (63021)
UID:1a287902-58d9-4fcc-95bf-b6706e11a17f
STATUS:CONFIRMED
LAST-MODIFIED:20260129T072125Z
DESCRIPTION:Regionspokal männliche Jugend E VR Staffel 2\nBegegnungs-Nr: 63021\nHeim: Fortschritt Mittweida\nGast: Buteo Youngsters Chemnitz\nHalle: SH Zeller Berg Aue  (32304)\nAdresse: Agricolastr. 5\, 08280 Aue\n
LOCATION:SH Zeller Berg Aue  (32304): Agricolastr. 5\, 08280 Aue
CATEGORIES:Saison Pokal 2025/26
END:VEVENT
BEGIN:VEVENT
DTSTAMP:20260419T222352Z
DTSTART;TZID=Europe/Berlin:20260314T144000
DTEND;TZID=Europe/Berlin:20260314T151000
SUMMARY:Regionspokal mJE Platzierungsspiele Fortschritt Mittweida vs HC Fraureuth (63040)
UID:c0d1e8b6-93f0-418d-a727-7d4a2df35046
STATUS:CONFIRMED
LAST-MODIFIED:20260405T053024Z
DESCRIPTION:Regionspokal männliche Jugend E Platzierungsspiele\nBegegnungs-Nr: 63040\nHeim: Fortschritt Mittweida\nGast: HC Fraureuth\nHalle: SH \"Am Schwanenteich\" Mittweida (32207)\nAdresse: Leipziger Straße 15\, 09648 Mittweida\n
LOCATION:SH \"Am Schwanenteich\" Mittweida (32207): Leipziger Straße 15\, 09648 Mittweida
CATEGORIES:Saison Pokal 2025/26
END:VEVENT
BEGIN:VEVENT
DTSTAMP:20260419T222352Z
DTSTART;TZID=Europe/Berlin:20260314T114000
DTEND;TZID=Europe/Berlin:20260314T124000
SUMMARY:Regionspokal mJE ER Staffel 1 NSG SV04/HCE vs Fortschritt Mittweida (63031)
UID:22ba097d-638e-407b-b7b6-317469bcc4c1
STATUS:CONFIRMED
LAST-MODIFIED:20260321T062354Z
DESCRIPTION:Regionspokal männliche Jugend E ER Staffel 1\nBegegnungs-Nr: 63031\nHeim: NSG SV04/HCE\nGast: Fortschritt Mittweida\nHalle: SH \"Am Schwanenteich\" Mittweida (32207)\nAdresse: Leipziger Straße 15\, 09648 Mittweida\n
LOCATION:SH \"Am Schwanenteich\" Mittweida (32207): Leipziger Straße 15\, 09648 Mittweida
CATEGORIES:Saison Pokal 2025/26
END:VEVENT
BEGIN:VEVENT
DTSTAMP:20260419T222352Z
DTSTART;TZID=Europe/Berlin:20260314T162000
DTEND;TZID=Europe/Berlin:20260314T165000
SUMMARY:Regionspokal mJE Platzierungsspiele NSG SV04/HCE vs Fortschritt Mittweida (63045)
UID:fcbacac7-e148-47a2-a624-dbbb11466d41
STATUS:CONFIRMED
LAST-MODIFIED:20260405T053153Z
DESCRIPTION:Regionspokal männliche Jugend E Platzierungsspiele\nBegegnungs-Nr: 63045\nHeim: NSG SV04/HCE\nGast: Fortschritt Mittweida\nHalle: SH \"Am Schwanenteich\" Mittweida (32207)\nAdresse: Leipziger Straße 15\, 09648 Mittweida\n
LOCATION:SH \"Am Schwanenteich\" Mittweida (32207): Leipziger Straße 15\, 09648 Mittweida
CATEGORIES:Saison Pokal 2025/26
END:VEVENT
BEGIN:VEVENT
DTSTAMP:20260419T222352Z
DTSTART;TZID=Europe/Berlin:20260125T130000
DTEND;TZID=Europe/Berlin:20260125T133000
SUMMARY:Regionspokal mJE VR Staffel 2 NSG EHV/NH/Buteo vs Fortschritt Mittweida (63016)
UID:d685668b-0d87-4d47-a4ad-c0b743600f71
STATUS:CONFIRMED
LAST-MODIFIED:20260129T071649Z
DESCRIPTION:Regionspokal männliche Jugend E VR Staffel 2\nBegegnungs-Nr: 63016\nHeim: NSG EHV/NH/Buteo\nGast: Fortschritt Mittweida\nHalle: SH Zeller Berg Aue  (32304)\nAdresse: Agricolastr. 5\, 08280 Aue\n
LOCATION:SH Zeller Berg Aue  (32304): Agricolastr. 5\, 08280 Aue
CATEGORIES:Saison Pokal 2025/26
END:VEVENT
BEGIN:VEVENT
DTSTAMP:20260419T222352Z
DTSTART;TZID=Europe/Berlin:20260125T155500
DTEND;TZID=Europe/Berlin:20260125T162500
SUMMARY:Regionspokal mJE VR Staffel 2 HSG Sachsenring vs Fortschritt Mittweida (63023)
UID:76091ef4-2122-4bdd-bd65-5ab72f1a731d
STATUS:CONFIRMED
LAST-MODIFIED:20260129T072203Z
DESCRIPTION:Regionspokal männliche Jugend E VR Staffel 2\nBegegnungs-Nr: 63023\nHeim: HSG Sachsenring\nGast: Fortschritt Mittweida\nHalle: SH Zeller Berg Aue  (32304)\nAdresse: Agricolastr. 5\, 08280 Aue\n
LOCATION:SH Zeller Berg Aue  (32304): Agricolastr. 5\, 08280 Aue
CATEGORIES:Saison Pokal 2025/26
END:VEVENT
END:VCALENDAR
