BEGIN:VCALENDAR
PRODID:-//nuDatenautomaten//framework iCal4j //DE
VERSION:2.0
CALSCALE:GREGORIAN
BEGIN:VTIMEZONE
TZID:Europe/Berlin
LAST-MODIFIED:20260306T231828Z
TZURL:https://www.tzurl.org/zoneinfo/Europe/Berlin
X-LIC-LOCATION:Europe/Berlin
X-PROLEPTIC-TZNAME:LMT
BEGIN:STANDARD
TZNAME:CET
TZOFFSETFROM:+005328
TZOFFSETTO:+0100
DTSTART:18930401T000000
END:STANDARD
BEGIN:DAYLIGHT
TZNAME:CEST
TZOFFSETFROM:+0100
TZOFFSETTO:+0200
DTSTART:19160430T230000
RDATE:19400401T020000
RDATE:19430329T020000
RDATE:19460414T020000
RDATE:19470406T030000
RDATE:19480418T020000
RDATE:19490410T020000
RDATE:19800406T020000
END:DAYLIGHT
BEGIN:STANDARD
TZNAME:CET
TZOFFSETFROM:+0200
TZOFFSETTO:+0100
DTSTART:19161001T010000
RDATE:19421102T030000
RDATE:19431004T030000
RDATE:19441002T030000
RDATE:19451118T030000
RDATE:19461007T030000
END:STANDARD
BEGIN:DAYLIGHT
TZNAME:CEST
TZOFFSETFROM:+0100
TZOFFSETTO:+0200
DTSTART:19170416T020000
RRULE:FREQ=YEARLY;UNTIL=19180415T010000Z;BYMONTH=4;BYDAY=3MO
END:DAYLIGHT
BEGIN:STANDARD
TZNAME:CET
TZOFFSETFROM:+0200
TZOFFSETTO:+0100
DTSTART:19170917T030000
RRULE:FREQ=YEARLY;UNTIL=19180916T010000Z;BYMONTH=9;BYDAY=3MO
END:STANDARD
BEGIN:DAYLIGHT
TZNAME:CEST
TZOFFSETFROM:+0100
TZOFFSETTO:+0200
DTSTART:19440403T020000
RRULE:FREQ=YEARLY;UNTIL=19450402T010000Z;BYMONTH=4;BYDAY=1MO
END:DAYLIGHT
BEGIN:DAYLIGHT
TZNAME:CEMT
TZOFFSETFROM:+0200
TZOFFSETTO:+0300
DTSTART:19450524T020000
RDATE:19470511T030000
END:DAYLIGHT
BEGIN:DAYLIGHT
TZNAME:CEST
TZOFFSETFROM:+0300
TZOFFSETTO:+0200
DTSTART:19450924T030000
RDATE:19470629T030000
END:DAYLIGHT
BEGIN:STANDARD
TZNAME:CET
TZOFFSETFROM:+0100
TZOFFSETTO:+0100
DTSTART:19460101T000000
RDATE:19800101T000000
END:STANDARD
BEGIN:STANDARD
TZNAME:CET
TZOFFSETFROM:+0200
TZOFFSETTO:+0100
DTSTART:19471005T030000
RRULE:FREQ=YEARLY;UNTIL=19491002T010000Z;BYMONTH=10;BYDAY=1SU
END:STANDARD
BEGIN:STANDARD
TZNAME:CET
TZOFFSETFROM:+0200
TZOFFSETTO:+0100
DTSTART:19800928T030000
RRULE:FREQ=YEARLY;UNTIL=19950924T010000Z;BYMONTH=9;BYDAY=-1SU
END:STANDARD
BEGIN:DAYLIGHT
TZNAME:CEST
TZOFFSETFROM:+0100
TZOFFSETTO:+0200
DTSTART:19810329T020000
RRULE:FREQ=YEARLY;BYMONTH=3;BYDAY=-1SU
END:DAYLIGHT
BEGIN:STANDARD
TZNAME:CET
TZOFFSETFROM:+0200
TZOFFSETTO:+0100
DTSTART:19961027T030000
RRULE:FREQ=YEARLY;BYMONTH=10;BYDAY=-1SU
END:STANDARD
END:VTIMEZONE
BEGIN:VEVENT
DTSTAMP:20260423T070629Z
DTSTART;TZID=Europe/Berlin:20260314T100000
DTEND;TZID=Europe/Berlin:20260314T103000
SUMMARY:Regionspokal wJE VR Staffel 1 HSV Marienberg vs Rotation Weißenborn (64001)
UID:c2cd7740-a302-49bf-b55d-563728cc968e
STATUS:CONFIRMED
LAST-MODIFIED:20260405T053216Z
DESCRIPTION:Regionspokal weibliche Jugend E VR Staffel 1\nBegegnungs-Nr: 64001\nHeim: HSV Marienberg\nGast: Rotation Weißenborn\nHalle: SH am Goldkindstein Marienberg (32416)\nAdresse: Dr.-Wilhelm-Külz-Allee 23\, 09496 Marienberg\n
LOCATION:SH am Goldkindstein Marienberg (32416): Dr.-Wilhelm-Külz-Allee 23\, 09496 Marienberg
CATEGORIES:Saison Pokal 2025/26
END:VEVENT
BEGIN:VEVENT
DTSTAMP:20260423T070629Z
DTSTART;TZID=Europe/Berlin:20260314T124000
DTEND;TZID=Europe/Berlin:20260314T131000
SUMMARY:Regionspokal wJE VR Staffel 1 HSV Marienberg vs HC Fraureuth (64005)
UID:387d5ee8-c792-4553-a2f9-4e03746b5725
STATUS:CONFIRMED
LAST-MODIFIED:20260405T053344Z
DESCRIPTION:Regionspokal weibliche Jugend E VR Staffel 1\nBegegnungs-Nr: 64005\nHeim: HSV Marienberg\nGast: HC Fraureuth\nHalle: SH am Goldkindstein Marienberg (32416)\nAdresse: Dr.-Wilhelm-Külz-Allee 23\, 09496 Marienberg\n
LOCATION:SH am Goldkindstein Marienberg (32416): Dr.-Wilhelm-Külz-Allee 23\, 09496 Marienberg
CATEGORIES:Saison Pokal 2025/26
END:VEVENT
BEGIN:VEVENT
DTSTAMP:20260423T070629Z
DTSTART;TZID=Europe/Berlin:20260503T102000
DTEND;TZID=Europe/Berlin:20260503T112000
SUMMARY:Regionspokal wJE ER Staffel 1 HSV Marienberg vs Rotation Weißenborn (64018)
UID:93ef6e5d-b894-4a1d-bda2-320b45318b63
STATUS:CONFIRMED
LAST-MODIFIED:20260419T193056Z
DESCRIPTION:Regionspokal weibliche Jugend E ER Staffel 1\nBegegnungs-Nr: 64018\nHeim: HSV Marienberg\nGast: Rotation Weißenborn\nHalle: SH Zwickau-Neuplanitz (32501)\nAdresse: Dortmunder Str. 7a\, 08062 Zwickau\n
LOCATION:SH Zwickau-Neuplanitz (32501): Dortmunder Str. 7a\, 08062 Zwickau
CATEGORIES:Saison Pokal 2025/26
END:VEVENT
BEGIN:VEVENT
DTSTAMP:20260423T070629Z
DTSTART;TZID=Europe/Berlin:20260314T120000
DTEND;TZID=Europe/Berlin:20260314T123000
SUMMARY:Regionspokal wJE VR Staffel 1 SG Zschorlau/Schneeberg vs HSV Marienberg (64004)
UID:d8ad3276-8522-4bde-9e15-683b319b048e
STATUS:CONFIRMED
LAST-MODIFIED:20260405T053323Z
DESCRIPTION:Regionspokal weibliche Jugend E VR Staffel 1\nBegegnungs-Nr: 64004\nHeim: SG Zschorlau/Schneeberg\nGast: HSV Marienberg\nHalle: SH am Goldkindstein Marienberg (32416)\nAdresse: Dr.-Wilhelm-Külz-Allee 23\, 09496 Marienberg\n
LOCATION:SH am Goldkindstein Marienberg (32416): Dr.-Wilhelm-Külz-Allee 23\, 09496 Marienberg
CATEGORIES:Saison Pokal 2025/26
END:VEVENT
BEGIN:VEVENT
DTSTAMP:20260423T070629Z
DTSTART;TZID=Europe/Berlin:20260503T112000
DTEND;TZID=Europe/Berlin:20260503T122000
SUMMARY:Regionspokal wJE ER Staffel 1 SV 04 Plauen-O. vs HSV Marienberg (64021)
UID:7e58d6f2-5153-4a4f-a862-d0822ea3d391
STATUS:CONFIRMED
DESCRIPTION:Regionspokal weibliche Jugend E ER Staffel 1\nBegegnungs-Nr: 64021\nHeim: SV 04 Plauen-O.\nGast: HSV Marienberg\nHalle: SH Zwickau-Neuplanitz (32501)\nAdresse: Dortmunder Str. 7a\, 08062 Zwickau\n
LOCATION:SH Zwickau-Neuplanitz (32501): Dortmunder Str. 7a\, 08062 Zwickau
CATEGORIES:Saison Pokal 2025/26
END:VEVENT
BEGIN:VEVENT
DTSTAMP:20260423T070629Z
DTSTART;TZID=Europe/Berlin:20260503T124000
DTEND;TZID=Europe/Berlin:20260503T134000
SUMMARY:Regionspokal wJE ER Staffel 1 BSV Sa. Zwickau vs HSV Marienberg (64025)
UID:ee84727b-3f8a-4d25-81c3-9ce1b0cc9674
STATUS:CONFIRMED
DESCRIPTION:Regionspokal weibliche Jugend E ER Staffel 1\nBegegnungs-Nr: 64025\nHeim: BSV Sa. Zwickau\nGast: HSV Marienberg\nHalle: SH Zwickau-Neuplanitz (32501)\nAdresse: Dortmunder Str. 7a\, 08062 Zwickau\n
LOCATION:SH Zwickau-Neuplanitz (32501): Dortmunder Str. 7a\, 08062 Zwickau
CATEGORIES:Saison Pokal 2025/26
END:VEVENT
END:VCALENDAR
