BEGIN:VCALENDAR
PRODID:-//nuDatenautomaten//framework iCal4j //DE
VERSION:2.0
CALSCALE:GREGORIAN
BEGIN:VTIMEZONE
TZID:Europe/Berlin
LAST-MODIFIED:20260306T231828Z
TZURL:https://www.tzurl.org/zoneinfo/Europe/Berlin
X-LIC-LOCATION:Europe/Berlin
X-PROLEPTIC-TZNAME:LMT
BEGIN:STANDARD
TZNAME:CET
TZOFFSETFROM:+005328
TZOFFSETTO:+0100
DTSTART:18930401T000000
END:STANDARD
BEGIN:DAYLIGHT
TZNAME:CEST
TZOFFSETFROM:+0100
TZOFFSETTO:+0200
DTSTART:19160430T230000
RDATE:19400401T020000
RDATE:19430329T020000
RDATE:19460414T020000
RDATE:19470406T030000
RDATE:19480418T020000
RDATE:19490410T020000
RDATE:19800406T020000
END:DAYLIGHT
BEGIN:STANDARD
TZNAME:CET
TZOFFSETFROM:+0200
TZOFFSETTO:+0100
DTSTART:19161001T010000
RDATE:19421102T030000
RDATE:19431004T030000
RDATE:19441002T030000
RDATE:19451118T030000
RDATE:19461007T030000
END:STANDARD
BEGIN:DAYLIGHT
TZNAME:CEST
TZOFFSETFROM:+0100
TZOFFSETTO:+0200
DTSTART:19170416T020000
RRULE:FREQ=YEARLY;UNTIL=19180415T010000Z;BYMONTH=4;BYDAY=3MO
END:DAYLIGHT
BEGIN:STANDARD
TZNAME:CET
TZOFFSETFROM:+0200
TZOFFSETTO:+0100
DTSTART:19170917T030000
RRULE:FREQ=YEARLY;UNTIL=19180916T010000Z;BYMONTH=9;BYDAY=3MO
END:STANDARD
BEGIN:DAYLIGHT
TZNAME:CEST
TZOFFSETFROM:+0100
TZOFFSETTO:+0200
DTSTART:19440403T020000
RRULE:FREQ=YEARLY;UNTIL=19450402T010000Z;BYMONTH=4;BYDAY=1MO
END:DAYLIGHT
BEGIN:DAYLIGHT
TZNAME:CEMT
TZOFFSETFROM:+0200
TZOFFSETTO:+0300
DTSTART:19450524T020000
RDATE:19470511T030000
END:DAYLIGHT
BEGIN:DAYLIGHT
TZNAME:CEST
TZOFFSETFROM:+0300
TZOFFSETTO:+0200
DTSTART:19450924T030000
RDATE:19470629T030000
END:DAYLIGHT
BEGIN:STANDARD
TZNAME:CET
TZOFFSETFROM:+0100
TZOFFSETTO:+0100
DTSTART:19460101T000000
RDATE:19800101T000000
END:STANDARD
BEGIN:STANDARD
TZNAME:CET
TZOFFSETFROM:+0200
TZOFFSETTO:+0100
DTSTART:19471005T030000
RRULE:FREQ=YEARLY;UNTIL=19491002T010000Z;BYMONTH=10;BYDAY=1SU
END:STANDARD
BEGIN:STANDARD
TZNAME:CET
TZOFFSETFROM:+0200
TZOFFSETTO:+0100
DTSTART:19800928T030000
RRULE:FREQ=YEARLY;UNTIL=19950924T010000Z;BYMONTH=9;BYDAY=-1SU
END:STANDARD
BEGIN:DAYLIGHT
TZNAME:CEST
TZOFFSETFROM:+0100
TZOFFSETTO:+0200
DTSTART:19810329T020000
RRULE:FREQ=YEARLY;BYMONTH=3;BYDAY=-1SU
END:DAYLIGHT
BEGIN:STANDARD
TZNAME:CET
TZOFFSETFROM:+0200
TZOFFSETTO:+0100
DTSTART:19961027T030000
RRULE:FREQ=YEARLY;BYMONTH=10;BYDAY=-1SU
END:STANDARD
END:VTIMEZONE
BEGIN:VEVENT
DTSTAMP:20260422T173338Z
DTSTART;TZID=Europe/Berlin:20260315T114000
DTEND;TZID=Europe/Berlin:20260315T121000
SUMMARY:Regionspokal wJE VR Staffel 2 HSV Marienberg II vs HSG Sachsenring (64011)
UID:db5fe2bf-5ba4-4c16-b197-de6824a09f81
STATUS:CONFIRMED
LAST-MODIFIED:20260405T053727Z
DESCRIPTION:Regionspokal weibliche Jugend E VR Staffel 2\nBegegnungs-Nr: 64011\nHeim: HSV Marienberg II\nGast: HSG Sachsenring\nHalle: SH Kurt-Helbig Plauen (32701)\nAdresse: Comeniusstr. 15\, 08523 Plauen\n
LOCATION:SH Kurt-Helbig Plauen (32701): Comeniusstr. 15\, 08523 Plauen
CATEGORIES:Saison Pokal 2025/26
END:VEVENT
BEGIN:VEVENT
DTSTAMP:20260422T173338Z
DTSTART;TZID=Europe/Berlin:20260315T132000
DTEND;TZID=Europe/Berlin:20260315T135000
SUMMARY:Regionspokal wJE VR Staffel 2 HSV Marienberg II vs BSV Limbach-O. II (64015)
UID:420f2c03-5fd3-4c7e-bd16-b90a813a36b3
STATUS:CONFIRMED
LAST-MODIFIED:20260414T054353Z
DESCRIPTION:Regionspokal weibliche Jugend E VR Staffel 2\nBegegnungs-Nr: 64015\nHeim: HSV Marienberg II\nGast: BSV Limbach-O. II\nHalle: SH Kurt-Helbig Plauen (32701)\nAdresse: Comeniusstr. 15\, 08523 Plauen\n
LOCATION:SH Kurt-Helbig Plauen (32701): Comeniusstr. 15\, 08523 Plauen
CATEGORIES:Saison Pokal 2025/26
END:VEVENT
BEGIN:VEVENT
DTSTAMP:20260422T173338Z
DTSTART;TZID=Europe/Berlin:20260315T123000
DTEND;TZID=Europe/Berlin:20260315T130000
SUMMARY:Regionspokal wJE VR Staffel 2 SV 04 Plauen-O. vs HSV Marienberg II (64013)
UID:60152030-a3d0-40eb-ae16-6bac55efe0ac
STATUS:CONFIRMED
LAST-MODIFIED:20260405T053705Z
DESCRIPTION:Regionspokal weibliche Jugend E VR Staffel 2\nBegegnungs-Nr: 64013\nHeim: SV 04 Plauen-O.\nGast: HSV Marienberg II\nHalle: SH Kurt-Helbig Plauen (32701)\nAdresse: Comeniusstr. 15\, 08523 Plauen\n
LOCATION:SH Kurt-Helbig Plauen (32701): Comeniusstr. 15\, 08523 Plauen
CATEGORIES:Saison Pokal 2025/26
END:VEVENT
BEGIN:VEVENT
DTSTAMP:20260422T173338Z
DTSTART;TZID=Europe/Berlin:20260315T105000
DTEND;TZID=Europe/Berlin:20260315T112000
SUMMARY:Regionspokal wJE VR Staffel 2 BSV Sa. Zwickau vs HSV Marienberg II (64009)
UID:e9825954-2bc3-40d3-9548-413d212b12a2
STATUS:CONFIRMED
LAST-MODIFIED:20260405T053753Z
DESCRIPTION:Regionspokal weibliche Jugend E VR Staffel 2\nBegegnungs-Nr: 64009\nHeim: BSV Sa. Zwickau\nGast: HSV Marienberg II\nHalle: SH Kurt-Helbig Plauen (32701)\nAdresse: Comeniusstr. 15\, 08523 Plauen\n
LOCATION:SH Kurt-Helbig Plauen (32701): Comeniusstr. 15\, 08523 Plauen
CATEGORIES:Saison Pokal 2025/26
END:VEVENT
END:VCALENDAR
