BEGIN:VCALENDAR
PRODID:-//nuDatenautomaten//framework iCal4j //DE
VERSION:2.0
CALSCALE:GREGORIAN
BEGIN:VTIMEZONE
TZID:Europe/Berlin
LAST-MODIFIED:20260306T231828Z
TZURL:https://www.tzurl.org/zoneinfo/Europe/Berlin
X-LIC-LOCATION:Europe/Berlin
X-PROLEPTIC-TZNAME:LMT
BEGIN:STANDARD
TZNAME:CET
TZOFFSETFROM:+005328
TZOFFSETTO:+0100
DTSTART:18930401T000000
END:STANDARD
BEGIN:DAYLIGHT
TZNAME:CEST
TZOFFSETFROM:+0100
TZOFFSETTO:+0200
DTSTART:19160430T230000
RDATE:19400401T020000
RDATE:19430329T020000
RDATE:19460414T020000
RDATE:19470406T030000
RDATE:19480418T020000
RDATE:19490410T020000
RDATE:19800406T020000
END:DAYLIGHT
BEGIN:STANDARD
TZNAME:CET
TZOFFSETFROM:+0200
TZOFFSETTO:+0100
DTSTART:19161001T010000
RDATE:19421102T030000
RDATE:19431004T030000
RDATE:19441002T030000
RDATE:19451118T030000
RDATE:19461007T030000
END:STANDARD
BEGIN:DAYLIGHT
TZNAME:CEST
TZOFFSETFROM:+0100
TZOFFSETTO:+0200
DTSTART:19170416T020000
RRULE:FREQ=YEARLY;UNTIL=19180415T010000Z;BYMONTH=4;BYDAY=3MO
END:DAYLIGHT
BEGIN:STANDARD
TZNAME:CET
TZOFFSETFROM:+0200
TZOFFSETTO:+0100
DTSTART:19170917T030000
RRULE:FREQ=YEARLY;UNTIL=19180916T010000Z;BYMONTH=9;BYDAY=3MO
END:STANDARD
BEGIN:DAYLIGHT
TZNAME:CEST
TZOFFSETFROM:+0100
TZOFFSETTO:+0200
DTSTART:19440403T020000
RRULE:FREQ=YEARLY;UNTIL=19450402T010000Z;BYMONTH=4;BYDAY=1MO
END:DAYLIGHT
BEGIN:DAYLIGHT
TZNAME:CEMT
TZOFFSETFROM:+0200
TZOFFSETTO:+0300
DTSTART:19450524T020000
RDATE:19470511T030000
END:DAYLIGHT
BEGIN:DAYLIGHT
TZNAME:CEST
TZOFFSETFROM:+0300
TZOFFSETTO:+0200
DTSTART:19450924T030000
RDATE:19470629T030000
END:DAYLIGHT
BEGIN:STANDARD
TZNAME:CET
TZOFFSETFROM:+0100
TZOFFSETTO:+0100
DTSTART:19460101T000000
RDATE:19800101T000000
END:STANDARD
BEGIN:STANDARD
TZNAME:CET
TZOFFSETFROM:+0200
TZOFFSETTO:+0100
DTSTART:19471005T030000
RRULE:FREQ=YEARLY;UNTIL=19491002T010000Z;BYMONTH=10;BYDAY=1SU
END:STANDARD
BEGIN:STANDARD
TZNAME:CET
TZOFFSETFROM:+0200
TZOFFSETTO:+0100
DTSTART:19800928T030000
RRULE:FREQ=YEARLY;UNTIL=19950924T010000Z;BYMONTH=9;BYDAY=-1SU
END:STANDARD
BEGIN:DAYLIGHT
TZNAME:CEST
TZOFFSETFROM:+0100
TZOFFSETTO:+0200
DTSTART:19810329T020000
RRULE:FREQ=YEARLY;BYMONTH=3;BYDAY=-1SU
END:DAYLIGHT
BEGIN:STANDARD
TZNAME:CET
TZOFFSETFROM:+0200
TZOFFSETTO:+0100
DTSTART:19961027T030000
RRULE:FREQ=YEARLY;BYMONTH=10;BYDAY=-1SU
END:STANDARD
END:VTIMEZONE
BEGIN:VEVENT
DTSTAMP:20260422T114427Z
DTSTART;TZID=Europe/Berlin:20260314T120000
DTEND;TZID=Europe/Berlin:20260314T123000
SUMMARY:Regionspokal wJE VR Staffel 1 SG Zschorlau/Schneeberg vs HSV Marienberg (64004)
UID:d8ad3276-8522-4bde-9e15-683b319b048e
STATUS:CONFIRMED
LAST-MODIFIED:20260405T053323Z
DESCRIPTION:Regionspokal weibliche Jugend E VR Staffel 1\nBegegnungs-Nr: 64004\nHeim: SG Zschorlau/Schneeberg\nGast: HSV Marienberg\nHalle: SH am Goldkindstein Marienberg (32416)\nAdresse: Dr.-Wilhelm-Külz-Allee 23\, 09496 Marienberg\n
LOCATION:SH am Goldkindstein Marienberg (32416): Dr.-Wilhelm-Külz-Allee 23\, 09496 Marienberg
CATEGORIES:Saison Pokal 2025/26
END:VEVENT
BEGIN:VEVENT
DTSTAMP:20260422T114427Z
DTSTART;TZID=Europe/Berlin:20260503T110000
DTEND;TZID=Europe/Berlin:20260503T120000
SUMMARY:Regionspokal wJE ER Staffel 2 SG Zschorlau/Schneeberg vs HC Fraureuth (64020)
UID:98b1e6fb-6b46-4a9b-85cd-360221d47890
STATUS:CONFIRMED
DESCRIPTION:Regionspokal weibliche Jugend E ER Staffel 2\nBegegnungs-Nr: 64020\nHeim: SG Zschorlau/Schneeberg\nGast: HC Fraureuth\nHalle: SH Zwickau-Neuplanitz (32501)\nAdresse: Dortmunder Str. 7a\, 08062 Zwickau\n
LOCATION:SH Zwickau-Neuplanitz (32501): Dortmunder Str. 7a\, 08062 Zwickau
CATEGORIES:Saison Pokal 2025/26
END:VEVENT
BEGIN:VEVENT
DTSTAMP:20260422T114427Z
DTSTART;TZID=Europe/Berlin:20260314T104000
DTEND;TZID=Europe/Berlin:20260314T111000
SUMMARY:Regionspokal wJE VR Staffel 1 HC Fraureuth vs SG Zschorlau/Schneeberg (64002)
UID:22899e9d-ca69-45c1-8dc7-51cdae921511
STATUS:CONFIRMED
LAST-MODIFIED:20260405T053236Z
DESCRIPTION:Regionspokal weibliche Jugend E VR Staffel 1\nBegegnungs-Nr: 64002\nHeim: HC Fraureuth\nGast: SG Zschorlau/Schneeberg\nHalle: SH am Goldkindstein Marienberg (32416)\nAdresse: Dr.-Wilhelm-Külz-Allee 23\, 09496 Marienberg\n
LOCATION:SH am Goldkindstein Marienberg (32416): Dr.-Wilhelm-Külz-Allee 23\, 09496 Marienberg
CATEGORIES:Saison Pokal 2025/26
END:VEVENT
BEGIN:VEVENT
DTSTAMP:20260422T114427Z
DTSTART;TZID=Europe/Berlin:20260314T132000
DTEND;TZID=Europe/Berlin:20260314T135000
SUMMARY:Regionspokal wJE VR Staffel 1 Rotation Weißenborn vs SG Zschorlau/Schneeberg (64006)
UID:68dec323-e443-4669-b7f5-b344f85e2704
STATUS:CONFIRMED
LAST-MODIFIED:20260405T053400Z
DESCRIPTION:Regionspokal weibliche Jugend E VR Staffel 1\nBegegnungs-Nr: 64006\nHeim: Rotation Weißenborn\nGast: SG Zschorlau/Schneeberg\nHalle: SH am Goldkindstein Marienberg (32416)\nAdresse: Dr.-Wilhelm-Külz-Allee 23\, 09496 Marienberg\n
LOCATION:SH am Goldkindstein Marienberg (32416): Dr.-Wilhelm-Külz-Allee 23\, 09496 Marienberg
CATEGORIES:Saison Pokal 2025/26
END:VEVENT
BEGIN:VEVENT
DTSTAMP:20260422T114427Z
DTSTART;TZID=Europe/Berlin:20260503T120000
DTEND;TZID=Europe/Berlin:20260503T130000
SUMMARY:Regionspokal wJE ER Staffel 2 HSG Sachsenring vs SG Zschorlau/Schneeberg (64023)
UID:d7ff5d7c-e1a2-4a08-b126-e33cb3a2c4b4
STATUS:CONFIRMED
DESCRIPTION:Regionspokal weibliche Jugend E ER Staffel 2\nBegegnungs-Nr: 64023\nHeim: HSG Sachsenring\nGast: SG Zschorlau/Schneeberg\nHalle: SH Zwickau-Neuplanitz (32501)\nAdresse: Dortmunder Str. 7a\, 08062 Zwickau\n
LOCATION:SH Zwickau-Neuplanitz (32501): Dortmunder Str. 7a\, 08062 Zwickau
CATEGORIES:Saison Pokal 2025/26
END:VEVENT
BEGIN:VEVENT
DTSTAMP:20260422T114427Z
DTSTART;TZID=Europe/Berlin:20260503T132000
DTEND;TZID=Europe/Berlin:20260503T142000
SUMMARY:Regionspokal wJE ER Staffel 2 BSV Limbach-O. II vs SG Zschorlau/Schneeberg (64027)
UID:d8dc6914-85c3-4263-a06a-84f1a5e39290
STATUS:CONFIRMED
DESCRIPTION:Regionspokal weibliche Jugend E ER Staffel 2\nBegegnungs-Nr: 64027\nHeim: BSV Limbach-O. II\nGast: SG Zschorlau/Schneeberg\nHalle: SH Zwickau-Neuplanitz (32501)\nAdresse: Dortmunder Str. 7a\, 08062 Zwickau\n
LOCATION:SH Zwickau-Neuplanitz (32501): Dortmunder Str. 7a\, 08062 Zwickau
CATEGORIES:Saison Pokal 2025/26
END:VEVENT
END:VCALENDAR
