BEGIN:VCALENDAR
PRODID:-//nuDatenautomaten//framework iCal4j //DE
VERSION:2.0
CALSCALE:GREGORIAN
BEGIN:VTIMEZONE
TZID:Europe/Berlin
LAST-MODIFIED:20260306T231828Z
TZURL:https://www.tzurl.org/zoneinfo/Europe/Berlin
X-LIC-LOCATION:Europe/Berlin
X-PROLEPTIC-TZNAME:LMT
BEGIN:STANDARD
TZNAME:CET
TZOFFSETFROM:+005328
TZOFFSETTO:+0100
DTSTART:18930401T000000
END:STANDARD
BEGIN:DAYLIGHT
TZNAME:CEST
TZOFFSETFROM:+0100
TZOFFSETTO:+0200
DTSTART:19160430T230000
RDATE:19400401T020000
RDATE:19430329T020000
RDATE:19460414T020000
RDATE:19470406T030000
RDATE:19480418T020000
RDATE:19490410T020000
RDATE:19800406T020000
END:DAYLIGHT
BEGIN:STANDARD
TZNAME:CET
TZOFFSETFROM:+0200
TZOFFSETTO:+0100
DTSTART:19161001T010000
RDATE:19421102T030000
RDATE:19431004T030000
RDATE:19441002T030000
RDATE:19451118T030000
RDATE:19461007T030000
END:STANDARD
BEGIN:DAYLIGHT
TZNAME:CEST
TZOFFSETFROM:+0100
TZOFFSETTO:+0200
DTSTART:19170416T020000
RRULE:FREQ=YEARLY;UNTIL=19180415T010000Z;BYMONTH=4;BYDAY=3MO
END:DAYLIGHT
BEGIN:STANDARD
TZNAME:CET
TZOFFSETFROM:+0200
TZOFFSETTO:+0100
DTSTART:19170917T030000
RRULE:FREQ=YEARLY;UNTIL=19180916T010000Z;BYMONTH=9;BYDAY=3MO
END:STANDARD
BEGIN:DAYLIGHT
TZNAME:CEST
TZOFFSETFROM:+0100
TZOFFSETTO:+0200
DTSTART:19440403T020000
RRULE:FREQ=YEARLY;UNTIL=19450402T010000Z;BYMONTH=4;BYDAY=1MO
END:DAYLIGHT
BEGIN:DAYLIGHT
TZNAME:CEMT
TZOFFSETFROM:+0200
TZOFFSETTO:+0300
DTSTART:19450524T020000
RDATE:19470511T030000
END:DAYLIGHT
BEGIN:DAYLIGHT
TZNAME:CEST
TZOFFSETFROM:+0300
TZOFFSETTO:+0200
DTSTART:19450924T030000
RDATE:19470629T030000
END:DAYLIGHT
BEGIN:STANDARD
TZNAME:CET
TZOFFSETFROM:+0100
TZOFFSETTO:+0100
DTSTART:19460101T000000
RDATE:19800101T000000
END:STANDARD
BEGIN:STANDARD
TZNAME:CET
TZOFFSETFROM:+0200
TZOFFSETTO:+0100
DTSTART:19471005T030000
RRULE:FREQ=YEARLY;UNTIL=19491002T010000Z;BYMONTH=10;BYDAY=1SU
END:STANDARD
BEGIN:STANDARD
TZNAME:CET
TZOFFSETFROM:+0200
TZOFFSETTO:+0100
DTSTART:19800928T030000
RRULE:FREQ=YEARLY;UNTIL=19950924T010000Z;BYMONTH=9;BYDAY=-1SU
END:STANDARD
BEGIN:DAYLIGHT
TZNAME:CEST
TZOFFSETFROM:+0100
TZOFFSETTO:+0200
DTSTART:19810329T020000
RRULE:FREQ=YEARLY;BYMONTH=3;BYDAY=-1SU
END:DAYLIGHT
BEGIN:STANDARD
TZNAME:CET
TZOFFSETFROM:+0200
TZOFFSETTO:+0100
DTSTART:19961027T030000
RRULE:FREQ=YEARLY;BYMONTH=10;BYDAY=-1SU
END:STANDARD
END:VTIMEZONE
BEGIN:VEVENT
DTSTAMP:20260425T221322Z
DTSTART;TZID=Europe/Berlin:20260315T111500
DTEND;TZID=Europe/Berlin:20260315T114500
SUMMARY:Regionspokal wJE VR Staffel 2 BSV Limbach-O. II vs SV 04 Plauen-O. (64010)
UID:15ca918d-92e4-4253-b51d-0e097af17860
STATUS:CONFIRMED
LAST-MODIFIED:20260414T054311Z
DESCRIPTION:Regionspokal weibliche Jugend E VR Staffel 2\nBegegnungs-Nr: 64010\nHeim: BSV Limbach-O. II\nGast: SV 04 Plauen-O.\nHalle: SH Kurt-Helbig Plauen (32701)\nAdresse: Comeniusstr. 15\, 08523 Plauen\n
LOCATION:SH Kurt-Helbig Plauen (32701): Comeniusstr. 15\, 08523 Plauen
CATEGORIES:Saison Pokal 2025/26
END:VEVENT
BEGIN:VEVENT
DTSTAMP:20260425T221322Z
DTSTART;TZID=Europe/Berlin:20260315T102500
DTEND;TZID=Europe/Berlin:20260315T105500
SUMMARY:Regionspokal wJE VR Staffel 2 BSV Limbach-O. II vs HSG Sachsenring (64008)
UID:44615326-2faa-4d6e-8480-3a08918f07da
STATUS:CONFIRMED
LAST-MODIFIED:20260414T054239Z
DESCRIPTION:Regionspokal weibliche Jugend E VR Staffel 2\nBegegnungs-Nr: 64008\nHeim: BSV Limbach-O. II\nGast: HSG Sachsenring\nHalle: SH Kurt-Helbig Plauen (32701)\nAdresse: Comeniusstr. 15\, 08523 Plauen\n
LOCATION:SH Kurt-Helbig Plauen (32701): Comeniusstr. 15\, 08523 Plauen
CATEGORIES:Saison Pokal 2025/26
END:VEVENT
BEGIN:VEVENT
DTSTAMP:20260425T221322Z
DTSTART;TZID=Europe/Berlin:20260503T104000
DTEND;TZID=Europe/Berlin:20260503T114000
SUMMARY:Regionspokal wJE ER Staffel 2 BSV Limbach-O. II vs HSG Sachsenring (64019)
UID:dd730f10-a4db-49fa-9717-db42b0be5b97
STATUS:CONFIRMED
DESCRIPTION:Regionspokal weibliche Jugend E ER Staffel 2\nBegegnungs-Nr: 64019\nHeim: BSV Limbach-O. II\nGast: HSG Sachsenring\nHalle: SH Zwickau-Neuplanitz (32501)\nAdresse: Dortmunder Str. 7a\, 08062 Zwickau\n
LOCATION:SH Zwickau-Neuplanitz (32501): Dortmunder Str. 7a\, 08062 Zwickau
CATEGORIES:Saison Pokal 2025/26
END:VEVENT
BEGIN:VEVENT
DTSTAMP:20260425T221322Z
DTSTART;TZID=Europe/Berlin:20260503T132000
DTEND;TZID=Europe/Berlin:20260503T142000
SUMMARY:Regionspokal wJE ER Staffel 2 BSV Limbach-O. II vs SG Zschorlau/Schneeberg (64027)
UID:d8dc6914-85c3-4263-a06a-84f1a5e39290
STATUS:CONFIRMED
DESCRIPTION:Regionspokal weibliche Jugend E ER Staffel 2\nBegegnungs-Nr: 64027\nHeim: BSV Limbach-O. II\nGast: SG Zschorlau/Schneeberg\nHalle: SH Zwickau-Neuplanitz (32501)\nAdresse: Dortmunder Str. 7a\, 08062 Zwickau\n
LOCATION:SH Zwickau-Neuplanitz (32501): Dortmunder Str. 7a\, 08062 Zwickau
CATEGORIES:Saison Pokal 2025/26
END:VEVENT
BEGIN:VEVENT
DTSTAMP:20260425T221322Z
DTSTART;TZID=Europe/Berlin:20260315T120500
DTEND;TZID=Europe/Berlin:20260315T123500
SUMMARY:Regionspokal wJE VR Staffel 2 BSV Sa. Zwickau vs BSV Limbach-O. II (64012)
UID:b8ee2091-8bf4-4ad0-9434-b7ed23b0788f
STATUS:CONFIRMED
LAST-MODIFIED:20260414T054332Z
DESCRIPTION:Regionspokal weibliche Jugend E VR Staffel 2\nBegegnungs-Nr: 64012\nHeim: BSV Sa. Zwickau\nGast: BSV Limbach-O. II\nHalle: SH Kurt-Helbig Plauen (32701)\nAdresse: Comeniusstr. 15\, 08523 Plauen\n
LOCATION:SH Kurt-Helbig Plauen (32701): Comeniusstr. 15\, 08523 Plauen
CATEGORIES:Saison Pokal 2025/26
END:VEVENT
BEGIN:VEVENT
DTSTAMP:20260425T221322Z
DTSTART;TZID=Europe/Berlin:20260315T132000
DTEND;TZID=Europe/Berlin:20260315T135000
SUMMARY:Regionspokal wJE VR Staffel 2 HSV Marienberg II vs BSV Limbach-O. II (64015)
UID:420f2c03-5fd3-4c7e-bd16-b90a813a36b3
STATUS:CONFIRMED
LAST-MODIFIED:20260414T054353Z
DESCRIPTION:Regionspokal weibliche Jugend E VR Staffel 2\nBegegnungs-Nr: 64015\nHeim: HSV Marienberg II\nGast: BSV Limbach-O. II\nHalle: SH Kurt-Helbig Plauen (32701)\nAdresse: Comeniusstr. 15\, 08523 Plauen\n
LOCATION:SH Kurt-Helbig Plauen (32701): Comeniusstr. 15\, 08523 Plauen
CATEGORIES:Saison Pokal 2025/26
END:VEVENT
BEGIN:VEVENT
DTSTAMP:20260425T221322Z
DTSTART;TZID=Europe/Berlin:20260503T122000
DTEND;TZID=Europe/Berlin:20260503T132000
SUMMARY:Regionspokal wJE ER Staffel 2 HC Fraureuth vs BSV Limbach-O. II (64024)
UID:91b8ba4e-eef0-44f1-9724-8f176dc93120
STATUS:CONFIRMED
DESCRIPTION:Regionspokal weibliche Jugend E ER Staffel 2\nBegegnungs-Nr: 64024\nHeim: HC Fraureuth\nGast: BSV Limbach-O. II\nHalle: SH Zwickau-Neuplanitz (32501)\nAdresse: Dortmunder Str. 7a\, 08062 Zwickau\n
LOCATION:SH Zwickau-Neuplanitz (32501): Dortmunder Str. 7a\, 08062 Zwickau
CATEGORIES:Saison Pokal 2025/26
END:VEVENT
END:VCALENDAR
